| Back to Multiple platform build/check report for BioC 3.13 | 
 | 
This page was generated on 2021-10-15 15:06:14 -0400 (Fri, 15 Oct 2021).
| To the developers/maintainers of the NormqPCR package: - Please allow up to 24 hours (and sometimes 48 hours) for your latest push to git@git.bioconductor.org:packages/NormqPCR.git to reflect on this report. See How and When does the builder pull? When will my changes propagate? here for more information. - Make sure to use the following settings in order to reproduce any error or warning you see on this page. | 
| Package 1279/2041 | Hostname | OS / Arch | INSTALL | BUILD | CHECK | BUILD BIN | ||||||||
| NormqPCR 1.38.0  (landing page) James Perkins 
 | nebbiolo1 | Linux (Ubuntu 20.04.2 LTS) / x86_64 | OK | OK | OK |  | ||||||||
| tokay2 | Windows Server 2012 R2 Standard / x64 | OK | OK | OK | OK |  | ||||||||
| machv2 | macOS 10.14.6 Mojave / x86_64 | OK | OK | OK | OK |  | ||||||||
| Package: NormqPCR | 
| Version: 1.38.0 | 
| Command: C:\cygwin\bin\curl.exe -O http://155.52.207.165/BBS/3.13/bioc/src/contrib/NormqPCR_1.38.0.tar.gz && rm -rf NormqPCR.buildbin-libdir && mkdir NormqPCR.buildbin-libdir && C:\Users\biocbuild\bbs-3.13-bioc\R\bin\R.exe CMD INSTALL --merge-multiarch --build --library=NormqPCR.buildbin-libdir NormqPCR_1.38.0.tar.gz && C:\Users\biocbuild\bbs-3.13-bioc\R\bin\R.exe CMD INSTALL NormqPCR_1.38.0.zip && rm NormqPCR_1.38.0.tar.gz NormqPCR_1.38.0.zip | 
| StartedAt: 2021-10-14 08:37:18 -0400 (Thu, 14 Oct 2021) | 
| EndedAt: 2021-10-14 08:38:24 -0400 (Thu, 14 Oct 2021) | 
| EllapsedTime: 66.5 seconds | 
| RetCode: 0 | 
| Status: OK | 
##############################################################################
##############################################################################
###
### Running command:
###
###   C:\cygwin\bin\curl.exe -O http://155.52.207.165/BBS/3.13/bioc/src/contrib/NormqPCR_1.38.0.tar.gz && rm -rf NormqPCR.buildbin-libdir && mkdir NormqPCR.buildbin-libdir && C:\Users\biocbuild\bbs-3.13-bioc\R\bin\R.exe CMD INSTALL --merge-multiarch --build --library=NormqPCR.buildbin-libdir NormqPCR_1.38.0.tar.gz && C:\Users\biocbuild\bbs-3.13-bioc\R\bin\R.exe CMD INSTALL NormqPCR_1.38.0.zip && rm NormqPCR_1.38.0.tar.gz NormqPCR_1.38.0.zip
###
##############################################################################
##############################################################################
  % Total    % Received % Xferd  Average Speed   Time    Time     Time  Current
                                 Dload  Upload   Total   Spent    Left  Speed
  0     0    0     0    0     0      0      0 --:--:-- --:--:-- --:--:--     0
100  313k  100  313k    0     0   911k      0 --:--:-- --:--:-- --:--:--  914k
install for i386
* installing *source* package 'NormqPCR' ...
** using staged installation
** R
** data
*** moving datasets to lazyload DB
** inst
** byte-compile and prepare package for lazy loading
** help
*** installing help indices
  converting help for package 'NormqPCR'
    finding HTML links ... done
    Bladder                                 html  
    BladderRepro                            html  
    Colon                                   html  
    ComputeNRQs                             html  
    CqValues                                html  
    NormqPCR-package                        html  
    combineTechReps                         html  
    combineTechRepsSD                       html  
    deltaCt                                 html  
    deltaDeltaCt                            html  
    geNorm                                  html  
    geomMean                                html  
    makeAllNAs                              html  
    makeAllNewVal                           html  
    replaceAboveCutOff                      html  
    replaceNAs                              html  
    selectHKs                               html  
    stabMeasureM                            html  
    stabMeasureRho                          html  
** building package indices
** installing vignettes
   'NormqPCR.Rnw' 
** testing if installed package can be loaded from temporary location
** testing if installed package can be loaded from final location
** testing if installed package keeps a record of temporary installation path
install for x64
* installing *source* package 'NormqPCR' ...
** testing if installed package can be loaded
* MD5 sums
packaged installation of 'NormqPCR' as NormqPCR_1.38.0.zip
* DONE (NormqPCR)
* installing to library 'C:/Users/biocbuild/bbs-3.13-bioc/R/library'
package 'NormqPCR' successfully unpacked and MD5 sums checked