| Back to Multiple platform build/check report for BioC 3.13 |
|
This page was generated on 2021-10-15 15:06:14 -0400 (Fri, 15 Oct 2021).
|
To the developers/maintainers of the NewWave package: - Please allow up to 24 hours (and sometimes 48 hours) for your latest push to git@git.bioconductor.org:packages/NewWave.git to reflect on this report. See How and When does the builder pull? When will my changes propagate? here for more information. - Make sure to use the following settings in order to reproduce any error or warning you see on this page. |
| Package 1271/2041 | Hostname | OS / Arch | INSTALL | BUILD | CHECK | BUILD BIN | ||||||||
| NewWave 1.2.0 (landing page) Federico Agostinis
| nebbiolo1 | Linux (Ubuntu 20.04.2 LTS) / x86_64 | OK | OK | OK | |||||||||
| tokay2 | Windows Server 2012 R2 Standard / x64 | OK | OK | OK | OK | |||||||||
| machv2 | macOS 10.14.6 Mojave / x86_64 | OK | OK | OK | OK | |||||||||
| Package: NewWave |
| Version: 1.2.0 |
| Command: rm -rf NewWave.buildbin-libdir && mkdir NewWave.buildbin-libdir && C:\Users\biocbuild\bbs-3.13-bioc\R\bin\R.exe CMD INSTALL --merge-multiarch --build --library=NewWave.buildbin-libdir NewWave_1.2.0.tar.gz |
| StartedAt: 2021-10-15 10:42:34 -0400 (Fri, 15 Oct 2021) |
| EndedAt: 2021-10-15 10:43:41 -0400 (Fri, 15 Oct 2021) |
| EllapsedTime: 67.2 seconds |
| RetCode: 0 |
| Status: OK |
| PackageFile: NewWave_1.2.0.zip |
| PackageFileSize: 421.1 KiB |
##############################################################################
##############################################################################
###
### Running command:
###
### rm -rf NewWave.buildbin-libdir && mkdir NewWave.buildbin-libdir && C:\Users\biocbuild\bbs-3.13-bioc\R\bin\R.exe CMD INSTALL --merge-multiarch --build --library=NewWave.buildbin-libdir NewWave_1.2.0.tar.gz
###
##############################################################################
##############################################################################
install for i386
* installing *source* package 'NewWave' ...
** using staged installation
** R
** inst
** byte-compile and prepare package for lazy loading
** help
*** installing help indices
converting help for package 'NewWave'
finding HTML links ... done
delayed_initialization html
delayed_optimization html
initialization html
nb.loglik.matrix html
newAIC html
newAlpha html
newBIC html
newBeta html
newEpsilon_W html
newEpsilon_alpha html
newEpsilon_beta html
newEpsilon_gamma html
newEpsilon_zeta html
newFit html
newGamma html
newLogMu html
newMu html
newPhi html
newSim html
newTheta html
newV html
newW html
newWave html
newX html
newZeta html
newloglik html
newmodel-class html
newmodel html
newpenalty html
numberFactors html
numberFeatures html
numberParams html
numberSamples html
optimization html
setup html
** building package indices
** installing vignettes
** testing if installed package can be loaded from temporary location
** testing if installed package can be loaded from final location
** testing if installed package keeps a record of temporary installation path
install for x64
* installing *source* package 'NewWave' ...
** testing if installed package can be loaded
* MD5 sums
packaged installation of 'NewWave' as NewWave_1.2.0.zip
* DONE (NewWave)