| Back to Multiple platform build/check report for BioC 3.13 |
|
This page was generated on 2021-10-15 15:06:14 -0400 (Fri, 15 Oct 2021).
|
To the developers/maintainers of the NOISeq package: - Please allow up to 24 hours (and sometimes 48 hours) for your latest push to git@git.bioconductor.org:packages/NOISeq.git to reflect on this report. See How and When does the builder pull? When will my changes propagate? here for more information. - Make sure to use the following settings in order to reproduce any error or warning you see on this page. |
| Package 1274/2041 | Hostname | OS / Arch | INSTALL | BUILD | CHECK | BUILD BIN | ||||||||
| NOISeq 2.36.0 (landing page) Sonia Tarazona
| nebbiolo1 | Linux (Ubuntu 20.04.2 LTS) / x86_64 | OK | OK | OK | |||||||||
| tokay2 | Windows Server 2012 R2 Standard / x64 | OK | OK | OK | OK | |||||||||
| machv2 | macOS 10.14.6 Mojave / x86_64 | OK | OK | OK | OK | |||||||||
| Package: NOISeq |
| Version: 2.36.0 |
| Command: rm -rf NOISeq.buildbin-libdir && mkdir NOISeq.buildbin-libdir && C:\Users\biocbuild\bbs-3.13-bioc\R\bin\R.exe CMD INSTALL --merge-multiarch --build --library=NOISeq.buildbin-libdir NOISeq_2.36.0.tar.gz |
| StartedAt: 2021-10-15 10:42:58 -0400 (Fri, 15 Oct 2021) |
| EndedAt: 2021-10-15 10:44:05 -0400 (Fri, 15 Oct 2021) |
| EllapsedTime: 66.9 seconds |
| RetCode: 0 |
| Status: OK |
| PackageFile: NOISeq_2.36.0.zip |
| PackageFileSize: 2.367 MiB |
##############################################################################
##############################################################################
###
### Running command:
###
### rm -rf NOISeq.buildbin-libdir && mkdir NOISeq.buildbin-libdir && C:\Users\biocbuild\bbs-3.13-bioc\R\bin\R.exe CMD INSTALL --merge-multiarch --build --library=NOISeq.buildbin-libdir NOISeq_2.36.0.tar.gz
###
##############################################################################
##############################################################################
install for i386
* installing *source* package 'NOISeq' ...
** using staged installation
** R
** data
** inst
** byte-compile and prepare package for lazy loading
** help
*** installing help indices
converting help for package 'NOISeq'
finding HTML links ... done
ARSyNSeq html
REDIRECT:topic Previous alias or file overwritten by alias: C:/Users/biocbuild/bbs-3.13-bioc/meat/NOISeq.buildbin-libdir/00LOCK-NOISeq/00new/NOISeq/help/arsynseq.html
Biodetection html
CD html
CountsBio html
DE.plot html
GCcontentBias html
LengthBias html
Marioni html
Output html
PCA.GENES html
PCA html
QCreport html
Saturation html
REDIRECT:topic Previous alias or file overwritten by alias: C:/Users/biocbuild/bbs-3.13-bioc/meat/NOISeq.buildbin-libdir/00LOCK-NOISeq/00new/NOISeq/help/saturation.html
dat html
dat2save html
degenes html
example html
explo.plot html
filter.low.counts html
myCounts html
REDIRECT:topic Previous alias or file overwritten by alias: C:/Users/biocbuild/bbs-3.13-bioc/meat/NOISeq.buildbin-libdir/00LOCK-NOISeq/00new/NOISeq/help/myCounts.html
noiseq html
noiseqbio html
normalization html
readData html
** building package indices
** installing vignettes
** testing if installed package can be loaded from temporary location
** testing if installed package can be loaded from final location
** testing if installed package keeps a record of temporary installation path
install for x64
* installing *source* package 'NOISeq' ...
** testing if installed package can be loaded
* MD5 sums
packaged installation of 'NOISeq' as NOISeq_2.36.0.zip
* DONE (NOISeq)