| Back to Multiple platform build/check report for BioC 3.13 |
|
This page was generated on 2021-10-15 15:06:13 -0400 (Fri, 15 Oct 2021).
|
To the developers/maintainers of the NBAMSeq package: - Please allow up to 24 hours (and sometimes 48 hours) for your latest push to git@git.bioconductor.org:packages/NBAMSeq.git to reflect on this report. See How and When does the builder pull? When will my changes propagate? here for more information. - Make sure to use the following settings in order to reproduce any error or warning you see on this page. |
| Package 1249/2041 | Hostname | OS / Arch | INSTALL | BUILD | CHECK | BUILD BIN | ||||||||
| NBAMSeq 1.8.0 (landing page) Xu Ren
| nebbiolo1 | Linux (Ubuntu 20.04.2 LTS) / x86_64 | OK | OK | OK | |||||||||
| tokay2 | Windows Server 2012 R2 Standard / x64 | OK | OK | OK | OK | |||||||||
| machv2 | macOS 10.14.6 Mojave / x86_64 | OK | OK | OK | OK | |||||||||
| Package: NBAMSeq |
| Version: 1.8.0 |
| Command: rm -rf NBAMSeq.buildbin-libdir && mkdir NBAMSeq.buildbin-libdir && C:\Users\biocbuild\bbs-3.13-bioc\R\bin\R.exe CMD INSTALL --merge-multiarch --build --library=NBAMSeq.buildbin-libdir NBAMSeq_1.8.0.tar.gz |
| StartedAt: 2021-10-15 10:39:55 -0400 (Fri, 15 Oct 2021) |
| EndedAt: 2021-10-15 10:41:01 -0400 (Fri, 15 Oct 2021) |
| EllapsedTime: 65.7 seconds |
| RetCode: 0 |
| Status: OK |
| PackageFile: NBAMSeq_1.8.0.zip |
| PackageFileSize: 304.9 KiB |
##############################################################################
##############################################################################
###
### Running command:
###
### rm -rf NBAMSeq.buildbin-libdir && mkdir NBAMSeq.buildbin-libdir && C:\Users\biocbuild\bbs-3.13-bioc\R\bin\R.exe CMD INSTALL --merge-multiarch --build --library=NBAMSeq.buildbin-libdir NBAMSeq_1.8.0.tar.gz
###
##############################################################################
##############################################################################
install for i386
* installing *source* package 'NBAMSeq' ...
** using staged installation
** R
** inst
** byte-compile and prepare package for lazy loading
** help
*** installing help indices
converting help for package 'NBAMSeq'
finding HTML links ... done
NBAMSeq-methods html
NBAMSeq html
finding level-2 HTML links ... done
NBAMSeqDataSet-class html
NBAMSeqDataSet html
makeExample html
makeplot html
results html
** building package indices
** installing vignettes
** testing if installed package can be loaded from temporary location
** testing if installed package can be loaded from final location
** testing if installed package keeps a record of temporary installation path
install for x64
* installing *source* package 'NBAMSeq' ...
** testing if installed package can be loaded
* MD5 sums
packaged installation of 'NBAMSeq' as NBAMSeq_1.8.0.zip
* DONE (NBAMSeq)