| Back to Multiple platform build/check report for BioC 3.13 |
|
This page was generated on 2021-10-15 15:06:13 -0400 (Fri, 15 Oct 2021).
|
To the developers/maintainers of the NADfinder package: - Please allow up to 24 hours (and sometimes 48 hours) for your latest push to git@git.bioconductor.org:packages/NADfinder.git to reflect on this report. See How and When does the builder pull? When will my changes propagate? here for more information. - Make sure to use the following settings in order to reproduce any error or warning you see on this page. |
| Package 1243/2041 | Hostname | OS / Arch | INSTALL | BUILD | CHECK | BUILD BIN | ||||||||
| NADfinder 1.16.0 (landing page) Jianhong Ou
| nebbiolo1 | Linux (Ubuntu 20.04.2 LTS) / x86_64 | OK | OK | OK | |||||||||
| tokay2 | Windows Server 2012 R2 Standard / x64 | OK | OK | OK | OK | |||||||||
| machv2 | macOS 10.14.6 Mojave / x86_64 | OK | OK | OK | OK | |||||||||
| Package: NADfinder |
| Version: 1.16.0 |
| Command: rm -rf NADfinder.buildbin-libdir && mkdir NADfinder.buildbin-libdir && C:\Users\biocbuild\bbs-3.13-bioc\R\bin\R.exe CMD INSTALL --merge-multiarch --build --library=NADfinder.buildbin-libdir NADfinder_1.16.0.tar.gz |
| StartedAt: 2021-10-15 10:39:20 -0400 (Fri, 15 Oct 2021) |
| EndedAt: 2021-10-15 10:41:25 -0400 (Fri, 15 Oct 2021) |
| EllapsedTime: 124.8 seconds |
| RetCode: 0 |
| Status: OK |
| PackageFile: NADfinder_1.16.0.zip |
| PackageFileSize: 6.439 MiB |
##############################################################################
##############################################################################
###
### Running command:
###
### rm -rf NADfinder.buildbin-libdir && mkdir NADfinder.buildbin-libdir && C:\Users\biocbuild\bbs-3.13-bioc\R\bin\R.exe CMD INSTALL --merge-multiarch --build --library=NADfinder.buildbin-libdir NADfinder_1.16.0.tar.gz
###
##############################################################################
##############################################################################
install for i386
* installing *source* package 'NADfinder' ...
** using staged installation
** R
** data
*** moving datasets to lazyload DB
** inst
** byte-compile and prepare package for lazy loading
** help
*** installing help indices
converting help for package 'NADfinder'
finding HTML links ... done
IntersectionNotStrict html
NADfinder-package html
backgroundCorrection html
butterFilter html
callPeaks html
computeLibSizeChrom html
cumulativePercentage html
exportSignals html
getCorrelations html
groupZscores html
log2se html
peakdet html
plotSig html
single.count html
smoothRatiosByChromosome html
tileCount html
tileCount2 html
transformData html
trimPeaks html
triplicate.count html
zscoreOverBck html
** building package indices
** installing vignettes
** testing if installed package can be loaded from temporary location
** testing if installed package can be loaded from final location
** testing if installed package keeps a record of temporary installation path
install for x64
* installing *source* package 'NADfinder' ...
** testing if installed package can be loaded
* MD5 sums
packaged installation of 'NADfinder' as NADfinder_1.16.0.zip
* DONE (NADfinder)