| Back to Multiple platform build/check report for BioC 3.13 |
|
This page was generated on 2021-10-15 15:06:13 -0400 (Fri, 15 Oct 2021).
|
To the developers/maintainers of the MutationalPatterns package: - Please allow up to 24 hours (and sometimes 48 hours) for your latest push to git@git.bioconductor.org:packages/MutationalPatterns.git to reflect on this report. See How and When does the builder pull? When will my changes propagate? here for more information. - Make sure to use the following settings in order to reproduce any error or warning you see on this page. |
| Package 1236/2041 | Hostname | OS / Arch | INSTALL | BUILD | CHECK | BUILD BIN | ||||||||
| MutationalPatterns 3.2.0 (landing page) Rurika Oka
| nebbiolo1 | Linux (Ubuntu 20.04.2 LTS) / x86_64 | OK | OK | OK | |||||||||
| tokay2 | Windows Server 2012 R2 Standard / x64 | OK | OK | OK | OK | |||||||||
| machv2 | macOS 10.14.6 Mojave / x86_64 | OK | OK | OK | OK | |||||||||
| Package: MutationalPatterns |
| Version: 3.2.0 |
| Command: C:\cygwin\bin\curl.exe -O http://155.52.207.165/BBS/3.13/bioc/src/contrib/MutationalPatterns_3.2.0.tar.gz && rm -rf MutationalPatterns.buildbin-libdir && mkdir MutationalPatterns.buildbin-libdir && C:\Users\biocbuild\bbs-3.13-bioc\R\bin\R.exe CMD INSTALL --merge-multiarch --build --library=MutationalPatterns.buildbin-libdir MutationalPatterns_3.2.0.tar.gz && C:\Users\biocbuild\bbs-3.13-bioc\R\bin\R.exe CMD INSTALL MutationalPatterns_3.2.0.zip && rm MutationalPatterns_3.2.0.tar.gz MutationalPatterns_3.2.0.zip |
| StartedAt: 2021-10-14 10:39:41 -0400 (Thu, 14 Oct 2021) |
| EndedAt: 2021-10-14 10:41:03 -0400 (Thu, 14 Oct 2021) |
| EllapsedTime: 81.9 seconds |
| RetCode: 0 |
| Status: OK |
##############################################################################
##############################################################################
###
### Running command:
###
### C:\cygwin\bin\curl.exe -O http://155.52.207.165/BBS/3.13/bioc/src/contrib/MutationalPatterns_3.2.0.tar.gz && rm -rf MutationalPatterns.buildbin-libdir && mkdir MutationalPatterns.buildbin-libdir && C:\Users\biocbuild\bbs-3.13-bioc\R\bin\R.exe CMD INSTALL --merge-multiarch --build --library=MutationalPatterns.buildbin-libdir MutationalPatterns_3.2.0.tar.gz && C:\Users\biocbuild\bbs-3.13-bioc\R\bin\R.exe CMD INSTALL MutationalPatterns_3.2.0.zip && rm MutationalPatterns_3.2.0.tar.gz MutationalPatterns_3.2.0.zip
###
##############################################################################
##############################################################################
% Total % Received % Xferd Average Speed Time Time Time Current
Dload Upload Total Spent Left Speed
0 0 0 0 0 0 0 0 --:--:-- --:--:-- --:--:-- 0
22 2094k 22 474k 0 0 1577k 0 0:00:01 --:--:-- 0:00:01 1576k
100 2094k 100 2094k 0 0 3289k 0 --:--:-- --:--:-- --:--:-- 3288k
install for i386
* installing *source* package 'MutationalPatterns' ...
** using staged installation
** R
** inst
** byte-compile and prepare package for lazy loading
** help
*** installing help indices
converting help for package 'MutationalPatterns'
finding HTML links ... done
MutationalPatterns-defunct html
MutationalPatterns-package html
bin_mutation_density html
binomial_test html
calculate_lesion_segregation html
cluster_signatures html
context_potential_damage_analysis html
convert_sigs_to_ref html
cos_sim html
cos_sim_matrix html
count_dbs_contexts html
count_indel_contexts html
count_mbs_contexts html
enrichment_depletion_test html
extract_signatures html
fit_to_signatures html
fit_to_signatures_bootstrapped html
fit_to_signatures_strict html
genomic_distribution html
get_dbs_context html
get_indel_context html
get_known_signatures html
get_mut_type html
lengthen_mut_matrix html
merge_signatures html
mut_192_occurrences html
mut_96_occurrences html
mut_context html
mut_matrix html
mut_matrix_stranded html
mut_strand html
mut_type html
mut_type_occurrences html
mutations_from_vcf html
plot_192_profile html
plot_96_profile html
plot_bootstrapped_contribution html
plot_compare_dbs html
plot_compare_indels html
plot_compare_mbs html
plot_compare_profiles html
plot_contribution html
plot_contribution_heatmap html
plot_correlation_bootstrap html
plot_cosine_heatmap html
plot_dbs_contexts html
plot_enrichment_depletion html
plot_indel_contexts html
plot_lesion_segregation html
plot_main_dbs_contexts html
plot_main_indel_contexts html
plot_mbs_contexts html
plot_original_vs_reconstructed html
plot_profile_heatmap html
plot_profile_region html
plot_rainfall html
plot_river html
plot_signature_strand_bias html
plot_spectrum html
plot_spectrum_region html
plot_strand html
plot_strand_bias html
pool_mut_mat html
read_vcfs_as_granges html
rename_nmf_signatures html
signature_potential_damage_analysis html
split_muts_region html
strand_bias_test html
strand_occurrences html
type_context html
** building package indices
** installing vignettes
** testing if installed package can be loaded from temporary location
** testing if installed package can be loaded from final location
** testing if installed package keeps a record of temporary installation path
install for x64
* installing *source* package 'MutationalPatterns' ...
** testing if installed package can be loaded
* MD5 sums
packaged installation of 'MutationalPatterns' as MutationalPatterns_3.2.0.zip
* DONE (MutationalPatterns)
* installing to library 'C:/Users/biocbuild/bbs-3.13-bioc/R/library'
package 'MutationalPatterns' successfully unpacked and MD5 sums checked