| Back to Multiple platform build/check report for BioC 3.13 |
|
This page was generated on 2021-10-15 15:06:13 -0400 (Fri, 15 Oct 2021).
|
To the developers/maintainers of the MultiDataSet package: - Please allow up to 24 hours (and sometimes 48 hours) for your latest push to git@git.bioconductor.org:packages/MultiDataSet.git to reflect on this report. See How and When does the builder pull? When will my changes propagate? here for more information. - Make sure to use the following settings in order to reproduce any error or warning you see on this page. |
| Package 1222/2041 | Hostname | OS / Arch | INSTALL | BUILD | CHECK | BUILD BIN | ||||||||
| MultiDataSet 1.20.2 (landing page) Xavier EscribĂ Montagut
| nebbiolo1 | Linux (Ubuntu 20.04.2 LTS) / x86_64 | OK | OK | WARNINGS | |||||||||
| tokay2 | Windows Server 2012 R2 Standard / x64 | OK | OK | WARNINGS | OK | |||||||||
| machv2 | macOS 10.14.6 Mojave / x86_64 | OK | OK | WARNINGS | OK | |||||||||
| Package: MultiDataSet |
| Version: 1.20.2 |
| Command: rm -rf MultiDataSet.buildbin-libdir && mkdir MultiDataSet.buildbin-libdir && C:\Users\biocbuild\bbs-3.13-bioc\R\bin\R.exe CMD INSTALL --merge-multiarch --build --library=MultiDataSet.buildbin-libdir MultiDataSet_1.20.2.tar.gz |
| StartedAt: 2021-10-15 10:36:24 -0400 (Fri, 15 Oct 2021) |
| EndedAt: 2021-10-15 10:37:47 -0400 (Fri, 15 Oct 2021) |
| EllapsedTime: 83.0 seconds |
| RetCode: 0 |
| Status: OK |
| PackageFile: MultiDataSet_1.20.2.zip |
| PackageFileSize: 912.7 KiB |
##############################################################################
##############################################################################
###
### Running command:
###
### rm -rf MultiDataSet.buildbin-libdir && mkdir MultiDataSet.buildbin-libdir && C:\Users\biocbuild\bbs-3.13-bioc\R\bin\R.exe CMD INSTALL --merge-multiarch --build --library=MultiDataSet.buildbin-libdir MultiDataSet_1.20.2.tar.gz
###
##############################################################################
##############################################################################
install for i386
* installing *source* package 'MultiDataSet' ...
** using staged installation
** R
** data
*** moving datasets to lazyload DB
** inst
** byte-compile and prepare package for lazy loading
in method for 'add_methy' with signature '"MultiDataSet","GenomicRatioSet"': no definition for class "GenomicRatioSet"
** help
*** installing help indices
converting help for package 'MultiDataSet'
finding HTML links ... done
MultiDataSet-class html
MultiDataSet html
ResultSet-class html
add_eset html
add_genexp html
add_methy html
add_rnaseq-methods html
add_rse html
add_se html
add_snps html
add_table html
chrNumToChar html
commonIds html
commonSamples html
getAssociation-methods html
lambdaClayton html
mae2mds html
mds2mae html
opt-methods html
qq_plot html
rowRangesElements html
rset html
volcano_plot html
w_iclusterplus html
w_mcia html
** building package indices
** installing vignettes
** testing if installed package can be loaded from temporary location
** testing if installed package can be loaded from final location
** testing if installed package keeps a record of temporary installation path
install for x64
* installing *source* package 'MultiDataSet' ...
** testing if installed package can be loaded
* MD5 sums
packaged installation of 'MultiDataSet' as MultiDataSet_1.20.2.zip
* DONE (MultiDataSet)