| Back to Multiple platform build/check report for BioC 3.13 |
|
This page was generated on 2021-10-15 15:06:13 -0400 (Fri, 15 Oct 2021).
|
To the developers/maintainers of the MultiAssayExperiment package: - Please allow up to 24 hours (and sometimes 48 hours) for your latest push to git@git.bioconductor.org:packages/MultiAssayExperiment.git to reflect on this report. See How and When does the builder pull? When will my changes propagate? here for more information. - Make sure to use the following settings in order to reproduce any error or warning you see on this page. |
| Package 1218/2041 | Hostname | OS / Arch | INSTALL | BUILD | CHECK | BUILD BIN | ||||||||
| MultiAssayExperiment 1.18.0 (landing page) Marcel Ramos
| nebbiolo1 | Linux (Ubuntu 20.04.2 LTS) / x86_64 | OK | OK | WARNINGS | |||||||||
| tokay2 | Windows Server 2012 R2 Standard / x64 | OK | OK | WARNINGS | OK | |||||||||
| machv2 | macOS 10.14.6 Mojave / x86_64 | OK | OK | WARNINGS | OK | |||||||||
| Package: MultiAssayExperiment |
| Version: 1.18.0 |
| Command: rm -rf MultiAssayExperiment.buildbin-libdir && mkdir MultiAssayExperiment.buildbin-libdir && C:\Users\biocbuild\bbs-3.13-bioc\R\bin\R.exe CMD INSTALL --merge-multiarch --build --library=MultiAssayExperiment.buildbin-libdir MultiAssayExperiment_1.18.0.tar.gz |
| StartedAt: 2021-10-15 10:35:52 -0400 (Fri, 15 Oct 2021) |
| EndedAt: 2021-10-15 10:37:06 -0400 (Fri, 15 Oct 2021) |
| EllapsedTime: 74.5 seconds |
| RetCode: 0 |
| Status: OK |
| PackageFile: MultiAssayExperiment_1.18.0.zip |
| PackageFileSize: 2.199 MiB |
##############################################################################
##############################################################################
###
### Running command:
###
### rm -rf MultiAssayExperiment.buildbin-libdir && mkdir MultiAssayExperiment.buildbin-libdir && C:\Users\biocbuild\bbs-3.13-bioc\R\bin\R.exe CMD INSTALL --merge-multiarch --build --library=MultiAssayExperiment.buildbin-libdir MultiAssayExperiment_1.18.0.tar.gz
###
##############################################################################
##############################################################################
install for i386
* installing *source* package 'MultiAssayExperiment' ...
** using staged installation
** R
** data
*** moving datasets to lazyload DB
** inst
** byte-compile and prepare package for lazy loading
** help
*** installing help indices
converting help for package 'MultiAssayExperiment'
finding HTML links ... done
ExperimentList-class html
REDIRECT:topic Previous alias or file overwritten by alias: C:/Users/biocbuild/bbs-3.13-bioc/meat/MultiAssayExperiment.buildbin-libdir/00LOCK-MultiAssayExperiment/00new/MultiAssayExperiment/help/coerce+2CList+2CExperimentList-method.html
finding level-2 HTML links ... done
ExperimentList html
HDF5MultiAssayExperiment html
MatchedAssayExperiment-class html
MultiAssayExperiment-class html
REDIRECT:topic Previous alias or file overwritten by alias: C:/Users/biocbuild/bbs-3.13-bioc/meat/MultiAssayExperiment.buildbin-libdir/00LOCK-MultiAssayExperiment/00new/MultiAssayExperiment/help/coerce+2CList+2CMultiAssayExperiment-method.html
MultiAssayExperiment-helpers html
MultiAssayExperiment-methods html
REDIRECT:topic Previous alias or file overwritten by alias: C:/Users/biocbuild/bbs-3.13-bioc/meat/MultiAssayExperiment.buildbin-libdir/00LOCK-MultiAssayExperiment/00new/MultiAssayExperiment/help/colnames+3C-+2CMultiAssayExperiment+2Clist-method.html
MultiAssayExperiment-package html
MultiAssayExperiment html
MultiAssayExperimentToMAF html
hasAssay html
mapToList html
miniACC html
prepMultiAssay html
reexports html
subsetBy html
REDIRECT:topic Previous alias or file overwritten by alias: C:/Users/biocbuild/bbs-3.13-bioc/meat/MultiAssayExperiment.buildbin-libdir/00LOCK-MultiAssayExperiment/00new/MultiAssayExperiment/help/subsetByRow+2CExperimentList+2CList-method.html
REDIRECT:topic Previous alias or file overwritten by alias: C:/Users/biocbuild/bbs-3.13-bioc/meat/MultiAssayExperiment.buildbin-libdir/00LOCK-MultiAssayExperiment/00new/MultiAssayExperiment/help/subsetByColumn+2CExperimentList+2CList-method.html
upsetSamples html
** building package indices
** installing vignettes
** testing if installed package can be loaded from temporary location
** testing if installed package can be loaded from final location
** testing if installed package keeps a record of temporary installation path
install for x64
* installing *source* package 'MultiAssayExperiment' ...
** testing if installed package can be loaded
* MD5 sums
packaged installation of 'MultiAssayExperiment' as MultiAssayExperiment_1.18.0.zip
* DONE (MultiAssayExperiment)