Back to Multiple platform build/check report for BioC 3.13 |
|
This page was generated on 2021-10-15 15:06:12 -0400 (Fri, 15 Oct 2021).
To the developers/maintainers of the ModCon package: - Please allow up to 24 hours (and sometimes 48 hours) for your latest push to git@git.bioconductor.org:packages/ModCon.git to reflect on this report. See How and When does the builder pull? When will my changes propagate? here for more information. - Make sure to use the following settings in order to reproduce any error or warning you see on this page. |
Package 1171/2041 | Hostname | OS / Arch | INSTALL | BUILD | CHECK | BUILD BIN | ||||||||
ModCon 1.0.0 (landing page) Johannes Ptok
| nebbiolo1 | Linux (Ubuntu 20.04.2 LTS) / x86_64 | OK | OK | OK | ![]() | ||||||||
tokay2 | Windows Server 2012 R2 Standard / x64 | OK | OK | OK | OK | ![]() | ||||||||
machv2 | macOS 10.14.6 Mojave / x86_64 | OK | OK | OK | OK | ![]() | ||||||||
Package: ModCon |
Version: 1.0.0 |
Command: C:\cygwin\bin\curl.exe -O http://155.52.207.165/BBS/3.13/bioc/src/contrib/ModCon_1.0.0.tar.gz && rm -rf ModCon.buildbin-libdir && mkdir ModCon.buildbin-libdir && C:\Users\biocbuild\bbs-3.13-bioc\R\bin\R.exe CMD INSTALL --merge-multiarch --build --library=ModCon.buildbin-libdir ModCon_1.0.0.tar.gz && C:\Users\biocbuild\bbs-3.13-bioc\R\bin\R.exe CMD INSTALL ModCon_1.0.0.zip && rm ModCon_1.0.0.tar.gz ModCon_1.0.0.zip |
StartedAt: 2021-10-14 07:15:44 -0400 (Thu, 14 Oct 2021) |
EndedAt: 2021-10-14 07:19:02 -0400 (Thu, 14 Oct 2021) |
EllapsedTime: 198.1 seconds |
RetCode: 0 |
Status: OK |
############################################################################## ############################################################################## ### ### Running command: ### ### C:\cygwin\bin\curl.exe -O http://155.52.207.165/BBS/3.13/bioc/src/contrib/ModCon_1.0.0.tar.gz && rm -rf ModCon.buildbin-libdir && mkdir ModCon.buildbin-libdir && C:\Users\biocbuild\bbs-3.13-bioc\R\bin\R.exe CMD INSTALL --merge-multiarch --build --library=ModCon.buildbin-libdir ModCon_1.0.0.tar.gz && C:\Users\biocbuild\bbs-3.13-bioc\R\bin\R.exe CMD INSTALL ModCon_1.0.0.zip && rm ModCon_1.0.0.tar.gz ModCon_1.0.0.zip ### ############################################################################## ############################################################################## % Total % Received % Xferd Average Speed Time Time Time Current Dload Upload Total Spent Left Speed 0 0 0 0 0 0 0 0 --:--:-- --:--:-- --:--:-- 0 100 1778k 100 1778k 0 0 4048k 0 --:--:-- --:--:-- --:--:-- 4060k install for i386 * installing *source* package 'ModCon' ... ** using staged installation ** R ** data *** moving datasets to lazyload DB ** inst ** byte-compile and prepare package for lazy loading ** help *** installing help indices converting help for package 'ModCon' finding HTML links ... done Codons html ModCon html calculateHZEIint html calculateMaxEntScanScore html cds html changeSequenceHZEI html createCodonMatrix html createFilialSequencePopulation html decreaseGTsiteStrength html degradeSAs html degradeSDs html generateRandomCodonsPerAA html getOverlappingVectorsFromVector html hbg html hex html increaseGTsiteStrength html mutatePopulation html recombineTwoSequences html selectBestAndMean html selectMatingIndividuals html slidingWindowHZEImanipulation html startModConApp html ** building package indices ** installing vignettes ** testing if installed package can be loaded from temporary location ** testing if installed package can be loaded from final location ** testing if installed package keeps a record of temporary installation path install for x64 * installing *source* package 'ModCon' ... ** testing if installed package can be loaded * MD5 sums packaged installation of 'ModCon' as ModCon_1.0.0.zip * DONE (ModCon) * installing to library 'C:/Users/biocbuild/bbs-3.13-bioc/R/library' package 'ModCon' successfully unpacked and MD5 sums checked