| Back to Multiple platform build/check report for BioC 3.13 |
|
This page was generated on 2021-10-15 15:06:11 -0400 (Fri, 15 Oct 2021).
|
To the developers/maintainers of the MicrobiotaProcess package: - Please allow up to 24 hours (and sometimes 48 hours) for your latest push to git@git.bioconductor.org:packages/MicrobiotaProcess.git to reflect on this report. See How and When does the builder pull? When will my changes propagate? here for more information. - Make sure to use the following settings in order to reproduce any error or warning you see on this page. |
| Package 1130/2041 | Hostname | OS / Arch | INSTALL | BUILD | CHECK | BUILD BIN | ||||||||
| MicrobiotaProcess 1.4.4 (landing page) Shuangbin Xu
| nebbiolo1 | Linux (Ubuntu 20.04.2 LTS) / x86_64 | OK | OK | OK | |||||||||
| tokay2 | Windows Server 2012 R2 Standard / x64 | OK | OK | OK | OK | |||||||||
| machv2 | macOS 10.14.6 Mojave / x86_64 | OK | OK | OK | OK | |||||||||
| Package: MicrobiotaProcess |
| Version: 1.4.4 |
| Command: C:\Users\biocbuild\bbs-3.13-bioc\R\bin\R.exe CMD check --force-multiarch --install=check:MicrobiotaProcess.install-out.txt --library=C:\Users\biocbuild\bbs-3.13-bioc\R\library --no-vignettes --timings MicrobiotaProcess_1.4.4.tar.gz |
| StartedAt: 2021-10-15 01:54:38 -0400 (Fri, 15 Oct 2021) |
| EndedAt: 2021-10-15 02:02:23 -0400 (Fri, 15 Oct 2021) |
| EllapsedTime: 464.4 seconds |
| RetCode: 0 |
| Status: OK |
| CheckDir: MicrobiotaProcess.Rcheck |
| Warnings: 0 |
##############################################################################
##############################################################################
###
### Running command:
###
### C:\Users\biocbuild\bbs-3.13-bioc\R\bin\R.exe CMD check --force-multiarch --install=check:MicrobiotaProcess.install-out.txt --library=C:\Users\biocbuild\bbs-3.13-bioc\R\library --no-vignettes --timings MicrobiotaProcess_1.4.4.tar.gz
###
##############################################################################
##############################################################################
* using log directory 'C:/Users/biocbuild/bbs-3.13-bioc/meat/MicrobiotaProcess.Rcheck'
* using R version 4.1.1 (2021-08-10)
* using platform: x86_64-w64-mingw32 (64-bit)
* using session charset: ISO8859-1
* using option '--no-vignettes'
* checking for file 'MicrobiotaProcess/DESCRIPTION' ... OK
* checking extension type ... Package
* this is package 'MicrobiotaProcess' version '1.4.4'
* package encoding: UTF-8
* checking package namespace information ... OK
* checking package dependencies ... OK
* checking if this is a source package ... OK
* checking if there is a namespace ... OK
* checking for hidden files and directories ... OK
* checking for portable file names ... OK
* checking whether package 'MicrobiotaProcess' can be installed ... OK
* checking installed package size ... OK
* checking package directory ... OK
* checking 'build' directory ... OK
* checking DESCRIPTION meta-information ... OK
* checking top-level files ... OK
* checking for left-over files ... OK
* checking index information ... OK
* checking package subdirectories ... OK
* checking R files for non-ASCII characters ... OK
* checking R files for syntax errors ... OK
* loading checks for arch 'i386'
** checking whether the package can be loaded ... OK
** checking whether the package can be loaded with stated dependencies ... OK
** checking whether the package can be unloaded cleanly ... OK
** checking whether the namespace can be loaded with stated dependencies ... OK
** checking whether the namespace can be unloaded cleanly ... OK
* loading checks for arch 'x64'
** checking whether the package can be loaded ... OK
** checking whether the package can be loaded with stated dependencies ... OK
** checking whether the package can be unloaded cleanly ... OK
** checking whether the namespace can be loaded with stated dependencies ... OK
** checking whether the namespace can be unloaded cleanly ... OK
* checking dependencies in R code ... OK
* checking S3 generic/method consistency ... OK
* checking replacement functions ... OK
* checking foreign function calls ... OK
* checking R code for possible problems ... OK
* checking Rd files ... OK
* checking Rd metadata ... OK
* checking Rd cross-references ... OK
* checking for missing documentation entries ... OK
* checking for code/documentation mismatches ... OK
* checking Rd \usage sections ... OK
* checking Rd contents ... OK
* checking for unstated dependencies in examples ... OK
* checking contents of 'data' directory ... OK
* checking data for non-ASCII characters ... OK
* checking data for ASCII and uncompressed saves ... OK
* checking files in 'vignettes' ... OK
* checking examples ...
** running examples for arch 'i386' ... OK
Examples with CPU (user + system) or elapsed time > 5s
user system elapsed
mp_cal_rarecurve-methods 8.12 0.11 8.24
mp_cal_venn-methods 1.68 0.34 10.31
** running examples for arch 'x64' ... OK
Examples with CPU (user + system) or elapsed time > 5s
user system elapsed
mp_cal_rarecurve-methods 7.67 0.11 7.78
mp_cal_abundance-methods 5.99 0.11 6.11
mp_diff_analysis-methods 5.20 0.10 5.32
mp_cal_venn-methods 1.88 0.11 5.86
* checking for unstated dependencies in 'tests' ... OK
* checking tests ...
** running tests for arch 'i386' ...
Running 'testthat.R'
OK
** running tests for arch 'x64' ...
Running 'testthat.R'
OK
* checking for unstated dependencies in vignettes ... OK
* checking package vignettes in 'inst/doc' ... OK
* checking running R code from vignettes ... SKIPPED
* checking re-building of vignette outputs ... SKIPPED
* checking PDF version of manual ... OK
* DONE
Status: OK
MicrobiotaProcess.Rcheck/00install.out
##############################################################################
##############################################################################
###
### Running command:
###
### C:\cygwin\bin\curl.exe -O http://155.52.207.165/BBS/3.13/bioc/src/contrib/MicrobiotaProcess_1.4.4.tar.gz && rm -rf MicrobiotaProcess.buildbin-libdir && mkdir MicrobiotaProcess.buildbin-libdir && C:\Users\biocbuild\bbs-3.13-bioc\R\bin\R.exe CMD INSTALL --merge-multiarch --build --library=MicrobiotaProcess.buildbin-libdir MicrobiotaProcess_1.4.4.tar.gz && C:\Users\biocbuild\bbs-3.13-bioc\R\bin\R.exe CMD INSTALL MicrobiotaProcess_1.4.4.zip && rm MicrobiotaProcess_1.4.4.tar.gz MicrobiotaProcess_1.4.4.zip
###
##############################################################################
##############################################################################
% Total % Received % Xferd Average Speed Time Time Time Current
Dload Upload Total Spent Left Speed
0 0 0 0 0 0 0 0 --:--:-- --:--:-- --:--:-- 0
100 1496k 100 1496k 0 0 2565k 0 --:--:-- --:--:-- --:--:-- 2571k
install for i386
* installing *source* package 'MicrobiotaProcess' ...
** using staged installation
** R
** data
** inst
** byte-compile and prepare package for lazy loading
Creating a generic function for 'rownames<-' from package 'base' in package 'MicrobiotaProcess'
** help
*** installing help indices
converting help for package 'MicrobiotaProcess'
finding HTML links ... done
ImportDada2 html
ImportQiime2 html
MPSE-accessors html
MPSE-class html
MPSE html
alphasample-class html
as.MPSE html
as.phyloseq html
as.treedata html
build_tree html
convert_to_treedata html
data-hmp_aerobiosis_small html
data-kostic2012crc html
data-test_otu_data html
diffAnalysisClass-class html
diff_analysis html
dr_extract html
drop_taxa html
generalizedFC html
get_NRI_NTI-methods html
get_alltaxadf html
get_alphaindex html
get_clust html
get_coord html
get_count html
get_dist html
get_mean_median html
get_pca html
get_pcoa html
get_pvalue html
get_rarecurve html
get_sampledflist html
get_taxadf html
get_upset html
get_varct html
get_vennlist html
ggbartax html
ggbox html
ggclust html
ggdiffbox html
ggdiffclade html
ggdifftaxbar html
ggeffectsize html
ggordpoint html
ggrarecurve html
finding level-2 HTML links ... done
mouse.time.mpse html
mp_adonis-methods html
mp_aggregate-methods html
mp_anosim-methods html
mp_cal_NRI_NTI-methods html
mp_cal_abundance-methods html
mp_cal_alpha-methods html
mp_cal_cca-methods html
mp_cal_clust-methods html
mp_cal_dca-methods html
mp_cal_dist-methods html
mp_cal_nmds-methods html
mp_cal_pca-methods html
mp_cal_pcoa-methods html
mp_cal_rarecurve-methods html
mp_cal_rda-methods html
mp_cal_upset-methods html
mp_cal_venn-methods html
mp_decostand-methods html
mp_diff_analysis-methods html
mp_envfit-methods html
mp_extract_abundance-methods html
mp_extract_assays-methods html
mp_extract_dist-methods html
mp_extract_feature-methods html
mp_extract_internal_attr-methods html
mp_extract_rarecurve-methods html
mp_extract_refseq-methods html
mp_extract_sample-methods html
mp_extract_taxonomy-methods html
mp_extract_tree-methods html
mp_filter_taxa-methods html
mp_fortify html
mp_import_metaphlan html
mp_import_qiime html
mp_mantel-methods html
mp_mrpp-methods html
mp_plot_abundance-methods html
mp_plot_alpha-methods html
mp_plot_dist-methods html
mp_plot_ord-methods html
mp_plot_rarecurve-methods html
mp_plot_upset-methods html
mp_plot_venn-methods html
mp_rrarefy-methods html
mp_stat_taxa-methods html
multi_compare html
ordplotClass-class html
pcasample-class html
pcoa-class html
prcomp-class html
print html
read_qza html
reexports html
REDIRECT:topic Previous alias or file overwritten by alias: C:/Users/biocbuild/bbs-3.13-bioc/meat/MicrobiotaProcess.buildbin-libdir/00LOCK-MicrobiotaProcess/00new/MicrobiotaProcess/help/as.treedata.html
show-methods html
split_data html
split_str_to_list html
theme_taxbar html
** building package indices
** installing vignettes
** testing if installed package can be loaded from temporary location
** testing if installed package can be loaded from final location
** testing if installed package keeps a record of temporary installation path
install for x64
* installing *source* package 'MicrobiotaProcess' ...
** testing if installed package can be loaded
* MD5 sums
packaged installation of 'MicrobiotaProcess' as MicrobiotaProcess_1.4.4.zip
* DONE (MicrobiotaProcess)
* installing to library 'C:/Users/biocbuild/bbs-3.13-bioc/R/library'
package 'MicrobiotaProcess' successfully unpacked and MD5 sums checked
|
MicrobiotaProcess.Rcheck/tests_i386/testthat.Rout
R version 4.1.1 (2021-08-10) -- "Kick Things"
Copyright (C) 2021 The R Foundation for Statistical Computing
Platform: i386-w64-mingw32/i386 (32-bit)
R is free software and comes with ABSOLUTELY NO WARRANTY.
You are welcome to redistribute it under certain conditions.
Type 'license()' or 'licence()' for distribution details.
R is a collaborative project with many contributors.
Type 'contributors()' for more information and
'citation()' on how to cite R or R packages in publications.
Type 'demo()' for some demos, 'help()' for on-line help, or
'help.start()' for an HTML browser interface to help.
Type 'q()' to quit R.
> library("testthat")
> library("MicrobiotaProcess")
Attaching package: 'MicrobiotaProcess'
The following object is masked from 'package:stats':
filter
> test_check("MicrobiotaProcess")
Processing map file...
Processing otu/tax file...
Reading file into memory prior to parsing...
Detecting first header line...
Header is on line 2
Converting input file to a table...
Defining OTU table...
Parsing taxonomy table...
[ FAIL 0 | WARN 0 | SKIP 0 | PASS 12 ]
>
> proc.time()
user system elapsed
20.17 1.26 21.45
|
MicrobiotaProcess.Rcheck/tests_x64/testthat.Rout
R version 4.1.1 (2021-08-10) -- "Kick Things"
Copyright (C) 2021 The R Foundation for Statistical Computing
Platform: x86_64-w64-mingw32/x64 (64-bit)
R is free software and comes with ABSOLUTELY NO WARRANTY.
You are welcome to redistribute it under certain conditions.
Type 'license()' or 'licence()' for distribution details.
R is a collaborative project with many contributors.
Type 'contributors()' for more information and
'citation()' on how to cite R or R packages in publications.
Type 'demo()' for some demos, 'help()' for on-line help, or
'help.start()' for an HTML browser interface to help.
Type 'q()' to quit R.
> library("testthat")
> library("MicrobiotaProcess")
Attaching package: 'MicrobiotaProcess'
The following object is masked from 'package:stats':
filter
> test_check("MicrobiotaProcess")
Processing map file...
Processing otu/tax file...
Reading file into memory prior to parsing...
Detecting first header line...
Header is on line 2
Converting input file to a table...
Defining OTU table...
Parsing taxonomy table...
[ FAIL 0 | WARN 0 | SKIP 0 | PASS 12 ]
>
> proc.time()
user system elapsed
22.79 0.73 23.57
|
|
MicrobiotaProcess.Rcheck/examples_i386/MicrobiotaProcess-Ex.timings
|
MicrobiotaProcess.Rcheck/examples_x64/MicrobiotaProcess-Ex.timings
|