| Back to Multiple platform build/check report for BioC 3.13 |
|
This page was generated on 2021-10-15 15:06:11 -0400 (Fri, 15 Oct 2021).
|
To the developers/maintainers of the MethReg package: - Please allow up to 24 hours (and sometimes 48 hours) for your latest push to git@git.bioconductor.org:packages/MethReg.git to reflect on this report. See How and When does the builder pull? When will my changes propagate? here for more information. - Make sure to use the following settings in order to reproduce any error or warning you see on this page. |
| Package 1101/2041 | Hostname | OS / Arch | INSTALL | BUILD | CHECK | BUILD BIN | ||||||||
| MethReg 1.2.1 (landing page) Tiago Silva
| nebbiolo1 | Linux (Ubuntu 20.04.2 LTS) / x86_64 | OK | OK | OK | |||||||||
| tokay2 | Windows Server 2012 R2 Standard / x64 | OK | OK | OK | OK | |||||||||
| machv2 | macOS 10.14.6 Mojave / x86_64 | OK | OK | OK | OK | |||||||||
| Package: MethReg |
| Version: 1.2.1 |
| Command: rm -rf MethReg.buildbin-libdir && mkdir MethReg.buildbin-libdir && C:\Users\biocbuild\bbs-3.13-bioc\R\bin\R.exe CMD INSTALL --merge-multiarch --build --library=MethReg.buildbin-libdir MethReg_1.2.1.tar.gz |
| StartedAt: 2021-10-15 10:20:01 -0400 (Fri, 15 Oct 2021) |
| EndedAt: 2021-10-15 10:21:29 -0400 (Fri, 15 Oct 2021) |
| EllapsedTime: 88.1 seconds |
| RetCode: 0 |
| Status: OK |
| PackageFile: MethReg_1.2.1.zip |
| PackageFileSize: 3.983 MiB |
##############################################################################
##############################################################################
###
### Running command:
###
### rm -rf MethReg.buildbin-libdir && mkdir MethReg.buildbin-libdir && C:\Users\biocbuild\bbs-3.13-bioc\R\bin\R.exe CMD INSTALL --merge-multiarch --build --library=MethReg.buildbin-libdir MethReg_1.2.1.tar.gz
###
##############################################################################
##############################################################################
install for i386
* installing *source* package 'MethReg' ...
** using staged installation
** R
** data
*** moving datasets to lazyload DB
** inst
** byte-compile and prepare package for lazy loading
** help
*** installing help indices
converting help for package 'MethReg'
finding HTML links ... done
MethReg html
clinical html
cor_dnam_target_gene html
cor_tf_target_gene html
create_triplet_distance_based html
create_triplet_regulon_based html
dna.met.chr21 html
filter_dnam_by_quant_diff html
filter_exp_by_quant_mean_FC html
filter_genes_zero_expression html
gene.exp.chr21.log2 html
get_human_tfs html
get_met_probes_info html
get_promoter_avg html
get_region_target_gene html
get_residuals html
get_tf_ES html
get_tf_in_region html
interaction_model html
make_dnam_se html
make_exp_se html
make_granges_from_names html
make_names_from_granges html
plot_interaction_model html
plot_stratified_model html
stratified_model html
** building package indices
** installing vignettes
** testing if installed package can be loaded from temporary location
** testing if installed package can be loaded from final location
** testing if installed package keeps a record of temporary installation path
install for x64
* installing *source* package 'MethReg' ...
** testing if installed package can be loaded
* MD5 sums
packaged installation of 'MethReg' as MethReg_1.2.1.zip
* DONE (MethReg)