| Back to Multiple platform build/check report for BioC 3.13 |
|
This page was generated on 2021-10-15 15:06:11 -0400 (Fri, 15 Oct 2021).
|
To the developers/maintainers of the MetaboSignal package: - Please allow up to 24 hours (and sometimes 48 hours) for your latest push to git@git.bioconductor.org:packages/MetaboSignal.git to reflect on this report. See How and When does the builder pull? When will my changes propagate? here for more information. - Make sure to use the following settings in order to reproduce any error or warning you see on this page. |
| Package 1081/2041 | Hostname | OS / Arch | INSTALL | BUILD | CHECK | BUILD BIN | ||||||||
| MetaboSignal 1.22.0 (landing page) Andrea Rodriguez-Martinez
| nebbiolo1 | Linux (Ubuntu 20.04.2 LTS) / x86_64 | OK | OK | OK | |||||||||
| tokay2 | Windows Server 2012 R2 Standard / x64 | OK | OK | OK | OK | |||||||||
| machv2 | macOS 10.14.6 Mojave / x86_64 | OK | OK | OK | OK | |||||||||
| Package: MetaboSignal |
| Version: 1.22.0 |
| Command: chmod a+r MetaboSignal -R && C:\Users\biocbuild\bbs-3.13-bioc\R\bin\R.exe CMD build --keep-empty-dirs --no-resave-data MetaboSignal |
| StartedAt: 2021-10-14 15:30:35 -0400 (Thu, 14 Oct 2021) |
| EndedAt: 2021-10-14 15:32:37 -0400 (Thu, 14 Oct 2021) |
| EllapsedTime: 122.2 seconds |
| RetCode: 0 |
| Status: OK |
| PackageFile: MetaboSignal_1.22.0.tar.gz |
| PackageFileSize: 2.089 MiB |
##############################################################################
##############################################################################
###
### Running command:
###
### chmod a+r MetaboSignal -R && C:\Users\biocbuild\bbs-3.13-bioc\R\bin\R.exe CMD build --keep-empty-dirs --no-resave-data MetaboSignal
###
##############################################################################
##############################################################################
* checking for file 'MetaboSignal/DESCRIPTION' ... OK
* preparing 'MetaboSignal':
* checking DESCRIPTION meta-information ... OK
* installing the package to build vignettes
* creating vignettes ... OK
Warning: 'inst/doc' files
'MetaboSignal.html', 'MetaboSignal2.html'
ignored as vignettes have been rebuilt.
Run R CMD build with --no-build-vignettes to prevent rebuilding.
* checking for LF line-endings in source and make files and shell scripts
* checking for empty or unneeded directories
* building 'MetaboSignal_1.22.0.tar.gz'