| Back to Multiple platform build/check report for BioC 3.13 |
|
This page was generated on 2021-10-15 15:06:11 -0400 (Fri, 15 Oct 2021).
|
To the developers/maintainers of the Metab package: - Please allow up to 24 hours (and sometimes 48 hours) for your latest push to git@git.bioconductor.org:packages/Metab.git to reflect on this report. See How and When does the builder pull? When will my changes propagate? here for more information. - Make sure to use the following settings in order to reproduce any error or warning you see on this page. |
| Package 1076/2041 | Hostname | OS / Arch | INSTALL | BUILD | CHECK | BUILD BIN | ||||||||
| Metab 1.26.0 (landing page) Raphael Aggio
| nebbiolo1 | Linux (Ubuntu 20.04.2 LTS) / x86_64 | OK | OK | OK | |||||||||
| tokay2 | Windows Server 2012 R2 Standard / x64 | OK | OK | OK | OK | |||||||||
| machv2 | macOS 10.14.6 Mojave / x86_64 | OK | OK | OK | OK | |||||||||
| Package: Metab |
| Version: 1.26.0 |
| Command: C:\cygwin\bin\curl.exe -O http://155.52.207.165/BBS/3.13/bioc/src/contrib/Metab_1.26.0.tar.gz && rm -rf Metab.buildbin-libdir && mkdir Metab.buildbin-libdir && C:\Users\biocbuild\bbs-3.13-bioc\R\bin\R.exe CMD INSTALL --merge-multiarch --build --library=Metab.buildbin-libdir Metab_1.26.0.tar.gz && C:\Users\biocbuild\bbs-3.13-bioc\R\bin\R.exe CMD INSTALL Metab_1.26.0.zip && rm Metab_1.26.0.tar.gz Metab_1.26.0.zip |
| StartedAt: 2021-10-14 08:52:26 -0400 (Thu, 14 Oct 2021) |
| EndedAt: 2021-10-14 08:53:21 -0400 (Thu, 14 Oct 2021) |
| EllapsedTime: 55.2 seconds |
| RetCode: 0 |
| Status: OK |
##############################################################################
##############################################################################
###
### Running command:
###
### C:\cygwin\bin\curl.exe -O http://155.52.207.165/BBS/3.13/bioc/src/contrib/Metab_1.26.0.tar.gz && rm -rf Metab.buildbin-libdir && mkdir Metab.buildbin-libdir && C:\Users\biocbuild\bbs-3.13-bioc\R\bin\R.exe CMD INSTALL --merge-multiarch --build --library=Metab.buildbin-libdir Metab_1.26.0.tar.gz && C:\Users\biocbuild\bbs-3.13-bioc\R\bin\R.exe CMD INSTALL Metab_1.26.0.zip && rm Metab_1.26.0.tar.gz Metab_1.26.0.zip
###
##############################################################################
##############################################################################
% Total % Received % Xferd Average Speed Time Time Time Current
Dload Upload Total Spent Left Speed
0 0 0 0 0 0 0 0 --:--:-- --:--:-- --:--:-- 0
1 3095k 1 48387 0 0 308k 0 0:00:10 --:--:-- 0:00:10 308k
93 3095k 93 2892k 0 0 2550k 0 0:00:01 0:00:01 --:--:-- 2550k
100 3095k 100 3095k 0 0 2631k 0 0:00:01 0:00:01 --:--:-- 2632k
install for i386
* installing *source* package 'Metab' ...
** using staged installation
** R
** data
** inst
** byte-compile and prepare package for lazy loading
** help
*** installing help indices
converting help for package 'Metab'
finding HTML links ... done
MetReport html
MetReportNames html
Metab-package html
buildLib html
exampleAMDISReport html
exampleBiomass html
exampleHtest html
exampleIonLib html
exampleMSLfile html
exampleMetReport html
htest html
normalizeByBiomass html
normalizeByInternalStandard html
removeFalsePositives html
** building package indices
** installing vignettes
** testing if installed package can be loaded from temporary location
** testing if installed package can be loaded from final location
** testing if installed package keeps a record of temporary installation path
install for x64
* installing *source* package 'Metab' ...
** testing if installed package can be loaded
* MD5 sums
packaged installation of 'Metab' as Metab_1.26.0.zip
* DONE (Metab)
* installing to library 'C:/Users/biocbuild/bbs-3.13-bioc/R/library'
package 'Metab' successfully unpacked and MD5 sums checked