| Back to Multiple platform build/check report for BioC 3.13 |
|
This page was generated on 2021-10-15 15:06:11 -0400 (Fri, 15 Oct 2021).
|
To the developers/maintainers of the MetaCyto package: - Please allow up to 24 hours (and sometimes 48 hours) for your latest push to git@git.bioconductor.org:packages/MetaCyto.git to reflect on this report. See How and When does the builder pull? When will my changes propagate? here for more information. - Make sure to use the following settings in order to reproduce any error or warning you see on this page. |
| Package 1083/2041 | Hostname | OS / Arch | INSTALL | BUILD | CHECK | BUILD BIN | ||||||||
| MetaCyto 1.14.0 (landing page) Zicheng Hu
| nebbiolo1 | Linux (Ubuntu 20.04.2 LTS) / x86_64 | OK | OK | OK | |||||||||
| tokay2 | Windows Server 2012 R2 Standard / x64 | OK | OK | OK | OK | |||||||||
| machv2 | macOS 10.14.6 Mojave / x86_64 | OK | OK | OK | OK | |||||||||
| Package: MetaCyto |
| Version: 1.14.0 |
| Command: rm -rf MetaCyto.buildbin-libdir && mkdir MetaCyto.buildbin-libdir && C:\Users\biocbuild\bbs-3.13-bioc\R\bin\R.exe CMD INSTALL --merge-multiarch --build --library=MetaCyto.buildbin-libdir MetaCyto_1.14.0.tar.gz |
| StartedAt: 2021-10-15 10:17:46 -0400 (Fri, 15 Oct 2021) |
| EndedAt: 2021-10-15 10:19:19 -0400 (Fri, 15 Oct 2021) |
| EllapsedTime: 93.8 seconds |
| RetCode: 0 |
| Status: OK |
| PackageFile: MetaCyto_1.14.0.zip |
| PackageFileSize: 1.067 MiB |
##############################################################################
##############################################################################
###
### Running command:
###
### rm -rf MetaCyto.buildbin-libdir && mkdir MetaCyto.buildbin-libdir && C:\Users\biocbuild\bbs-3.13-bioc\R\bin\R.exe CMD INSTALL --merge-multiarch --build --library=MetaCyto.buildbin-libdir MetaCyto_1.14.0.tar.gz
###
##############################################################################
##############################################################################
install for i386
* installing *source* package 'MetaCyto' ...
** using staged installation
** R
** inst
** byte-compile and prepare package for lazy loading
** help
*** installing help indices
converting help for package 'MetaCyto'
finding HTML links ... done
autoCluster.batch html
clusterStats html
collectData html
densityPlot html
fcsInfoParser html
filterLabels html
findCutoff html
flowHC html
flowSOM.MC html
glmAnalysis html
labelCluster html
labelSummary html
markerFinder html
metaAnalysis html
nameUpdator html
panelSummary html
plotGA html
preprocessing html
preprocessing.batch html
sampleInfoParser html
searchCluster html
searchCluster.batch html
set2Frame html
** building package indices
** installing vignettes
** testing if installed package can be loaded from temporary location
** testing if installed package can be loaded from final location
** testing if installed package keeps a record of temporary installation path
install for x64
* installing *source* package 'MetaCyto' ...
** testing if installed package can be loaded
* MD5 sums
packaged installation of 'MetaCyto' as MetaCyto_1.14.0.zip
* DONE (MetaCyto)