| Back to Multiple platform build/check report for BioC 3.13 |
|
This page was generated on 2021-10-15 15:06:11 -0400 (Fri, 15 Oct 2021).
|
To the developers/maintainers of the MetNet package: - Please allow up to 24 hours (and sometimes 48 hours) for your latest push to git@git.bioconductor.org:packages/MetNet.git to reflect on this report. See How and When does the builder pull? When will my changes propagate? here for more information. - Make sure to use the following settings in order to reproduce any error or warning you see on this page. |
| Package 1118/2041 | Hostname | OS / Arch | INSTALL | BUILD | CHECK | BUILD BIN | ||||||||
| MetNet 1.10.0 (landing page) Thomas Naake
| nebbiolo1 | Linux (Ubuntu 20.04.2 LTS) / x86_64 | OK | OK | OK | |||||||||
| tokay2 | Windows Server 2012 R2 Standard / x64 | OK | OK | OK | OK | |||||||||
| machv2 | macOS 10.14.6 Mojave / x86_64 | OK | OK | OK | OK | |||||||||
| Package: MetNet |
| Version: 1.10.0 |
| Command: C:\cygwin\bin\curl.exe -O http://155.52.207.165/BBS/3.13/bioc/src/contrib/MetNet_1.10.0.tar.gz && rm -rf MetNet.buildbin-libdir && mkdir MetNet.buildbin-libdir && C:\Users\biocbuild\bbs-3.13-bioc\R\bin\R.exe CMD INSTALL --merge-multiarch --build --library=MetNet.buildbin-libdir MetNet_1.10.0.tar.gz && C:\Users\biocbuild\bbs-3.13-bioc\R\bin\R.exe CMD INSTALL MetNet_1.10.0.zip && rm MetNet_1.10.0.tar.gz MetNet_1.10.0.zip |
| StartedAt: 2021-10-14 09:31:00 -0400 (Thu, 14 Oct 2021) |
| EndedAt: 2021-10-14 09:31:55 -0400 (Thu, 14 Oct 2021) |
| EllapsedTime: 55.0 seconds |
| RetCode: 0 |
| Status: OK |
##############################################################################
##############################################################################
###
### Running command:
###
### C:\cygwin\bin\curl.exe -O http://155.52.207.165/BBS/3.13/bioc/src/contrib/MetNet_1.10.0.tar.gz && rm -rf MetNet.buildbin-libdir && mkdir MetNet.buildbin-libdir && C:\Users\biocbuild\bbs-3.13-bioc\R\bin\R.exe CMD INSTALL --merge-multiarch --build --library=MetNet.buildbin-libdir MetNet_1.10.0.tar.gz && C:\Users\biocbuild\bbs-3.13-bioc\R\bin\R.exe CMD INSTALL MetNet_1.10.0.zip && rm MetNet_1.10.0.tar.gz MetNet_1.10.0.zip
###
##############################################################################
##############################################################################
% Total % Received % Xferd Average Speed Time Time Time Current
Dload Upload Total Spent Left Speed
0 0 0 0 0 0 0 0 --:--:-- --:--:-- --:--:-- 0
2 3529k 2 86425 0 0 442k 0 0:00:07 --:--:-- 0:00:07 441k
43 3529k 43 1521k 0 0 1299k 0 0:00:02 0:00:01 0:00:01 1300k
100 3529k 100 3529k 0 0 1679k 0 0:00:02 0:00:02 --:--:-- 1679k
install for i386
* installing *source* package 'MetNet' ...
** using staged installation
** R
** data
** inst
** byte-compile and prepare package for lazy loading
** help
*** installing help indices
converting help for package 'MetNet'
finding HTML links ... done
AdjacencyMatrix-class html
AdjacencyMatrix html
AllGenerics html
MetNet-package html
addToList html
aracne html
bayes html
clr html
combine html
correlation html
dot-AdjacencyMatrix html
dot-assays_have_identical_colnames_rownames
html
dot-assays_have_identical_dimnames html
getLinks html
lasso html
mat_test html
mat_test_z html
mz_summary html
mz_vis html
peaklist html
randomForest html
rtCorrection html
statistical html
structural html
threeDotsCall html
threshold html
topKnet html
x_annotation html
x_test html
** building package indices
** installing vignettes
** testing if installed package can be loaded from temporary location
** testing if installed package can be loaded from final location
** testing if installed package keeps a record of temporary installation path
install for x64
* installing *source* package 'MetNet' ...
** testing if installed package can be loaded
* MD5 sums
packaged installation of 'MetNet' as MetNet_1.10.0.zip
* DONE (MetNet)
* installing to library 'C:/Users/biocbuild/bbs-3.13-bioc/R/library'
package 'MetNet' successfully unpacked and MD5 sums checked