| Back to Multiple platform build/check report for BioC 3.13 | 
  | 
This page was generated on 2021-10-15 15:06:10 -0400 (Fri, 15 Oct 2021).
| 
To the developers/maintainers of the MatrixQCvis package: - Please allow up to 24 hours (and sometimes 48 hours) for your latest push to git@git.bioconductor.org:packages/MatrixQCvis.git to reflect on this report. See How and When does the builder pull? When will my changes propagate? here for more information. - Make sure to use the following settings in order to reproduce any error or warning you see on this page.  | 
| Package 1044/2041 | Hostname | OS / Arch | INSTALL | BUILD | CHECK | BUILD BIN | ||||||||
| MatrixQCvis 1.0.0  (landing page) Thomas Naake 
  | nebbiolo1 | Linux (Ubuntu 20.04.2 LTS) / x86_64 | OK | OK | OK | |||||||||
| tokay2 | Windows Server 2012 R2 Standard / x64 | OK | OK | OK | OK | |||||||||
| machv2 | macOS 10.14.6 Mojave / x86_64 | OK | OK | OK | OK | |||||||||
| Package: MatrixQCvis | 
| Version: 1.0.0 | 
| Command: C:\cygwin\bin\curl.exe -O http://155.52.207.165/BBS/3.13/bioc/src/contrib/MatrixQCvis_1.0.0.tar.gz && rm -rf MatrixQCvis.buildbin-libdir && mkdir MatrixQCvis.buildbin-libdir && C:\Users\biocbuild\bbs-3.13-bioc\R\bin\R.exe CMD INSTALL --merge-multiarch --build --library=MatrixQCvis.buildbin-libdir MatrixQCvis_1.0.0.tar.gz && C:\Users\biocbuild\bbs-3.13-bioc\R\bin\R.exe CMD INSTALL MatrixQCvis_1.0.0.zip && rm MatrixQCvis_1.0.0.tar.gz MatrixQCvis_1.0.0.zip | 
| StartedAt: 2021-10-14 09:38:07 -0400 (Thu, 14 Oct 2021) | 
| EndedAt: 2021-10-14 09:41:38 -0400 (Thu, 14 Oct 2021) | 
| EllapsedTime: 210.6 seconds | 
| RetCode: 0 | 
| Status: OK | 
##############################################################################
##############################################################################
###
### Running command:
###
###   C:\cygwin\bin\curl.exe -O http://155.52.207.165/BBS/3.13/bioc/src/contrib/MatrixQCvis_1.0.0.tar.gz && rm -rf MatrixQCvis.buildbin-libdir && mkdir MatrixQCvis.buildbin-libdir && C:\Users\biocbuild\bbs-3.13-bioc\R\bin\R.exe CMD INSTALL --merge-multiarch --build --library=MatrixQCvis.buildbin-libdir MatrixQCvis_1.0.0.tar.gz && C:\Users\biocbuild\bbs-3.13-bioc\R\bin\R.exe CMD INSTALL MatrixQCvis_1.0.0.zip && rm MatrixQCvis_1.0.0.tar.gz MatrixQCvis_1.0.0.zip
###
##############################################################################
##############################################################################
  % Total    % Received % Xferd  Average Speed   Time    Time     Time  Current
                                 Dload  Upload   Total   Spent    Left  Speed
  0     0    0     0    0     0      0      0 --:--:-- --:--:-- --:--:--     0
  0     0    0     0    0     0      0      0 --:--:-- --:--:-- --:--:--     0
100   99k  100   99k    0     0   452k      0 --:--:-- --:--:-- --:--:--  452k
install for i386
* installing *source* package 'MatrixQCvis' ...
** using staged installation
** R
** inst
** byte-compile and prepare package for lazy loading
** help
*** installing help indices
  converting help for package 'MatrixQCvis'
    finding HTML links ... done
    ECDF                                    html  
    MAplot                                  html  
    MAvalues                                html  
    barplot_samples_memi                    html  
    batchCorrectionAssay                    html  
    biocrates                               html  
    createDfFeature                         html  
    create_boxplot                          html  
    cv                                      html  
    cvFeaturePlot                           html  
    distSample                              html  
    distShiny                               html  
    driftPlot                               html  
    explVar                                 html  
    extractComb                             html  
    featurePlot                             html  
    hist_feature                            html  
    hist_feature_category                   html  
    hist_sample                             html  
    hist_sample_num                         html  
    hoeffDPlot                              html  
    hoeffDValues                            html  
    imputeAssay                             html  
    maxQuant                                html  
    measured_category                       html  
    mosaic                                  html  
    normalizeAssay                          html  
    ordination                              html  
    ordinationPlot                          html  
    permuteExplVar                          html  
    plotCV                                  html  
    plotPCALoadings                         html  
    plotPCAVar                              html  
    plotPCAVarPvalue                        html  
    samples_memi                            html  
    shinyQC                                 html  
    sumDistSample                           html  
    tblPCALoadings                          html  
    transformAssay                          html  
    upset_category                          html  
    volcanoPlot                             html  
** building package indices
** installing vignettes
** testing if installed package can be loaded from temporary location
** testing if installed package can be loaded from final location
** testing if installed package keeps a record of temporary installation path
install for x64
* installing *source* package 'MatrixQCvis' ...
** testing if installed package can be loaded
* MD5 sums
packaged installation of 'MatrixQCvis' as MatrixQCvis_1.0.0.zip
* DONE (MatrixQCvis)
* installing to library 'C:/Users/biocbuild/bbs-3.13-bioc/R/library'
package 'MatrixQCvis' successfully unpacked and MD5 sums checked