| Back to Multiple platform build/check report for BioC 3.13 |
|
This page was generated on 2021-10-15 15:05:46 -0400 (Fri, 15 Oct 2021).
|
To the developers/maintainers of the MSstatsTMT package: - Please allow up to 24 hours (and sometimes 48 hours) for your latest push to git@git.bioconductor.org:packages/MSstatsTMT.git to reflect on this report. See How and When does the builder pull? When will my changes propagate? here for more information. - Make sure to use the following settings in order to reproduce any error or warning you see on this page. |
| Package 1215/2041 | Hostname | OS / Arch | INSTALL | BUILD | CHECK | BUILD BIN | ||||||||
| MSstatsTMT 2.0.1 (landing page) Ting Huang
| nebbiolo1 | Linux (Ubuntu 20.04.2 LTS) / x86_64 | OK | OK | OK | |||||||||
| tokay2 | Windows Server 2012 R2 Standard / x64 | OK | OK | OK | OK | |||||||||
| machv2 | macOS 10.14.6 Mojave / x86_64 | OK | OK | OK | OK | |||||||||
| Package: MSstatsTMT |
| Version: 2.0.1 |
| Command: /home/biocbuild/bbs-3.13-bioc/R/bin/R CMD check --install=check:MSstatsTMT.install-out.txt --library=/home/biocbuild/bbs-3.13-bioc/R/library --no-vignettes --timings MSstatsTMT_2.0.1.tar.gz |
| StartedAt: 2021-10-14 10:44:06 -0400 (Thu, 14 Oct 2021) |
| EndedAt: 2021-10-14 10:46:00 -0400 (Thu, 14 Oct 2021) |
| EllapsedTime: 113.7 seconds |
| RetCode: 0 |
| Status: OK |
| CheckDir: MSstatsTMT.Rcheck |
| Warnings: 0 |
##############################################################################
##############################################################################
###
### Running command:
###
### /home/biocbuild/bbs-3.13-bioc/R/bin/R CMD check --install=check:MSstatsTMT.install-out.txt --library=/home/biocbuild/bbs-3.13-bioc/R/library --no-vignettes --timings MSstatsTMT_2.0.1.tar.gz
###
##############################################################################
##############################################################################
* using log directory ‘/home/biocbuild/bbs-3.13-bioc/meat/MSstatsTMT.Rcheck’
* using R version 4.1.1 (2021-08-10)
* using platform: x86_64-pc-linux-gnu (64-bit)
* using session charset: UTF-8
* using option ‘--no-vignettes’
* checking for file ‘MSstatsTMT/DESCRIPTION’ ... OK
* this is package ‘MSstatsTMT’ version ‘2.0.1’
* package encoding: UTF-8
* checking package namespace information ... OK
* checking package dependencies ... OK
* checking if this is a source package ... OK
* checking if there is a namespace ... OK
* checking for hidden files and directories ... OK
* checking for portable file names ... OK
* checking for sufficient/correct file permissions ... OK
* checking whether package ‘MSstatsTMT’ can be installed ... OK
* checking installed package size ... OK
* checking package directory ... OK
* checking ‘build’ directory ... OK
* checking DESCRIPTION meta-information ... OK
* checking top-level files ... OK
* checking for left-over files ... OK
* checking index information ... OK
* checking package subdirectories ... OK
* checking R files for non-ASCII characters ... OK
* checking R files for syntax errors ... OK
* checking whether the package can be loaded ... OK
* checking whether the package can be loaded with stated dependencies ... OK
* checking whether the package can be unloaded cleanly ... OK
* checking whether the namespace can be loaded with stated dependencies ... OK
* checking whether the namespace can be unloaded cleanly ... OK
* checking dependencies in R code ... OK
* checking S3 generic/method consistency ... OK
* checking replacement functions ... OK
* checking foreign function calls ... OK
* checking R code for possible problems ... NOTE
.checkSingleSubject: no visible global function definition for ‘.’
.plotProfileTMT: no visible global function definition for ‘.’
Undefined global functions or variables:
.
* checking Rd files ... OK
* checking Rd metadata ... OK
* checking Rd cross-references ... OK
* checking for missing documentation entries ... OK
* checking for code/documentation mismatches ... OK
* checking Rd \usage sections ... OK
* checking Rd contents ... OK
* checking for unstated dependencies in examples ... OK
* checking contents of ‘data’ directory ... OK
* checking data for non-ASCII characters ... OK
* checking LazyData ... OK
* checking data for ASCII and uncompressed saves ... OK
* checking files in ‘vignettes’ ... OK
* checking examples ... OK
Examples with CPU (user + system) or elapsed time > 5s
user system elapsed
dataProcessPlotsTMT 27.930 0.441 27.117
groupComparisonTMT 8.608 0.156 7.659
proteinSummarization 5.114 0.120 4.042
* checking for unstated dependencies in ‘tests’ ... OK
* checking tests ...
Running ‘testthat.R’
OK
* checking for unstated dependencies in vignettes ... OK
* checking package vignettes in ‘inst/doc’ ... OK
* checking running R code from vignettes ... SKIPPED
* checking re-building of vignette outputs ... SKIPPED
* checking PDF version of manual ... OK
* DONE
Status: 1 NOTE
See
‘/home/biocbuild/bbs-3.13-bioc/meat/MSstatsTMT.Rcheck/00check.log’
for details.
MSstatsTMT.Rcheck/00install.out
############################################################################## ############################################################################## ### ### Running command: ### ### /home/biocbuild/bbs-3.13-bioc/R/bin/R CMD INSTALL MSstatsTMT ### ############################################################################## ############################################################################## * installing to library ‘/home/biocbuild/bbs-3.13-bioc/R/library’ * installing *source* package ‘MSstatsTMT’ ... ** using staged installation ** R ** data *** moving datasets to lazyload DB ** inst ** byte-compile and prepare package for lazy loading ** help *** installing help indices ** building package indices ** installing vignettes ** testing if installed package can be loaded from temporary location ** testing if installed package can be loaded from final location ** testing if installed package keeps a record of temporary installation path * DONE (MSstatsTMT)
MSstatsTMT.Rcheck/tests/testthat.Rout
R version 4.1.1 (2021-08-10) -- "Kick Things"
Copyright (C) 2021 The R Foundation for Statistical Computing
Platform: x86_64-pc-linux-gnu (64-bit)
R is free software and comes with ABSOLUTELY NO WARRANTY.
You are welcome to redistribute it under certain conditions.
Type 'license()' or 'licence()' for distribution details.
R is a collaborative project with many contributors.
Type 'contributors()' for more information and
'citation()' on how to cite R or R packages in publications.
Type 'demo()' for some demos, 'help()' for on-line help, or
'help.start()' for an HTML browser interface to help.
Type 'q()' to quit R.
> library(testthat)
> library(MSstatsTMT)
>
> test_check("MSstatsTMT")
INFO [2021-10-14 10:45:49] ** Raw data from ProteomeDiscoverer imported successfully.
INFO [2021-10-14 10:45:50] ** Raw data from ProteomeDiscoverer cleaned successfully.
INFO [2021-10-14 10:45:50] ** Using provided annotation.
INFO [2021-10-14 10:45:50] ** Raw data from MaxQuant imported successfully.
INFO [2021-10-14 10:45:50] ** Rows with values of Potentialcontaminant equal to + are removed
INFO [2021-10-14 10:45:50] ** Rows with values of Reverse equal to + are removed
INFO [2021-10-14 10:45:50] ** Rows with values of Potentialcontaminant equal to + are removed
INFO [2021-10-14 10:45:50] ** Rows with values of Reverse equal to + are removed
INFO [2021-10-14 10:45:50] ** + Contaminant, + Reverse, + Potential.contaminant proteins are removed.
INFO [2021-10-14 10:45:50] ** Features with all missing measurements across channels within each run are removed.
INFO [2021-10-14 10:45:50] ** Raw data from MaxQuant cleaned successfully.
INFO [2021-10-14 10:45:50] ** Using provided annotation.
INFO [2021-10-14 10:45:50] ** Run and Channel labels were standardized to remove symbols such as '.' or '%'.
INFO [2021-10-14 10:45:50] ** The following options are used:
- Features will be defined by the columns: PeptideSequence, PrecursorCharge
- Shared peptides will be removed.
- Proteins with single feature will not be removed.
- Features with less than 3 measurements within each run will be removed.
INFO [2021-10-14 10:45:50] ** Features with all missing measurements across channels within each run are removed.
INFO [2021-10-14 10:45:50] ** Shared peptides are removed.
INFO [2021-10-14 10:45:50] ** Features with one or two measurements across channels within each run are removed.
INFO [2021-10-14 10:45:50] ** PSMs have been aggregated to peptide ions.
INFO [2021-10-14 10:45:50] ** Raw data from SpectroMine imported successfully.
INFO [2021-10-14 10:45:50] ** Raw data from SpectroMine cleaned successfully.
INFO [2021-10-14 10:45:50] ** Using provided annotation.
INFO [2021-10-14 10:45:50] ** Run and Channel labels were standardized to remove symbols such as '.' or '%'.
INFO [2021-10-14 10:45:50] Model fitting for 10 proteins.
|
| | 0%
|
|======= | 10%
|
|============== | 20%
|
|===================== | 30%
|
|============================ | 40%
|
|=================================== | 50%
|
|========================================== | 60%
|
|================================================= | 70%
|
|======================================================== | 80%
|
|=============================================================== | 90%
|
|======================================================================| 100%
INFO [2021-10-14 10:45:51] Testing for 10 proteins:
|
| | 0%
|
|======= | 10%
|
|============== | 20%
|
|===================== | 30%
|
|============================ | 40%
|
|=================================== | 50%
|
|========================================== | 60%
|
|================================================= | 70%
|
|======================================================== | 80%
|
|=============================================================== | 90%
|
|======================================================================| 100%
INFO [2021-10-14 10:45:52] Model fitting for 10 proteins.
|
| | 0%
|
|======= | 10%
|
|============== | 20%
|
|===================== | 30%
|
|============================ | 40%
|
|=================================== | 50%
|
|========================================== | 60%
|
|================================================= | 70%
|
|======================================================== | 80%
|
|=============================================================== | 90%
|
|======================================================================| 100%
INFO [2021-10-14 10:45:53] ** MSstatsTMT - proteinSummarization function
INFO [2021-10-14 10:45:53] Summarizing for Run : 161117_SILAC_HeLa_UPS1_TMT10_Mixture1_01.raw ( 1 of 15 )
|
| | 0%
|
|======= | 10%
|
|============== | 20%
|
|===================== | 30%
|
|============================ | 40%
|
|=================================== | 50%
|
|========================================== | 60%
|
|================================================= | 70%
|
|======================================================== | 80%
|
|=============================================================== | 90%
|
|======================================================================| 100%
INFO [2021-10-14 10:45:54] Summarizing for Run : 161117_SILAC_HeLa_UPS1_TMT10_Mixture1_02.raw ( 2 of 15 )
|
| | 0%
|
|======= | 10%
|
|============== | 20%
|
|===================== | 30%
|
|============================ | 40%
|
|=================================== | 50%
|
|========================================== | 60%
|
|================================================= | 70%
|
|======================================================== | 80%
|
|=============================================================== | 90%
|
|======================================================================| 100%
INFO [2021-10-14 10:45:54] Summarizing for Run : 161117_SILAC_HeLa_UPS1_TMT10_Mixture2_01.raw ( 3 of 15 )
|
| | 0%
|
|======= | 10%
|
|============== | 20%
|
|===================== | 30%
|
|============================ | 40%
|
|=================================== | 50%
|
|========================================== | 60%
|
|================================================= | 70%
|
|======================================================== | 80%
|
|=============================================================== | 90%
|
|======================================================================| 100%
INFO [2021-10-14 10:45:54] Summarizing for Run : 161117_SILAC_HeLa_UPS1_TMT10_Mixture2_02.raw ( 4 of 15 )
|
| | 0%
|
|======= | 10%
|
|============== | 20%
|
|===================== | 30%
|
|============================ | 40%
|
|=================================== | 50%
|
|========================================== | 60%
|
|================================================= | 70%
|
|======================================================== | 80%
|
|=============================================================== | 90%
|
|======================================================================| 100%
INFO [2021-10-14 10:45:55] Summarizing for Run : 161117_SILAC_HeLa_UPS1_TMT10_Mixture2_03.raw ( 5 of 15 )
|
| | 0%
|
|======= | 10%
|
|============== | 20%
|
|===================== | 30%
|
|============================ | 40%
|
|=================================== | 50%
|
|========================================== | 60%
|
|================================================= | 70%
|
|======================================================== | 80%
|
|=============================================================== | 90%
|
|======================================================================| 100%
INFO [2021-10-14 10:45:55] Summarizing for Run : 161117_SILAC_HeLa_UPS1_TMT10_Mixture3_01.raw ( 6 of 15 )
|
| | 0%
|
|======= | 10%
|
|============== | 20%
|
|===================== | 30%
|
|============================ | 40%
|
|=================================== | 50%
|
|========================================== | 60%
|
|================================================= | 70%
|
|======================================================== | 80%
|
|=============================================================== | 90%
|
|======================================================================| 100%
INFO [2021-10-14 10:45:55] Summarizing for Run : 161117_SILAC_HeLa_UPS1_TMT10_Mixture3_02.raw ( 7 of 15 )
|
| | 0%
|
|======= | 10%
|
|============== | 20%
|
|===================== | 30%
|
|============================ | 40%
|
|=================================== | 50%
|
|========================================== | 60%
|
|================================================= | 70%
|
|======================================================== | 80%
|
|=============================================================== | 90%
|
|======================================================================| 100%
INFO [2021-10-14 10:45:55] Summarizing for Run : 161117_SILAC_HeLa_UPS1_TMT10_Mixture4_01.raw ( 8 of 15 )
|
| | 0%
|
|======= | 10%
|
|============== | 20%
|
|===================== | 30%
|
|============================ | 40%
|
|=================================== | 50%
|
|========================================== | 60%
|
|================================================= | 70%
|
|======================================================== | 80%
|
|=============================================================== | 90%
|
|======================================================================| 100%
INFO [2021-10-14 10:45:56] Summarizing for Run : 161117_SILAC_HeLa_UPS1_TMT10_Mixture4_02.raw ( 9 of 15 )
|
| | 0%
|
|======= | 10%
|
|============== | 20%
|
|===================== | 30%
|
|============================ | 40%
|
|=================================== | 50%
|
|========================================== | 60%
|
|================================================= | 70%
|
|======================================================== | 80%
|
|=============================================================== | 90%
|
|======================================================================| 100%
INFO [2021-10-14 10:45:56] Summarizing for Run : 161117_SILAC_HeLa_UPS1_TMT10_Mixture5_01.raw ( 10 of 15 )
|
| | 0%
|
|======= | 10%
|
|============== | 20%
|
|===================== | 30%
|
|============================ | 40%
|
|=================================== | 50%
|
|========================================== | 60%
|
|================================================= | 70%
|
|======================================================== | 80%
|
|=============================================================== | 90%
|
|======================================================================| 100%
INFO [2021-10-14 10:45:56] Summarizing for Run : 161117_SILAC_HeLa_UPS1_TMT10_Mixture5_02.raw ( 11 of 15 )
|
| | 0%
|
|======= | 10%
|
|============== | 20%
|
|===================== | 30%
|
|============================ | 40%
|
|=================================== | 50%
|
|========================================== | 60%
|
|================================================= | 70%
|
|======================================================== | 80%
|
|=============================================================== | 90%
|
|======================================================================| 100%
INFO [2021-10-14 10:45:56] Summarizing for Run : 161117_SILAC_HeLa_UPS1_TMT10_Mixture4_03.raw ( 12 of 15 )
|
| | 0%
|
|======= | 10%
|
|============== | 20%
|
|===================== | 30%
|
|============================ | 40%
|
|=================================== | 50%
|
|========================================== | 60%
|
|================================================= | 70%
|
|======================================================== | 80%
|
|=============================================================== | 90%
|
|======================================================================| 100%
INFO [2021-10-14 10:45:56] Summarizing for Run : 161117_SILAC_HeLa_UPS1_TMT10_Mixture5_03.raw ( 13 of 15 )
|
| | 0%
|
|======= | 10%
|
|============== | 20%
|
|===================== | 30%
|
|============================ | 40%
|
|=================================== | 50%
|
|========================================== | 60%
|
|================================================= | 70%
|
|======================================================== | 80%
|
|=============================================================== | 90%
|
|======================================================================| 100%
INFO [2021-10-14 10:45:57] Summarizing for Run : 161117_SILAC_HeLa_UPS1_TMT10_Mixture1_03.raw ( 14 of 15 )
|
| | 0%
|
|======= | 10%
|
|============== | 20%
|
|===================== | 30%
|
|============================ | 40%
|
|=================================== | 50%
|
|========================================== | 60%
|
|================================================= | 70%
|
|======================================================== | 80%
|
|=============================================================== | 90%
|
|======================================================================| 100%
INFO [2021-10-14 10:45:57] Summarizing for Run : 161117_SILAC_HeLa_UPS1_TMT10_Mixture3_03.raw ( 15 of 15 )
|
| | 0%
|
|======= | 10%
|
|============== | 20%
|
|===================== | 30%
|
|============================ | 40%
|
|=================================== | 50%
|
|========================================== | 60%
|
|================================================= | 70%
|
|======================================================== | 80%
|
|=============================================================== | 90%
|
|======================================================================| 100%
INFO [2021-10-14 10:45:57] ** Protein-level summarization done by MSstats.
INFO [2021-10-14 10:45:57] ** MSstatsTMT - proteinSummarization function
INFO [2021-10-14 10:45:57] ** MSstatsTMT - proteinSummarization function
INFO [2021-10-14 10:45:57] ** MSstatsTMT - proteinSummarization function
INFO [2021-10-14 10:45:57] ** MSstatsTMT - proteinSummarization function
INFO [2021-10-14 10:45:57] ** MSstatsTMT - proteinSummarization function
INFO [2021-10-14 10:45:57] ** MSstatsTMT - proteinSummarization function
INFO [2021-10-14 10:45:57] ** MSstatsTMT - proteinSummarization function
INFO [2021-10-14 10:45:57] ** MSstatsTMT - proteinSummarization function
INFO [2021-10-14 10:45:57] ** MSstatsTMT - proteinSummarization function
INFO [2021-10-14 10:45:57] ** MSstatsTMT - proteinSummarization function
INFO [2021-10-14 10:45:57] ** MSstatsTMT - proteinSummarization function
INFO [2021-10-14 10:45:57] ** MSstatsTMT - proteinSummarization function
INFO [2021-10-14 10:45:57] ** MSstatsTMT - proteinSummarization function
INFO [2021-10-14 10:45:57] ** MSstatsTMT - proteinSummarization function
INFO [2021-10-14 10:45:57] ** MSstatsTMT - proteinSummarization function
INFO [2021-10-14 10:45:57] Summarizing for Run : 161117_SILAC_HeLa_UPS1_TMT10_Mixture1_01.raw ( 1 of 15 )
[ FAIL 0 | WARN 0 | SKIP 0 | PASS 27 ]
>
> proc.time()
user system elapsed
12.278 0.429 11.345
MSstatsTMT.Rcheck/MSstatsTMT-Ex.timings
| name | user | system | elapsed | |
| MaxQtoMSstatsTMTFormat | 0.687 | 0.083 | 0.661 | |
| OpenMStoMSstatsTMTFormat | 0.158 | 0.011 | 0.164 | |
| PDtoMSstatsTMTFormat | 1.684 | 0.053 | 1.576 | |
| SpectroMinetoMSstatsTMTFormat | 0.286 | 0.007 | 0.285 | |
| annotation.mine | 0.002 | 0.000 | 0.002 | |
| annotation.mq | 0.000 | 0.002 | 0.002 | |
| annotation.pd | 0.001 | 0.001 | 0.002 | |
| dataProcessPlotsTMT | 27.930 | 0.441 | 27.117 | |
| evidence | 0.005 | 0.008 | 0.013 | |
| groupComparisonTMT | 8.608 | 0.156 | 7.659 | |
| input.pd | 0.005 | 0.004 | 0.009 | |
| proteinGroups | 0.055 | 0.048 | 0.103 | |
| proteinSummarization | 5.114 | 0.120 | 4.042 | |
| quant.pd.msstats | 0.031 | 0.000 | 0.031 | |
| raw.mine | 0.007 | 0.000 | 0.007 | |
| raw.om | 0.003 | 0.000 | 0.003 | |
| raw.pd | 0.003 | 0.004 | 0.007 | |
| test.pairwise | 0.000 | 0.001 | 0.002 | |