| Back to Multiple platform build/check report for BioC 3.13 |
|
This page was generated on 2021-10-15 15:06:12 -0400 (Fri, 15 Oct 2021).
|
To the developers/maintainers of the MQmetrics package: - Please allow up to 24 hours (and sometimes 48 hours) for your latest push to git@git.bioconductor.org:packages/MQmetrics.git to reflect on this report. See How and When does the builder pull? When will my changes propagate? here for more information. - Make sure to use the following settings in order to reproduce any error or warning you see on this page. |
| Package 1190/2041 | Hostname | OS / Arch | INSTALL | BUILD | CHECK | BUILD BIN | ||||||||
| MQmetrics 1.0.0 (landing page) Alvaro Sanchez-Villalba
| nebbiolo1 | Linux (Ubuntu 20.04.2 LTS) / x86_64 | OK | OK | OK | |||||||||
| tokay2 | Windows Server 2012 R2 Standard / x64 | OK | OK | OK | OK | |||||||||
| machv2 | macOS 10.14.6 Mojave / x86_64 | OK | OK | OK | OK | |||||||||
| Package: MQmetrics |
| Version: 1.0.0 |
| Command: C:\cygwin\bin\curl.exe -O http://155.52.207.165/BBS/3.13/bioc/src/contrib/MQmetrics_1.0.0.tar.gz && rm -rf MQmetrics.buildbin-libdir && mkdir MQmetrics.buildbin-libdir && C:\Users\biocbuild\bbs-3.13-bioc\R\bin\R.exe CMD INSTALL --merge-multiarch --build --library=MQmetrics.buildbin-libdir MQmetrics_1.0.0.tar.gz && C:\Users\biocbuild\bbs-3.13-bioc\R\bin\R.exe CMD INSTALL MQmetrics_1.0.0.zip && rm MQmetrics_1.0.0.tar.gz MQmetrics_1.0.0.zip |
| StartedAt: 2021-10-14 11:04:16 -0400 (Thu, 14 Oct 2021) |
| EndedAt: 2021-10-14 11:04:45 -0400 (Thu, 14 Oct 2021) |
| EllapsedTime: 28.8 seconds |
| RetCode: 0 |
| Status: OK |
##############################################################################
##############################################################################
###
### Running command:
###
### C:\cygwin\bin\curl.exe -O http://155.52.207.165/BBS/3.13/bioc/src/contrib/MQmetrics_1.0.0.tar.gz && rm -rf MQmetrics.buildbin-libdir && mkdir MQmetrics.buildbin-libdir && C:\Users\biocbuild\bbs-3.13-bioc\R\bin\R.exe CMD INSTALL --merge-multiarch --build --library=MQmetrics.buildbin-libdir MQmetrics_1.0.0.tar.gz && C:\Users\biocbuild\bbs-3.13-bioc\R\bin\R.exe CMD INSTALL MQmetrics_1.0.0.zip && rm MQmetrics_1.0.0.tar.gz MQmetrics_1.0.0.zip
###
##############################################################################
##############################################################################
% Total % Received % Xferd Average Speed Time Time Time Current
Dload Upload Total Spent Left Speed
0 0 0 0 0 0 0 0 --:--:-- --:--:-- --:--:-- 0
5 2899k 5 165k 0 0 650k 0 0:00:04 --:--:-- 0:00:04 650k
86 2899k 86 2512k 0 0 2044k 0 0:00:01 0:00:01 --:--:-- 2044k
100 2899k 100 2899k 0 0 2137k 0 0:00:01 0:00:01 --:--:-- 2137k
install for i386
* installing *source* package 'MQmetrics' ...
** using staged installation
** R
** inst
** byte-compile and prepare package for lazy loading
** help
*** installing help indices
converting help for package 'MQmetrics'
finding HTML links ... done
MaxQuantAnalysisInfo html
PlotAcquisitionCycle html
PlotAllDynamicRange html
PlotAndromedaScore html
PlotCharge html
PlotCombinedDynamicRange html
PlotHydrophobicity html
PlotIdentificationType html
PlotIntensity html
PlotIsotopePattern html
PlotMsMs html
PlotPCA html
PlotPTM html
PlotPeaks html
PlotPeptidesIdentified html
PlotProteaseSpecificity html
PlotProteinCoverage html
PlotProteinOverlap html
PlotProteinPeptideRatio html
PlotProteinsIdentified html
PlotTotalIonCurrent html
PlotiRT html
PlotiRTScore html
ReportTables html
generateReport html
make_MQCombined html
*** copying figures
** building package indices
** installing vignettes
** testing if installed package can be loaded from temporary location
** testing if installed package can be loaded from final location
** testing if installed package keeps a record of temporary installation path
install for x64
* installing *source* package 'MQmetrics' ...
** testing if installed package can be loaded
* MD5 sums
packaged installation of 'MQmetrics' as MQmetrics_1.0.0.zip
* DONE (MQmetrics)
* installing to library 'C:/Users/biocbuild/bbs-3.13-bioc/R/library'
package 'MQmetrics' successfully unpacked and MD5 sums checked