| Back to Multiple platform build/check report for BioC 3.13 | 
  | 
This page was generated on 2021-10-15 15:06:12 -0400 (Fri, 15 Oct 2021).
| 
To the developers/maintainers of the MPRAnalyze package: - Please allow up to 24 hours (and sometimes 48 hours) for your latest push to git@git.bioconductor.org:packages/MPRAnalyze.git to reflect on this report. See How and When does the builder pull? When will my changes propagate? here for more information. - Make sure to use the following settings in order to reproduce any error or warning you see on this page.  | 
| Package 1189/2041 | Hostname | OS / Arch | INSTALL | BUILD | CHECK | BUILD BIN | ||||||||
| MPRAnalyze 1.10.0  (landing page) Tal Ashuach 
  | nebbiolo1 | Linux (Ubuntu 20.04.2 LTS) / x86_64 | OK | OK | OK | |||||||||
| tokay2 | Windows Server 2012 R2 Standard / x64 | OK | OK | OK | OK | |||||||||
| machv2 | macOS 10.14.6 Mojave / x86_64 | OK | OK | OK | OK | |||||||||
| Package: MPRAnalyze | 
| Version: 1.10.0 | 
| Command: C:\cygwin\bin\curl.exe -O http://155.52.207.165/BBS/3.13/bioc/src/contrib/MPRAnalyze_1.10.0.tar.gz && rm -rf MPRAnalyze.buildbin-libdir && mkdir MPRAnalyze.buildbin-libdir && C:\Users\biocbuild\bbs-3.13-bioc\R\bin\R.exe CMD INSTALL --merge-multiarch --build --library=MPRAnalyze.buildbin-libdir MPRAnalyze_1.10.0.tar.gz && C:\Users\biocbuild\bbs-3.13-bioc\R\bin\R.exe CMD INSTALL MPRAnalyze_1.10.0.zip && rm MPRAnalyze_1.10.0.tar.gz MPRAnalyze_1.10.0.zip | 
| StartedAt: 2021-10-14 08:53:39 -0400 (Thu, 14 Oct 2021) | 
| EndedAt: 2021-10-14 08:54:21 -0400 (Thu, 14 Oct 2021) | 
| EllapsedTime: 42.5 seconds | 
| RetCode: 0 | 
| Status: OK | 
##############################################################################
##############################################################################
###
### Running command:
###
###   C:\cygwin\bin\curl.exe -O http://155.52.207.165/BBS/3.13/bioc/src/contrib/MPRAnalyze_1.10.0.tar.gz && rm -rf MPRAnalyze.buildbin-libdir && mkdir MPRAnalyze.buildbin-libdir && C:\Users\biocbuild\bbs-3.13-bioc\R\bin\R.exe CMD INSTALL --merge-multiarch --build --library=MPRAnalyze.buildbin-libdir MPRAnalyze_1.10.0.tar.gz && C:\Users\biocbuild\bbs-3.13-bioc\R\bin\R.exe CMD INSTALL MPRAnalyze_1.10.0.zip && rm MPRAnalyze_1.10.0.tar.gz MPRAnalyze_1.10.0.zip
###
##############################################################################
##############################################################################
  % Total    % Received % Xferd  Average Speed   Time    Time     Time  Current
                                 Dload  Upload   Total   Spent    Left  Speed
  0     0    0     0    0     0      0      0 --:--:-- --:--:-- --:--:--     0
100 51539  100 51539    0     0   329k      0 --:--:-- --:--:-- --:--:--  331k
install for i386
* installing *source* package 'MPRAnalyze' ...
** using staged installation
** R
** data
** inst
** byte-compile and prepare package for lazy loading
** help
*** installing help indices
  converting help for package 'MPRAnalyze'
    finding HTML links ... done
    ChrEpi                                  html  
    MpraObject                              html  
    analyzeComparative                      html  
    analyzeQuantification                   html  
    estimateDepthFactors                    html  
    extractModelParameters                  html  
    getAlpha                                html  
    getDistrParam                           html  
    getFits_DNA                             html  
    getFits_RNA                             html  
    setDepthFactors                         html  
    setModel                                html  
    simulateMPRA                            html  
    testCoefficient                         html  
    testEmpirical                           html  
    testLrt                                 html  
** building package indices
** installing vignettes
** testing if installed package can be loaded from temporary location
** testing if installed package can be loaded from final location
** testing if installed package keeps a record of temporary installation path
install for x64
* installing *source* package 'MPRAnalyze' ...
** testing if installed package can be loaded
* MD5 sums
packaged installation of 'MPRAnalyze' as MPRAnalyze_1.10.0.zip
* DONE (MPRAnalyze)
* installing to library 'C:/Users/biocbuild/bbs-3.13-bioc/R/library'
package 'MPRAnalyze' successfully unpacked and MD5 sums checked