| Back to Multiple platform build/check report for BioC 3.13 | 
 | 
This page was generated on 2021-10-15 15:06:12 -0400 (Fri, 15 Oct 2021).
| To the developers/maintainers of the MODA package: - Please allow up to 24 hours (and sometimes 48 hours) for your latest push to git@git.bioconductor.org:packages/MODA.git to reflect on this report. See How and When does the builder pull? When will my changes propagate? here for more information. - Make sure to use the following settings in order to reproduce any error or warning you see on this page. | 
| Package 1170/2041 | Hostname | OS / Arch | INSTALL | BUILD | CHECK | BUILD BIN | ||||||||
| MODA 1.18.0  (landing page) Dong Li 
 | nebbiolo1 | Linux (Ubuntu 20.04.2 LTS) / x86_64 | OK | OK | OK |  | ||||||||
| tokay2 | Windows Server 2012 R2 Standard / x64 | OK | OK | OK | OK |  | ||||||||
| machv2 | macOS 10.14.6 Mojave / x86_64 | OK | OK | OK | OK |  | ||||||||
| Package: MODA | 
| Version: 1.18.0 | 
| Command: C:\cygwin\bin\curl.exe -O http://155.52.207.165/BBS/3.13/bioc/src/contrib/MODA_1.18.0.tar.gz && rm -rf MODA.buildbin-libdir && mkdir MODA.buildbin-libdir && C:\Users\biocbuild\bbs-3.13-bioc\R\bin\R.exe CMD INSTALL --merge-multiarch --build --library=MODA.buildbin-libdir MODA_1.18.0.tar.gz && C:\Users\biocbuild\bbs-3.13-bioc\R\bin\R.exe CMD INSTALL MODA_1.18.0.zip && rm MODA_1.18.0.tar.gz MODA_1.18.0.zip | 
| StartedAt: 2021-10-14 09:09:56 -0400 (Thu, 14 Oct 2021) | 
| EndedAt: 2021-10-14 09:10:50 -0400 (Thu, 14 Oct 2021) | 
| EllapsedTime: 53.6 seconds | 
| RetCode: 0 | 
| Status: OK | 
##############################################################################
##############################################################################
###
### Running command:
###
###   C:\cygwin\bin\curl.exe -O http://155.52.207.165/BBS/3.13/bioc/src/contrib/MODA_1.18.0.tar.gz && rm -rf MODA.buildbin-libdir && mkdir MODA.buildbin-libdir && C:\Users\biocbuild\bbs-3.13-bioc\R\bin\R.exe CMD INSTALL --merge-multiarch --build --library=MODA.buildbin-libdir MODA_1.18.0.tar.gz && C:\Users\biocbuild\bbs-3.13-bioc\R\bin\R.exe CMD INSTALL MODA_1.18.0.zip && rm MODA_1.18.0.tar.gz MODA_1.18.0.zip
###
##############################################################################
##############################################################################
  % Total    % Received % Xferd  Average Speed   Time    Time     Time  Current
                                 Dload  Upload   Total   Spent    Left  Speed
  0     0    0     0    0     0      0      0 --:--:-- --:--:-- --:--:--     0
100  292k  100  292k    0     0  1108k      0 --:--:-- --:--:-- --:--:-- 1112k
install for i386
* installing *source* package 'MODA' ...
** using staged installation
** R
** data
** inst
** byte-compile and prepare package for lazy loading
** help
*** installing help indices
  converting help for package 'MODA'
    finding HTML links ... done
    CompareAllNets                          html  
    MIcondition                             html  
    ModuleFrequency                         html  
    NMImatrix                               html  
    PartitionDensity                        html  
    PartitionModularity                     html  
    WeightedModulePartitionAmoutain         html  
    WeightedModulePartitionHierarchical     html  
    WeightedModulePartitionLouvain          html  
    WeightedModulePartitionSpectral         html  
    comparemodulestwonets                   html  
    datExpr1                                html  
    datExpr2                                html  
    getPartition                            html  
    modulesRank                             html  
    recursiveigraph                         html  
** building package indices
** installing vignettes
** testing if installed package can be loaded from temporary location
** testing if installed package can be loaded from final location
** testing if installed package keeps a record of temporary installation path
install for x64
* installing *source* package 'MODA' ...
** testing if installed package can be loaded
* MD5 sums
packaged installation of 'MODA' as MODA_1.18.0.zip
* DONE (MODA)
* installing to library 'C:/Users/biocbuild/bbs-3.13-bioc/R/library'
package 'MODA' successfully unpacked and MD5 sums checked