| Back to Multiple platform build/check report for BioC 3.13 | 
 | 
This page was generated on 2021-10-15 15:06:11 -0400 (Fri, 15 Oct 2021).
| To the developers/maintainers of the MEIGOR package: - Please allow up to 24 hours (and sometimes 48 hours) for your latest push to git@git.bioconductor.org:packages/MEIGOR.git to reflect on this report. See How and When does the builder pull? When will my changes propagate? here for more information. - Make sure to use the following settings in order to reproduce any error or warning you see on this page. | 
| Package 1067/2041 | Hostname | OS / Arch | INSTALL | BUILD | CHECK | BUILD BIN | ||||||||
| MEIGOR 1.26.0  (landing page) Jose A. Egea 
 | nebbiolo1 | Linux (Ubuntu 20.04.2 LTS) / x86_64 | OK | OK | WARNINGS |  | ||||||||
| tokay2 | Windows Server 2012 R2 Standard / x64 | OK | OK | WARNINGS | OK |  | ||||||||
| machv2 | macOS 10.14.6 Mojave / x86_64 | OK | OK | WARNINGS | OK |  | ||||||||
| Package: MEIGOR | 
| Version: 1.26.0 | 
| Command: rm -rf MEIGOR.buildbin-libdir && mkdir MEIGOR.buildbin-libdir && C:\Users\biocbuild\bbs-3.13-bioc\R\bin\R.exe CMD INSTALL --merge-multiarch --build --library=MEIGOR.buildbin-libdir MEIGOR_1.26.0.tar.gz | 
| StartedAt: 2021-10-15 10:15:33 -0400 (Fri, 15 Oct 2021) | 
| EndedAt: 2021-10-15 10:17:05 -0400 (Fri, 15 Oct 2021) | 
| EllapsedTime: 91.1 seconds | 
| RetCode: 0 | 
| Status: OK | 
| PackageFile: MEIGOR_1.26.0.zip | 
| PackageFileSize: 1017 KiB | 
##############################################################################
##############################################################################
###
### Running command:
###
###   rm -rf MEIGOR.buildbin-libdir && mkdir MEIGOR.buildbin-libdir && C:\Users\biocbuild\bbs-3.13-bioc\R\bin\R.exe CMD INSTALL --merge-multiarch --build --library=MEIGOR.buildbin-libdir MEIGOR_1.26.0.tar.gz
###
##############################################################################
##############################################################################
install for i386
* installing *source* package 'MEIGOR' ...
** using staged installation
** R
** data
** inst
** byte-compile and prepare package for lazy loading
Note: possible error in 'runif(seed = options$seed)': unused argument (seed = options$seed) 
** help
*** installing help indices
  converting help for package 'MEIGOR'
    finding HTML links ... done
    BayesFit                                html  
    CeSSR                                   html  
    CeVNSR                                  html  
    MEIGO                                   html  
    MEIGOR-package                          html  
    cnolist                                 html  
    cur_params                              html  
    dhc                                     html  
    essR-MEIGOR                             html  
    essR                                    html  
    essR_multistart                         html  
    eucl_dist                               html  
    ith_VNSR                                html  
    ith_essR                                html  
    model                                   html  
    nls_fobj                                html  
    optim_fobj                              html  
    paramsOpt                               html  
    runBayesFit                             html  
    rvnds_hamming                           html  
    rvnds_local                             html  
    solnp_eq                                html  
    solnp_fobj                              html  
    solnp_ineq                              html  
    ssm_beyond                              html  
    ssm_defaults                            html  
    ssm_evalfc                              html  
    ssm_isdif2                              html  
    ssm_localsolver                         html  
    ssm_optset                              html  
    ssm_penalty_function                    html  
    ssm_round_int                           html  
    vns_defaults                            html  
    vns_optset                              html  
** building package indices
** installing vignettes
** testing if installed package can be loaded from temporary location
** testing if installed package can be loaded from final location
** testing if installed package keeps a record of temporary installation path
install for x64
* installing *source* package 'MEIGOR' ...
** testing if installed package can be loaded
* MD5 sums
packaged installation of 'MEIGOR' as MEIGOR_1.26.0.zip
* DONE (MEIGOR)