| Back to Multiple platform build/check report for BioC 3.13 |
|
This page was generated on 2021-10-15 15:06:10 -0400 (Fri, 15 Oct 2021).
|
To the developers/maintainers of the MEAT package: - Please allow up to 24 hours (and sometimes 48 hours) for your latest push to git@git.bioconductor.org:packages/MEAT.git to reflect on this report. See How and When does the builder pull? When will my changes propagate? here for more information. - Make sure to use the following settings in order to reproduce any error or warning you see on this page. |
| Package 1062/2041 | Hostname | OS / Arch | INSTALL | BUILD | CHECK | BUILD BIN | ||||||||
| MEAT 1.4.0 (landing page) Sarah Voisin
| nebbiolo1 | Linux (Ubuntu 20.04.2 LTS) / x86_64 | OK | OK | WARNINGS | |||||||||
| tokay2 | Windows Server 2012 R2 Standard / x64 | OK | OK | WARNINGS | OK | |||||||||
| machv2 | macOS 10.14.6 Mojave / x86_64 | OK | OK | WARNINGS | OK | |||||||||
| Package: MEAT |
| Version: 1.4.0 |
| Command: rm -rf MEAT.buildbin-libdir && mkdir MEAT.buildbin-libdir && C:\Users\biocbuild\bbs-3.13-bioc\R\bin\R.exe CMD INSTALL --merge-multiarch --build --library=MEAT.buildbin-libdir MEAT_1.4.0.tar.gz |
| StartedAt: 2021-10-15 10:14:51 -0400 (Fri, 15 Oct 2021) |
| EndedAt: 2021-10-15 10:16:22 -0400 (Fri, 15 Oct 2021) |
| EllapsedTime: 90.5 seconds |
| RetCode: 0 |
| Status: OK |
| PackageFile: MEAT_1.4.0.zip |
| PackageFileSize: 5.732 MiB |
##############################################################################
##############################################################################
###
### Running command:
###
### rm -rf MEAT.buildbin-libdir && mkdir MEAT.buildbin-libdir && C:\Users\biocbuild\bbs-3.13-bioc\R\bin\R.exe CMD INSTALL --merge-multiarch --build --library=MEAT.buildbin-libdir MEAT_1.4.0.tar.gz
###
##############################################################################
##############################################################################
install for i386
* installing *source* package 'MEAT' ...
** using staged installation
** R
** data
*** moving datasets to lazyload DB
** inst
** byte-compile and prepare package for lazy loading
No methods found in package 'RSQLite' for request: 'dbListFields' when loading 'lumi'
** help
*** installing help indices
converting help for package 'MEAT'
finding HTML links ... done
BMIQcalibration html
CpGs_in_MEAT html
CpGs_in_MEAT2.0 html
GSE121961 html
GSE121961_pheno html
MEAT-package html
clean_beta html
elasticnet_model_MEAT html
elasticnet_model_MEAT2.0 html
epiage_estimation html
gold.mean.MEAT html
gold.mean.MEAT2.0 html
** building package indices
** installing vignettes
** testing if installed package can be loaded from temporary location
No methods found in package 'RSQLite' for request: 'dbListFields' when loading 'lumi'
** testing if installed package can be loaded from final location
No methods found in package 'RSQLite' for request: 'dbListFields' when loading 'lumi'
** testing if installed package keeps a record of temporary installation path
install for x64
* installing *source* package 'MEAT' ...
** testing if installed package can be loaded
No methods found in package 'RSQLite' for request: 'dbListFields' when loading 'lumi'
* MD5 sums
packaged installation of 'MEAT' as MEAT_1.4.0.zip
* DONE (MEAT)