| Back to Multiple platform build/check report for BioC 3.13 | 
 | 
This page was generated on 2021-10-15 15:06:10 -0400 (Fri, 15 Oct 2021).
| To the developers/maintainers of the MDTS package: - Please allow up to 24 hours (and sometimes 48 hours) for your latest push to git@git.bioconductor.org:packages/MDTS.git to reflect on this report. See How and When does the builder pull? When will my changes propagate? here for more information. - Make sure to use the following settings in order to reproduce any error or warning you see on this page. | 
| Package 1059/2041 | Hostname | OS / Arch | INSTALL | BUILD | CHECK | BUILD BIN | ||||||||
| MDTS 1.12.0  (landing page) Jack M.. Fu 
 | nebbiolo1 | Linux (Ubuntu 20.04.2 LTS) / x86_64 | OK | OK | OK |  | ||||||||
| tokay2 | Windows Server 2012 R2 Standard / x64 | OK | OK | OK | OK |  | ||||||||
| machv2 | macOS 10.14.6 Mojave / x86_64 | OK | OK | OK | OK |  | ||||||||
| Package: MDTS | 
| Version: 1.12.0 | 
| Command: rm -rf MDTS.buildbin-libdir && mkdir MDTS.buildbin-libdir && C:\Users\biocbuild\bbs-3.13-bioc\R\bin\R.exe CMD INSTALL --merge-multiarch --build --library=MDTS.buildbin-libdir MDTS_1.12.0.tar.gz | 
| StartedAt: 2021-10-15 10:14:27 -0400 (Fri, 15 Oct 2021) | 
| EndedAt: 2021-10-15 10:15:58 -0400 (Fri, 15 Oct 2021) | 
| EllapsedTime: 91.6 seconds | 
| RetCode: 0 | 
| Status: OK | 
| PackageFile: MDTS_1.12.0.zip | 
| PackageFileSize: 101.2 KiB | 
##############################################################################
##############################################################################
###
### Running command:
###
###   rm -rf MDTS.buildbin-libdir && mkdir MDTS.buildbin-libdir && C:\Users\biocbuild\bbs-3.13-bioc\R\bin\R.exe CMD INSTALL --merge-multiarch --build --library=MDTS.buildbin-libdir MDTS_1.12.0.tar.gz
###
##############################################################################
##############################################################################
install for i386
* installing *source* package 'MDTS' ...
** using staged installation
** R
** inst
** byte-compile and prepare package for lazy loading
** help
*** installing help indices
  converting help for package 'MDTS'
    finding HTML links ... done
    MDTS-package                            html  
    calcBins                                html  
    calcCounts                              html  
    calcMD                                  html  
    denovoDeletions                         html  
    getMetaData                             html  
    normalizeCounts                         html  
    segmentMD                               html  
    visualizeDeletion                       html  
** building package indices
** installing vignettes
** testing if installed package can be loaded from temporary location
** testing if installed package can be loaded from final location
** testing if installed package keeps a record of temporary installation path
install for x64
* installing *source* package 'MDTS' ...
** testing if installed package can be loaded
* MD5 sums
packaged installation of 'MDTS' as MDTS_1.12.0.zip
* DONE (MDTS)