| Back to Multiple platform build/check report for BioC 3.13 | 
  | 
This page was generated on 2021-10-15 15:06:10 -0400 (Fri, 15 Oct 2021).
| 
To the developers/maintainers of the MBttest package: - Please allow up to 24 hours (and sometimes 48 hours) for your latest push to git@git.bioconductor.org:packages/MBttest.git to reflect on this report. See How and When does the builder pull? When will my changes propagate? here for more information. - Make sure to use the following settings in order to reproduce any error or warning you see on this page.  | 
| Package 1053/2041 | Hostname | OS / Arch | INSTALL | BUILD | CHECK | BUILD BIN | ||||||||
| MBttest 1.20.0  (landing page) Yuan-De Tan 
  | nebbiolo1 | Linux (Ubuntu 20.04.2 LTS) / x86_64 | OK | OK | OK | |||||||||
| tokay2 | Windows Server 2012 R2 Standard / x64 | OK | OK | OK | OK | |||||||||
| machv2 | macOS 10.14.6 Mojave / x86_64 | OK | OK | OK | OK | |||||||||
| Package: MBttest | 
| Version: 1.20.0 | 
| Command: rm -rf MBttest.buildbin-libdir && mkdir MBttest.buildbin-libdir && C:\Users\biocbuild\bbs-3.13-bioc\R\bin\R.exe CMD INSTALL --merge-multiarch --build --library=MBttest.buildbin-libdir MBttest_1.20.0.tar.gz | 
| StartedAt: 2021-10-15 10:13:45 -0400 (Fri, 15 Oct 2021) | 
| EndedAt: 2021-10-15 10:15:16 -0400 (Fri, 15 Oct 2021) | 
| EllapsedTime: 90.9 seconds | 
| RetCode: 0 | 
| Status: OK | 
| PackageFile: MBttest_1.20.0.zip | 
| PackageFileSize: 2.619 MiB | 
##############################################################################
##############################################################################
###
### Running command:
###
###   rm -rf MBttest.buildbin-libdir && mkdir MBttest.buildbin-libdir && C:\Users\biocbuild\bbs-3.13-bioc\R\bin\R.exe CMD INSTALL --merge-multiarch --build --library=MBttest.buildbin-libdir MBttest_1.20.0.tar.gz
###
##############################################################################
##############################################################################
install for i386
* installing *source* package 'MBttest' ...
** using staged installation
** R
** data
** inst
** byte-compile and prepare package for lazy loading
** help
*** installing help indices
  converting help for package 'MBttest'
    finding HTML links ... done
    MBttest-package                         html  
    betaparametVP                           html  
    betaparametab                           html  
    betaparametw                            html  
    betattest                               html  
    dat                                     html  
    jkttcell                                html  
    maplot                                  html  
    mbetattest                              html  
    mtprocedure                             html  
    mtpvadjust                              html  
    myheatmap                               html  
    oddratio                                html  
    pratio                                  html  
    simulat                                 html  
    skjt                                    html  
    smbetattest                             html  
** building package indices
** installing vignettes
** testing if installed package can be loaded from temporary location
** testing if installed package can be loaded from final location
** testing if installed package keeps a record of temporary installation path
install for x64
* installing *source* package 'MBttest' ...
** testing if installed package can be loaded
* MD5 sums
packaged installation of 'MBttest' as MBttest_1.20.0.zip
* DONE (MBttest)