| Back to Multiple platform build/check report for BioC 3.13 |
|
This page was generated on 2021-10-15 15:05:44 -0400 (Fri, 15 Oct 2021).
|
To the developers/maintainers of the MAST package: - Please allow up to 24 hours (and sometimes 48 hours) for your latest push to git@git.bioconductor.org:packages/MAST.git to reflect on this report. See How and When does the builder pull? When will my changes propagate? here for more information. - Make sure to use the following settings in order to reproduce any error or warning you see on this page. |
| Package 1041/2041 | Hostname | OS / Arch | INSTALL | BUILD | CHECK | BUILD BIN | ||||||||
| MAST 1.18.0 (landing page) Andrew McDavid
| nebbiolo1 | Linux (Ubuntu 20.04.2 LTS) / x86_64 | OK | OK | OK | |||||||||
| tokay2 | Windows Server 2012 R2 Standard / x64 | OK | OK | OK | OK | |||||||||
| machv2 | macOS 10.14.6 Mojave / x86_64 | OK | OK | OK | OK | |||||||||
| Package: MAST |
| Version: 1.18.0 |
| Command: /home/biocbuild/bbs-3.13-bioc/R/bin/R CMD check --install=check:MAST.install-out.txt --library=/home/biocbuild/bbs-3.13-bioc/R/library --no-vignettes --timings MAST_1.18.0.tar.gz |
| StartedAt: 2021-10-14 10:26:57 -0400 (Thu, 14 Oct 2021) |
| EndedAt: 2021-10-14 10:31:12 -0400 (Thu, 14 Oct 2021) |
| EllapsedTime: 254.1 seconds |
| RetCode: 0 |
| Status: OK |
| CheckDir: MAST.Rcheck |
| Warnings: 0 |
############################################################################## ############################################################################## ### ### Running command: ### ### /home/biocbuild/bbs-3.13-bioc/R/bin/R CMD check --install=check:MAST.install-out.txt --library=/home/biocbuild/bbs-3.13-bioc/R/library --no-vignettes --timings MAST_1.18.0.tar.gz ### ############################################################################## ############################################################################## * using log directory ‘/home/biocbuild/bbs-3.13-bioc/meat/MAST.Rcheck’ * using R version 4.1.1 (2021-08-10) * using platform: x86_64-pc-linux-gnu (64-bit) * using session charset: UTF-8 * using option ‘--no-vignettes’ * checking for file ‘MAST/DESCRIPTION’ ... OK * checking extension type ... Package * this is package ‘MAST’ version ‘1.18.0’ * package encoding: UTF-8 * checking package namespace information ... OK * checking package dependencies ... OK * checking if this is a source package ... OK * checking if there is a namespace ... OK * checking for hidden files and directories ... NOTE Found the following hidden files and directories: .travis.yml These were most likely included in error. See section ‘Package structure’ in the ‘Writing R Extensions’ manual. * checking for portable file names ... OK * checking for sufficient/correct file permissions ... OK * checking whether package ‘MAST’ can be installed ... OK * checking installed package size ... OK * checking package directory ... OK * checking ‘build’ directory ... OK * checking DESCRIPTION meta-information ... OK * checking top-level files ... OK * checking for left-over files ... OK * checking index information ... OK * checking package subdirectories ... OK * checking R files for non-ASCII characters ... OK * checking R files for syntax errors ... OK * checking whether the package can be loaded ... OK * checking whether the package can be loaded with stated dependencies ... OK * checking whether the package can be unloaded cleanly ... OK * checking whether the namespace can be loaded with stated dependencies ... OK * checking whether the namespace can be unloaded cleanly ... OK * checking dependencies in R code ... OK * checking S3 generic/method consistency ... OK * checking replacement functions ... OK * checking foreign function calls ... OK * checking R code for possible problems ... OK * checking Rd files ... OK * checking Rd metadata ... OK * checking Rd cross-references ... OK * checking for missing documentation entries ... OK * checking for code/documentation mismatches ... OK * checking Rd \usage sections ... OK * checking Rd contents ... OK * checking for unstated dependencies in examples ... OK * checking contents of ‘data’ directory ... OK * checking data for non-ASCII characters ... OK * checking LazyData ... OK * checking data for ASCII and uncompressed saves ... OK * checking files in ‘vignettes’ ... OK * checking examples ... OK * checking for unstated dependencies in ‘tests’ ... OK * checking tests ... Running ‘testthat.R’ OK * checking for unstated dependencies in vignettes ... OK * checking package vignettes in ‘inst/doc’ ... OK * checking running R code from vignettes ... SKIPPED * checking re-building of vignette outputs ... SKIPPED * checking PDF version of manual ... OK * DONE Status: 1 NOTE See ‘/home/biocbuild/bbs-3.13-bioc/meat/MAST.Rcheck/00check.log’ for details.
MAST.Rcheck/00install.out
############################################################################## ############################################################################## ### ### Running command: ### ### /home/biocbuild/bbs-3.13-bioc/R/bin/R CMD INSTALL MAST ### ############################################################################## ############################################################################## * installing to library ‘/home/biocbuild/bbs-3.13-bioc/R/library’ * installing *source* package ‘MAST’ ... ** using staged installation ** R ** data *** moving datasets to lazyload DB ** inst ** byte-compile and prepare package for lazy loading ** help *** installing help indices ** building package indices ** installing vignettes ** testing if installed package can be loaded from temporary location ** testing if installed package can be loaded from final location ** testing if installed package keeps a record of temporary installation path * DONE (MAST)
MAST.Rcheck/tests/testthat.Rout
R version 4.1.1 (2021-08-10) -- "Kick Things"
Copyright (C) 2021 The R Foundation for Statistical Computing
Platform: x86_64-pc-linux-gnu (64-bit)
R is free software and comes with ABSOLUTELY NO WARRANTY.
You are welcome to redistribute it under certain conditions.
Type 'license()' or 'licence()' for distribution details.
R is a collaborative project with many contributors.
Type 'contributors()' for more information and
'citation()' on how to cite R or R packages in publications.
Type 'demo()' for some demos, 'help()' for on-line help, or
'help.start()' for an HTML browser interface to help.
Type 'q()' to quit R.
> library(testthat)
> test_check("MAST")
Loading required package: MAST
Loading required package: SingleCellExperiment
Loading required package: SummarizedExperiment
Loading required package: MatrixGenerics
Loading required package: matrixStats
Attaching package: 'MatrixGenerics'
The following objects are masked from 'package:matrixStats':
colAlls, colAnyNAs, colAnys, colAvgsPerRowSet, colCollapse,
colCounts, colCummaxs, colCummins, colCumprods, colCumsums,
colDiffs, colIQRDiffs, colIQRs, colLogSumExps, colMadDiffs,
colMads, colMaxs, colMeans2, colMedians, colMins, colOrderStats,
colProds, colQuantiles, colRanges, colRanks, colSdDiffs, colSds,
colSums2, colTabulates, colVarDiffs, colVars, colWeightedMads,
colWeightedMeans, colWeightedMedians, colWeightedSds,
colWeightedVars, rowAlls, rowAnyNAs, rowAnys, rowAvgsPerColSet,
rowCollapse, rowCounts, rowCummaxs, rowCummins, rowCumprods,
rowCumsums, rowDiffs, rowIQRDiffs, rowIQRs, rowLogSumExps,
rowMadDiffs, rowMads, rowMaxs, rowMeans2, rowMedians, rowMins,
rowOrderStats, rowProds, rowQuantiles, rowRanges, rowRanks,
rowSdDiffs, rowSds, rowSums2, rowTabulates, rowVarDiffs, rowVars,
rowWeightedMads, rowWeightedMeans, rowWeightedMedians,
rowWeightedSds, rowWeightedVars
Loading required package: GenomicRanges
Loading required package: stats4
Loading required package: BiocGenerics
Loading required package: parallel
Attaching package: 'BiocGenerics'
The following objects are masked from 'package:parallel':
clusterApply, clusterApplyLB, clusterCall, clusterEvalQ,
clusterExport, clusterMap, parApply, parCapply, parLapply,
parLapplyLB, parRapply, parSapply, parSapplyLB
The following objects are masked from 'package:stats':
IQR, mad, sd, var, xtabs
The following objects are masked from 'package:base':
Filter, Find, Map, Position, Reduce, anyDuplicated, append,
as.data.frame, basename, cbind, colnames, dirname, do.call,
duplicated, eval, evalq, get, grep, grepl, intersect, is.unsorted,
lapply, mapply, match, mget, order, paste, pmax, pmax.int, pmin,
pmin.int, rank, rbind, rownames, sapply, setdiff, sort, table,
tapply, union, unique, unsplit, which.max, which.min
Loading required package: S4Vectors
Attaching package: 'S4Vectors'
The following objects are masked from 'package:base':
I, expand.grid, unname
Loading required package: IRanges
Loading required package: GenomeInfoDb
Loading required package: Biobase
Welcome to Bioconductor
Vignettes contain introductory material; view with
'browseVignettes()'. To cite Bioconductor, see
'citation("Biobase")', and for packages 'citation("pkgname")'.
Attaching package: 'Biobase'
The following object is masked from 'package:MatrixGenerics':
rowMedians
The following objects are masked from 'package:matrixStats':
anyMissing, rowMedians
Error : number of levels of each grouping factor must be < number of observations (problems: Subject.ID)
(0.0426,0.354] (0.354,0.757] (0.757,1.28] (1.28,1.96] (1.96,2.84]
2.258200 2.258200 2.258200 2.258200 2.258200
(2.84,3.99] (3.99,13.2]
2.258200 3.313588
(0.0602,0.436] (0.436,0.67] (0.67,0.944] (0.944,1.26] (1.26,1.63]
1.967142 1.967142 1.967142 2.003488 2.003488
(1.63,2.06] (2.06,2.56] (2.56,3.83]
2.600202 2.600202 2.600202
(0.03,1.56] (1.56,5.36] (5.36,14.8] (14.8,9.25e+03]
238.2279 238.2279 238.2279 4525.1912
Error : grouping factors must have > 1 sampled level
NULL
NULL
NULL
Error in (function (x, y, weights = rep.int(1, nobs), start = NULL, etastart = NULL, :
NAs in V(mu)
══ Skipped tests ═══════════════════════════════════════════════════════════════
• empty test (5)
[ FAIL 0 | WARN 3 | SKIP 5 | PASS 293 ]
>
> proc.time()
user system elapsed
49.985 1.822 64.753
MAST.Rcheck/MAST-Ex.timings
| name | user | system | elapsed | |
| Drop | 0.001 | 0.000 | 0.000 | |
| FromFlatDF | 1.594 | 0.028 | 1.563 | |
| FromMatrix | 0.312 | 0.000 | 0.312 | |
| Hypothesis | 0.006 | 0.000 | 0.006 | |
| LRT | 0.169 | 0.024 | 0.185 | |
| ZlmFit-class | 0.988 | 0.024 | 1.012 | |
| applyFlat | 0.002 | 0.000 | 0.002 | |
| bootVcov1 | 0.656 | 0.040 | 0.696 | |
| calcZ | 1.239 | 0.004 | 1.243 | |
| collectResiduals | 1.106 | 0.016 | 1.121 | |
| computeEtFromCt | 0.031 | 0.008 | 0.039 | |
| convertMASTClassicToSingleCellAssay | 0.397 | 0.004 | 0.401 | |
| defaultAssay | 0.041 | 0.004 | 0.045 | |
| defaultPrior | 0.000 | 0.000 | 0.001 | |
| expavg | 0.000 | 0.000 | 0.001 | |
| filterLowExpressedGenes | 0.290 | 0.012 | 0.302 | |
| freq | 0.033 | 0.004 | 0.037 | |
| getConcordance | 0.525 | 0.044 | 0.541 | |
| getwellKey | 0.014 | 0.008 | 0.021 | |
| gseaAfterBoot | 1.304 | 0.008 | 1.313 | |
| hushWarning | 0.001 | 0.000 | 0.001 | |
| impute | 1.142 | 0.020 | 1.162 | |
| invlogit | 0.001 | 0.000 | 0.000 | |
| logFC | 0.376 | 0.008 | 0.383 | |
| logmean | 0.001 | 0.000 | 0.001 | |
| lrTest | 0.863 | 0.016 | 0.878 | |
| mast_filter | 1.455 | 0.016 | 1.472 | |
| melt.SingleCellAssay | 0.486 | 0.012 | 0.489 | |
| plot.thresholdSCRNACountMatrix | 1.195 | 0.128 | 1.323 | |
| plotSCAConcordance | 0.765 | 0.028 | 0.763 | |
| predict.ZlmFit | 0.941 | 0.031 | 0.974 | |
| se.coef | 0.712 | 0.048 | 0.760 | |
| split-SingleCellAssay-character-method | 1.073 | 0.007 | 1.082 | |
| stat_ell | 0.998 | 0.001 | 0.998 | |
| subset-SingleCellAssay-method | 0.306 | 0.012 | 0.318 | |
| summary-GSEATests-method | 1.200 | 0.043 | 1.243 | |
| summary-ZlmFit-method | 1.154 | 0.105 | 1.258 | |
| thresholdSCRNACountMatrix | 0.412 | 0.028 | 0.440 | |
| waldTest | 0.687 | 0.011 | 0.700 | |
| zlm | 0.385 | 0.001 | 0.384 | |