| Back to Multiple platform build/check report for BioC 3.13 |
|
This page was generated on 2021-10-15 15:06:10 -0400 (Fri, 15 Oct 2021).
|
To the developers/maintainers of the MADSEQ package: - Please allow up to 24 hours (and sometimes 48 hours) for your latest push to git@git.bioconductor.org:packages/MADSEQ.git to reflect on this report. See How and When does the builder pull? When will my changes propagate? here for more information. - Make sure to use the following settings in order to reproduce any error or warning you see on this page. |
| Package 1020/2041 | Hostname | OS / Arch | INSTALL | BUILD | CHECK | BUILD BIN | ||||||||
| MADSEQ 1.18.0 (landing page) Yu Kong
| nebbiolo1 | Linux (Ubuntu 20.04.2 LTS) / x86_64 | OK | OK | OK | |||||||||
| tokay2 | Windows Server 2012 R2 Standard / x64 | OK | OK | OK | OK | |||||||||
| machv2 | macOS 10.14.6 Mojave / x86_64 | OK | OK | OK | OK | |||||||||
| Package: MADSEQ |
| Version: 1.18.0 |
| Command: C:\cygwin\bin\curl.exe -O http://155.52.207.165/BBS/3.13/bioc/src/contrib/MADSEQ_1.18.0.tar.gz && rm -rf MADSEQ.buildbin-libdir && mkdir MADSEQ.buildbin-libdir && C:\Users\biocbuild\bbs-3.13-bioc\R\bin\R.exe CMD INSTALL --merge-multiarch --build --library=MADSEQ.buildbin-libdir MADSEQ_1.18.0.tar.gz && C:\Users\biocbuild\bbs-3.13-bioc\R\bin\R.exe CMD INSTALL MADSEQ_1.18.0.zip && rm MADSEQ_1.18.0.tar.gz MADSEQ_1.18.0.zip |
| StartedAt: 2021-10-14 10:33:12 -0400 (Thu, 14 Oct 2021) |
| EndedAt: 2021-10-14 10:34:32 -0400 (Thu, 14 Oct 2021) |
| EllapsedTime: 79.7 seconds |
| RetCode: 0 |
| Status: OK |
##############################################################################
##############################################################################
###
### Running command:
###
### C:\cygwin\bin\curl.exe -O http://155.52.207.165/BBS/3.13/bioc/src/contrib/MADSEQ_1.18.0.tar.gz && rm -rf MADSEQ.buildbin-libdir && mkdir MADSEQ.buildbin-libdir && C:\Users\biocbuild\bbs-3.13-bioc\R\bin\R.exe CMD INSTALL --merge-multiarch --build --library=MADSEQ.buildbin-libdir MADSEQ_1.18.0.tar.gz && C:\Users\biocbuild\bbs-3.13-bioc\R\bin\R.exe CMD INSTALL MADSEQ_1.18.0.zip && rm MADSEQ_1.18.0.tar.gz MADSEQ_1.18.0.zip
###
##############################################################################
##############################################################################
% Total % Received % Xferd Average Speed Time Time Time Current
Dload Upload Total Spent Left Speed
0 0 0 0 0 0 0 0 --:--:-- --:--:-- --:--:-- 0
100 1871k 100 1871k 0 0 2634k 0 --:--:-- --:--:-- --:--:-- 2636k
install for i386
* installing *source* package 'MADSEQ' ...
** using staged installation
** R
** data
*** moving datasets to lazyload DB
** inst
** byte-compile and prepare package for lazy loading
** help
*** installing help indices
converting help for package 'MADSEQ'
finding HTML links ... done
MADSEQ-package html
MadSeq html
aneuploidy_chr18 html
deltaBIC html
normalizeCoverage html
finding level-2 HTML links ... done
plotFraction html
plotMadSeq html
plotMixture html
posterior html
prepareCoverageGC html
prepareHetero html
runMadSeq html
summary-method html
** building package indices
** installing vignettes
** testing if installed package can be loaded from temporary location
** testing if installed package can be loaded from final location
** testing if installed package keeps a record of temporary installation path
install for x64
* installing *source* package 'MADSEQ' ...
** testing if installed package can be loaded
* MD5 sums
packaged installation of 'MADSEQ' as MADSEQ_1.18.0.zip
* DONE (MADSEQ)
* installing to library 'C:/Users/biocbuild/bbs-3.13-bioc/R/library'
package 'MADSEQ' successfully unpacked and MD5 sums checked