| Back to Multiple platform build/check report for BioC 3.13 | 
 | 
This page was generated on 2021-10-15 15:06:10 -0400 (Fri, 15 Oct 2021).
| To the developers/maintainers of the M3Drop package: - Please allow up to 24 hours (and sometimes 48 hours) for your latest push to git@git.bioconductor.org:packages/M3Drop.git to reflect on this report. See How and When does the builder pull? When will my changes propagate? here for more information. - Make sure to use the following settings in order to reproduce any error or warning you see on this page. | 
| Package 1011/2041 | Hostname | OS / Arch | INSTALL | BUILD | CHECK | BUILD BIN | ||||||||
| M3Drop 1.18.0  (landing page) Tallulah Andrews 
 | nebbiolo1 | Linux (Ubuntu 20.04.2 LTS) / x86_64 | OK | OK | WARNINGS |  | ||||||||
| tokay2 | Windows Server 2012 R2 Standard / x64 | OK | OK | WARNINGS | OK |  | ||||||||
| machv2 | macOS 10.14.6 Mojave / x86_64 | OK | OK | WARNINGS | OK |  | ||||||||
| Package: M3Drop | 
| Version: 1.18.0 | 
| Command: rm -rf M3Drop.buildbin-libdir && mkdir M3Drop.buildbin-libdir && C:\Users\biocbuild\bbs-3.13-bioc\R\bin\R.exe CMD INSTALL --merge-multiarch --build --library=M3Drop.buildbin-libdir M3Drop_1.18.0.tar.gz | 
| StartedAt: 2021-10-15 10:08:11 -0400 (Fri, 15 Oct 2021) | 
| EndedAt: 2021-10-15 10:09:41 -0400 (Fri, 15 Oct 2021) | 
| EllapsedTime: 90.3 seconds | 
| RetCode: 0 | 
| Status: OK | 
| PackageFile: M3Drop_1.18.0.zip | 
| PackageFileSize: 12.49 MiB | 
##############################################################################
##############################################################################
###
### Running command:
###
###   rm -rf M3Drop.buildbin-libdir && mkdir M3Drop.buildbin-libdir && C:\Users\biocbuild\bbs-3.13-bioc\R\bin\R.exe CMD INSTALL --merge-multiarch --build --library=M3Drop.buildbin-libdir M3Drop_1.18.0.tar.gz
###
##############################################################################
##############################################################################
install for i386
* installing *source* package 'M3Drop' ...
** using staged installation
** R
** inst
** byte-compile and prepare package for lazy loading
** help
*** installing help indices
  converting help for package 'M3Drop'
    finding HTML links ... done
    Brennecke_getVariableGenes              html  
    Consensus_FS                            html  
    Fitting_Dropout_Models                  html  
    Imputation                              html  
    M3D_Clean_Data                          html  
    M3D_ConverData                          html  
    M3D_Differential_Expression             html  
    M3D_Dropout_Models                      html  
    M3D_Expression_Heatmap                  html  
    M3D_Get_Extremes                        html  
    M3D_Get_Heatmap_Cell_Clusters           html  
    M3D_Plotting                            html  
    M3D_Simulations                         html  
    M3D_Test_Shift                          html  
    M3D_ThreeSet_Venn                       html  
    M3D_TraditionalDE                       html  
    M3D_calc_var                            html  
    M3D_getmarkers                          html  
    M3D_horz_res                            html  
    NBumi_CheckFit                          html  
    NBumi_CoExpression                      html  
    NBumi_CompareModels                     html  
    NBumi_ConvertToInteger                  html  
    NBumi_ConvrtData                        html  
    NBumi_FSDrop                            html  
    NBumi_FSHighVar                         html  
    NBumi_FSOther                           html  
    NBumi_FitDisp                           html  
    NBumi_FitDispVsMean                     html  
    NBumi_FitModel                          html  
    NBumi_HVG                               html  
    NBumi_TradDE                            html  
    NewSimulations                          html  
    Other_FS                                html  
    PoissonUMIFeatureSelectionDropouts      html  
    bg__fit_gamma                           html  
    bg__get_stats                           html  
    bg__mean2disp                           html  
    bg__shift_size                          html  
    bg__var_vs_drop                         html  
** building package indices
** installing vignettes
** testing if installed package can be loaded from temporary location
** testing if installed package can be loaded from final location
** testing if installed package keeps a record of temporary installation path
install for x64
* installing *source* package 'M3Drop' ...
** testing if installed package can be loaded
* MD5 sums
packaged installation of 'M3Drop' as M3Drop_1.18.0.zip
* DONE (M3Drop)