Back to Multiple platform build/check report for BioC 3.13 |
|
This page was generated on 2021-10-15 15:06:40 -0400 (Fri, 15 Oct 2021).
To the developers/maintainers of the LinkHD package: - Please allow up to 24 hours (and sometimes 48 hours) for your latest push to git@git.bioconductor.org:packages/LinkHD.git to reflect on this report. See How and When does the builder pull? When will my changes propagate? here for more information. - Make sure to use the following settings in order to reproduce any error or warning you see on this page. |
Package 988/2041 | Hostname | OS / Arch | INSTALL | BUILD | CHECK | BUILD BIN | ||||||||
LinkHD 1.6.0 (landing page) "Laura M Zingaretti"
| nebbiolo1 | Linux (Ubuntu 20.04.2 LTS) / x86_64 | OK | OK | OK | ![]() | ||||||||
tokay2 | Windows Server 2012 R2 Standard / x64 | OK | OK | OK | OK | ![]() | ||||||||
machv2 | macOS 10.14.6 Mojave / x86_64 | OK | OK | OK | OK | ![]() | ||||||||
Package: LinkHD |
Version: 1.6.0 |
Command: /Library/Frameworks/R.framework/Versions/Current/Resources/bin/R CMD check --install=check:LinkHD.install-out.txt --library=/Library/Frameworks/R.framework/Versions/Current/Resources/library --no-vignettes --timings LinkHD_1.6.0.tar.gz |
StartedAt: 2021-10-14 20:29:36 -0400 (Thu, 14 Oct 2021) |
EndedAt: 2021-10-14 20:33:38 -0400 (Thu, 14 Oct 2021) |
EllapsedTime: 242.0 seconds |
RetCode: 0 |
Status: OK |
CheckDir: LinkHD.Rcheck |
Warnings: 0 |
############################################################################## ############################################################################## ### ### Running command: ### ### /Library/Frameworks/R.framework/Versions/Current/Resources/bin/R CMD check --install=check:LinkHD.install-out.txt --library=/Library/Frameworks/R.framework/Versions/Current/Resources/library --no-vignettes --timings LinkHD_1.6.0.tar.gz ### ############################################################################## ############################################################################## * using log directory ‘/Users/biocbuild/bbs-3.13-bioc/meat/LinkHD.Rcheck’ * using R version 4.1.1 (2021-08-10) * using platform: x86_64-apple-darwin17.0 (64-bit) * using session charset: UTF-8 * using option ‘--no-vignettes’ * checking for file ‘LinkHD/DESCRIPTION’ ... OK * checking extension type ... Package * this is package ‘LinkHD’ version ‘1.6.0’ * package encoding: UTF-8 * checking package namespace information ... OK * checking package dependencies ... OK * checking if this is a source package ... OK * checking if there is a namespace ... OK * checking for hidden files and directories ... NOTE Found the following hidden files and directories: .git_fetch_output.txt .git_merge_output.txt These were most likely included in error. See section ‘Package structure’ in the ‘Writing R Extensions’ manual. * checking for portable file names ... OK * checking for sufficient/correct file permissions ... OK * checking whether package ‘LinkHD’ can be installed ... OK * checking installed package size ... OK * checking package directory ... OK * checking ‘build’ directory ... OK * checking DESCRIPTION meta-information ... OK * checking top-level files ... OK * checking for left-over files ... OK * checking index information ... OK * checking package subdirectories ... OK * checking R files for non-ASCII characters ... OK * checking R files for syntax errors ... OK * checking whether the package can be loaded ... OK * checking whether the package can be loaded with stated dependencies ... OK * checking whether the package can be unloaded cleanly ... OK * checking whether the namespace can be loaded with stated dependencies ... OK * checking whether the namespace can be unloaded cleanly ... OK * checking dependencies in R code ... OK * checking S3 generic/method consistency ... OK * checking replacement functions ... OK * checking foreign function calls ... OK * checking R code for possible problems ... OK * checking Rd files ... OK * checking Rd metadata ... OK * checking Rd cross-references ... OK * checking for missing documentation entries ... OK * checking for code/documentation mismatches ... OK * checking Rd \usage sections ... OK * checking Rd contents ... OK * checking for unstated dependencies in examples ... OK * checking contents of ‘data’ directory ... OK * checking data for non-ASCII characters ... OK * checking LazyData ... OK * checking data for ASCII and uncompressed saves ... OK * checking files in ‘vignettes’ ... OK * checking examples ... OK * checking for unstated dependencies in vignettes ... OK * checking package vignettes in ‘inst/doc’ ... OK * checking running R code from vignettes ... SKIPPED * checking re-building of vignette outputs ... SKIPPED * checking PDF version of manual ... OK * DONE Status: 1 NOTE See ‘/Users/biocbuild/bbs-3.13-bioc/meat/LinkHD.Rcheck/00check.log’ for details.
LinkHD.Rcheck/00install.out
############################################################################## ############################################################################## ### ### Running command: ### ### /Library/Frameworks/R.framework/Versions/Current/Resources/bin/R CMD INSTALL LinkHD ### ############################################################################## ############################################################################## * installing to library ‘/Library/Frameworks/R.framework/Versions/4.1/Resources/library’ * installing *source* package ‘LinkHD’ ... ** using staged installation ** R ** data *** moving datasets to lazyload DB ** byte-compile and prepare package for lazy loading ** help *** installing help indices ** building package indices ** installing vignettes ** testing if installed package can be loaded from temporary location ** testing if installed package can be loaded from final location ** testing if installed package keeps a record of temporary installation path * DONE (LinkHD)
LinkHD.Rcheck/LinkHD-Ex.timings
name | user | system | elapsed | |
Compromise_matrix-methods | 1.381 | 0.143 | 1.524 | |
DataProcessing | 0.014 | 0.003 | 0.018 | |
DistStatis-Class | 0.001 | 0.000 | 0.001 | |
DistStatis-CompromisePlot | 0.870 | 0.021 | 0.892 | |
DistStatis-CorrelationPlot | 0.787 | 0.018 | 0.806 | |
DistStatis-GlobalPlot | 1.224 | 0.028 | 1.261 | |
Euclid_Im-methods | 0.657 | 0.032 | 0.690 | |
Inertia_RV-methods | 0.568 | 0.008 | 0.576 | |
Inertia_comp-methods | 1.115 | 0.026 | 1.141 | |
LinkData-LinkData | 0.425 | 0.012 | 0.436 | |
OTU2Taxa-OTU2Taxa | 4.538 | 0.107 | 4.649 | |
RQO-methods | 1.176 | 0.019 | 1.196 | |
Read_Data | 0.000 | 0.000 | 0.001 | |
Ruminotypes | 0.001 | 0.001 | 0.003 | |
Taraoceans | 0.001 | 0.001 | 0.003 | |
Trajectories-methods | 1.050 | 0.422 | 1.473 | |
VarSelection-Class | 0.000 | 0.000 | 0.001 | |
VarSelection | 2.698 | 0.023 | 2.723 | |
VarTable-methods | 2.837 | 0.022 | 2.862 | |
Var_coordinates-methods | 2.999 | 0.011 | 3.011 | |
Variables-methods | 3.573 | 0.023 | 3.601 | |
compromise_coords-methods | 0.541 | 0.017 | 0.558 | |
correl-methods | 0.581 | 0.012 | 0.593 | |
dAB-dAB | 1.001 | 0.019 | 1.021 | |
sign_values-methods | 2.801 | 0.051 | 2.853 | |