| Back to Multiple platform build/check report for BioC 3.13 |
|
This page was generated on 2021-10-15 15:06:09 -0400 (Fri, 15 Oct 2021).
|
To the developers/maintainers of the LPE package: - Please allow up to 24 hours (and sometimes 48 hours) for your latest push to git@git.bioconductor.org:packages/LPE.git to reflect on this report. See How and When does the builder pull? When will my changes propagate? here for more information. - Make sure to use the following settings in order to reproduce any error or warning you see on this page. |
| Package 1002/2041 | Hostname | OS / Arch | INSTALL | BUILD | CHECK | BUILD BIN | ||||||||
| LPE 1.66.0 (landing page) Nitin Jain
| nebbiolo1 | Linux (Ubuntu 20.04.2 LTS) / x86_64 | OK | OK | OK | |||||||||
| tokay2 | Windows Server 2012 R2 Standard / x64 | OK | OK | OK | OK | |||||||||
| machv2 | macOS 10.14.6 Mojave / x86_64 | OK | OK | OK | OK | |||||||||
| Package: LPE |
| Version: 1.66.0 |
| Command: rm -rf LPE.buildbin-libdir && mkdir LPE.buildbin-libdir && C:\Users\biocbuild\bbs-3.13-bioc\R\bin\R.exe CMD INSTALL --merge-multiarch --build --library=LPE.buildbin-libdir LPE_1.66.0.tar.gz |
| StartedAt: 2021-10-15 10:06:59 -0400 (Fri, 15 Oct 2021) |
| EndedAt: 2021-10-15 10:08:27 -0400 (Fri, 15 Oct 2021) |
| EllapsedTime: 88.5 seconds |
| RetCode: 0 |
| Status: OK |
| PackageFile: LPE_1.66.0.zip |
| PackageFileSize: 410.9 KiB |
##############################################################################
##############################################################################
###
### Running command:
###
### rm -rf LPE.buildbin-libdir && mkdir LPE.buildbin-libdir && C:\Users\biocbuild\bbs-3.13-bioc\R\bin\R.exe CMD INSTALL --merge-multiarch --build --library=LPE.buildbin-libdir LPE_1.66.0.tar.gz
###
##############################################################################
##############################################################################
install for i386
* installing *source* package 'LPE' ...
** using staged installation
** R
** data
** inst
** byte-compile and prepare package for lazy loading
** help
*** installing help indices
converting help for package 'LPE'
finding HTML links ... done
Ley html
am.trans html
baseOlig.error html
baseOlig.error.step1 html
baseOlig.error.step2 html
fdr.adjust html
fixbounds.predict.smooth.spline html
iqr html
lowess.normalize html
lpe html
mt.rawp2adjp html
n.genes.adaptive.int html
permute html
preprocess html
quan.norm html
quartile.normalize html
resamp.adj html
** building package indices
** installing vignettes
** testing if installed package can be loaded from temporary location
** testing if installed package can be loaded from final location
** testing if installed package keeps a record of temporary installation path
install for x64
* installing *source* package 'LPE' ...
** testing if installed package can be loaded
* MD5 sums
packaged installation of 'LPE' as LPE_1.66.0.zip
* DONE (LPE)