| Back to Multiple platform build/check report for BioC 3.13 |
|
This page was generated on 2021-10-15 15:06:08 -0400 (Fri, 15 Oct 2021).
|
To the developers/maintainers of the InteractiveComplexHeatmap package: - Please allow up to 24 hours (and sometimes 48 hours) for your latest push to git@git.bioconductor.org:packages/InteractiveComplexHeatmap.git to reflect on this report. See How and When does the builder pull? When will my changes propagate? here for more information. - Make sure to use the following settings in order to reproduce any error or warning you see on this page. |
| Package 930/2041 | Hostname | OS / Arch | INSTALL | BUILD | CHECK | BUILD BIN | ||||||||
| InteractiveComplexHeatmap 1.0.0 (landing page) Zuguang Gu
| nebbiolo1 | Linux (Ubuntu 20.04.2 LTS) / x86_64 | OK | OK | OK | |||||||||
| tokay2 | Windows Server 2012 R2 Standard / x64 | OK | OK | OK | OK | |||||||||
| machv2 | macOS 10.14.6 Mojave / x86_64 | OK | OK | OK | OK | |||||||||
| Package: InteractiveComplexHeatmap |
| Version: 1.0.0 |
| Command: C:\cygwin\bin\curl.exe -O http://155.52.207.165/BBS/3.13/bioc/src/contrib/InteractiveComplexHeatmap_1.0.0.tar.gz && rm -rf InteractiveComplexHeatmap.buildbin-libdir && mkdir InteractiveComplexHeatmap.buildbin-libdir && C:\Users\biocbuild\bbs-3.13-bioc\R\bin\R.exe CMD INSTALL --merge-multiarch --build --library=InteractiveComplexHeatmap.buildbin-libdir InteractiveComplexHeatmap_1.0.0.tar.gz && C:\Users\biocbuild\bbs-3.13-bioc\R\bin\R.exe CMD INSTALL InteractiveComplexHeatmap_1.0.0.zip && rm InteractiveComplexHeatmap_1.0.0.tar.gz InteractiveComplexHeatmap_1.0.0.zip |
| StartedAt: 2021-10-14 10:05:43 -0400 (Thu, 14 Oct 2021) |
| EndedAt: 2021-10-14 10:06:50 -0400 (Thu, 14 Oct 2021) |
| EllapsedTime: 66.9 seconds |
| RetCode: 0 |
| Status: OK |
##############################################################################
##############################################################################
###
### Running command:
###
### C:\cygwin\bin\curl.exe -O http://155.52.207.165/BBS/3.13/bioc/src/contrib/InteractiveComplexHeatmap_1.0.0.tar.gz && rm -rf InteractiveComplexHeatmap.buildbin-libdir && mkdir InteractiveComplexHeatmap.buildbin-libdir && C:\Users\biocbuild\bbs-3.13-bioc\R\bin\R.exe CMD INSTALL --merge-multiarch --build --library=InteractiveComplexHeatmap.buildbin-libdir InteractiveComplexHeatmap_1.0.0.tar.gz && C:\Users\biocbuild\bbs-3.13-bioc\R\bin\R.exe CMD INSTALL InteractiveComplexHeatmap_1.0.0.zip && rm InteractiveComplexHeatmap_1.0.0.tar.gz InteractiveComplexHeatmap_1.0.0.zip
###
##############################################################################
##############################################################################
% Total % Received % Xferd Average Speed Time Time Time Current
Dload Upload Total Spent Left Speed
0 0 0 0 0 0 0 0 --:--:-- --:--:-- --:--:-- 0
100 289k 100 289k 0 0 661k 0 --:--:-- --:--:-- --:--:-- 663k
install for i386
* installing *source* package 'InteractiveComplexHeatmap' ...
** using staged installation
** R
** data
** inst
** byte-compile and prepare package for lazy loading
** help
*** installing help indices
converting help for package 'InteractiveComplexHeatmap'
finding HTML links ... done
HeatmapInfoOutput html
InteractiveComplexHeatmapModal html
InteractiveComplexHeatmapOutput html
InteractiveComplexHeatmapWidget html
all_column_indices html
all_row_indices html
getPositionFromBrush html
getPositionFromClick html
getPositionFromDblclick html
getPositionFromHover html
htPositionsOnDevice html
htShiny html
htShinyExample html
ht_shiny html
interactivate.DESeqDataSet html
interactivate html
interactivate.kde html
interactivateDensity2D html
makeInteractiveComplexHeatmap html
originalHeatmapOutput html
rand_mat html
record_observation html
selectArea html
selectPosition html
subHeatmapOutput html
** building package indices
** installing vignettes
** testing if installed package can be loaded from temporary location
** testing if installed package can be loaded from final location
** testing if installed package keeps a record of temporary installation path
install for x64
* installing *source* package 'InteractiveComplexHeatmap' ...
** testing if installed package can be loaded
* MD5 sums
packaged installation of 'InteractiveComplexHeatmap' as InteractiveComplexHeatmap_1.0.0.zip
* DONE (InteractiveComplexHeatmap)
* installing to library 'C:/Users/biocbuild/bbs-3.13-bioc/R/library'
package 'InteractiveComplexHeatmap' successfully unpacked and MD5 sums checked