| Back to Multiple platform build/check report for BioC 3.13 |
|
This page was generated on 2021-10-15 15:06:08 -0400 (Fri, 15 Oct 2021).
|
To the developers/maintainers of the InTAD package: - Please allow up to 24 hours (and sometimes 48 hours) for your latest push to git@git.bioconductor.org:packages/InTAD.git to reflect on this report. See How and When does the builder pull? When will my changes propagate? here for more information. - Make sure to use the following settings in order to reproduce any error or warning you see on this page. |
| Package 926/2041 | Hostname | OS / Arch | INSTALL | BUILD | CHECK | BUILD BIN | ||||||||
| InTAD 1.12.0 (landing page) Konstantin Okonechnikov
| nebbiolo1 | Linux (Ubuntu 20.04.2 LTS) / x86_64 | OK | OK | OK | |||||||||
| tokay2 | Windows Server 2012 R2 Standard / x64 | OK | OK | OK | OK | |||||||||
| machv2 | macOS 10.14.6 Mojave / x86_64 | OK | OK | OK | OK | |||||||||
| Package: InTAD |
| Version: 1.12.0 |
| Command: C:\cygwin\bin\curl.exe -O http://155.52.207.165/BBS/3.13/bioc/src/contrib/InTAD_1.12.0.tar.gz && rm -rf InTAD.buildbin-libdir && mkdir InTAD.buildbin-libdir && C:\Users\biocbuild\bbs-3.13-bioc\R\bin\R.exe CMD INSTALL --merge-multiarch --build --library=InTAD.buildbin-libdir InTAD_1.12.0.tar.gz && C:\Users\biocbuild\bbs-3.13-bioc\R\bin\R.exe CMD INSTALL InTAD_1.12.0.zip && rm InTAD_1.12.0.tar.gz InTAD_1.12.0.zip |
| StartedAt: 2021-10-14 11:03:31 -0400 (Thu, 14 Oct 2021) |
| EndedAt: 2021-10-14 11:04:34 -0400 (Thu, 14 Oct 2021) |
| EllapsedTime: 62.3 seconds |
| RetCode: 0 |
| Status: OK |
##############################################################################
##############################################################################
###
### Running command:
###
### C:\cygwin\bin\curl.exe -O http://155.52.207.165/BBS/3.13/bioc/src/contrib/InTAD_1.12.0.tar.gz && rm -rf InTAD.buildbin-libdir && mkdir InTAD.buildbin-libdir && C:\Users\biocbuild\bbs-3.13-bioc\R\bin\R.exe CMD INSTALL --merge-multiarch --build --library=InTAD.buildbin-libdir InTAD_1.12.0.tar.gz && C:\Users\biocbuild\bbs-3.13-bioc\R\bin\R.exe CMD INSTALL InTAD_1.12.0.zip && rm InTAD_1.12.0.tar.gz InTAD_1.12.0.zip
###
##############################################################################
##############################################################################
% Total % Received % Xferd Average Speed Time Time Time Current
Dload Upload Total Spent Left Speed
0 0 0 0 0 0 0 0 --:--:-- --:--:-- --:--:-- 0
99 474k 99 470k 0 0 1245k 0 --:--:-- --:--:-- --:--:-- 1244k
100 474k 100 474k 0 0 1254k 0 --:--:-- --:--:-- --:--:-- 1254k
install for i386
* installing *source* package 'InTAD' ...
** using staged installation
** R
** data
*** moving datasets to lazyload DB
** inst
** byte-compile and prepare package for lazy loading
** help
*** installing help indices
converting help for package 'InTAD'
finding HTML links ... done
InTADSig html
combineInTAD html
combineWithLoops html
enhSel html
enhSelGR html
exprs html
filterGeneExpr html
findCorFromLoops html
findCorrelation html
fnSE html
geneCoords html
get.enr.bg.normfit html
loadSigInTAD html
loopsDfSel html
mbAnnData html
newSigInTAD html
plotCorAcrossRef html
plotCorrelation html
rpkmCountsSel html
sigCoords html
signals html
tadGR html
txsSel html
** building package indices
** installing vignettes
** testing if installed package can be loaded from temporary location
** testing if installed package can be loaded from final location
** testing if installed package keeps a record of temporary installation path
install for x64
* installing *source* package 'InTAD' ...
** testing if installed package can be loaded
* MD5 sums
packaged installation of 'InTAD' as InTAD_1.12.0.zip
* DONE (InTAD)
* installing to library 'C:/Users/biocbuild/bbs-3.13-bioc/R/library'
package 'InTAD' successfully unpacked and MD5 sums checked