| Back to Multiple platform build/check report for BioC 3.13 |
|
This page was generated on 2021-10-15 15:06:08 -0400 (Fri, 15 Oct 2021).
|
To the developers/maintainers of the IdeoViz package: - Please allow up to 24 hours (and sometimes 48 hours) for your latest push to git@git.bioconductor.org:packages/IdeoViz.git to reflect on this report. See How and When does the builder pull? When will my changes propagate? here for more information. - Make sure to use the following settings in order to reproduce any error or warning you see on this page. |
| Package 900/2041 | Hostname | OS / Arch | INSTALL | BUILD | CHECK | BUILD BIN | ||||||||
| IdeoViz 1.28.0 (landing page) Shraddha Pai
| nebbiolo1 | Linux (Ubuntu 20.04.2 LTS) / x86_64 | OK | OK | WARNINGS | |||||||||
| tokay2 | Windows Server 2012 R2 Standard / x64 | OK | OK | WARNINGS | OK | |||||||||
| machv2 | macOS 10.14.6 Mojave / x86_64 | OK | OK | WARNINGS | OK | |||||||||
| Package: IdeoViz |
| Version: 1.28.0 |
| Command: rm -rf IdeoViz.buildbin-libdir && mkdir IdeoViz.buildbin-libdir && C:\Users\biocbuild\bbs-3.13-bioc\R\bin\R.exe CMD INSTALL --merge-multiarch --build --library=IdeoViz.buildbin-libdir IdeoViz_1.28.0.tar.gz |
| StartedAt: 2021-10-15 09:53:14 -0400 (Fri, 15 Oct 2021) |
| EndedAt: 2021-10-15 09:54:48 -0400 (Fri, 15 Oct 2021) |
| EllapsedTime: 94.1 seconds |
| RetCode: 0 |
| Status: OK |
| PackageFile: IdeoViz_1.28.0.zip |
| PackageFileSize: 1.053 MiB |
##############################################################################
##############################################################################
###
### Running command:
###
### rm -rf IdeoViz.buildbin-libdir && mkdir IdeoViz.buildbin-libdir && C:\Users\biocbuild\bbs-3.13-bioc\R\bin\R.exe CMD INSTALL --merge-multiarch --build --library=IdeoViz.buildbin-libdir IdeoViz_1.28.0.tar.gz
###
##############################################################################
##############################################################################
install for i386
* installing *source* package 'IdeoViz' ...
** using staged installation
** R
** data
** inst
** byte-compile and prepare package for lazy loading
** help
*** installing help indices
converting help for package 'IdeoViz'
finding HTML links ... done
GSM733664_broadPeaks html
IdeoViz-package html
avgByBin html
binned_fullGenome html
binned_multiSeries html
binned_singleSeries html
getBins html
getIdeo html
hg18_ideo html
plotChromValuePair html
plotOnIdeo html
wins html
wins_discrete html
wins_entiregenome html
** building package indices
** installing vignettes
** testing if installed package can be loaded from temporary location
** testing if installed package can be loaded from final location
** testing if installed package keeps a record of temporary installation path
install for x64
* installing *source* package 'IdeoViz' ...
** testing if installed package can be loaded
* MD5 sums
packaged installation of 'IdeoViz' as IdeoViz_1.28.0.zip
* DONE (IdeoViz)