Back to Multiple platform build/check report for BioC 3.13 |
|
This page was generated on 2021-10-15 15:06:09 -0400 (Fri, 15 Oct 2021).
To the developers/maintainers of the IVAS package: - Please allow up to 24 hours (and sometimes 48 hours) for your latest push to git@git.bioconductor.org:packages/IVAS.git to reflect on this report. See How and When does the builder pull? When will my changes propagate? here for more information. - Make sure to use the following settings in order to reproduce any error or warning you see on this page. |
Package 960/2041 | Hostname | OS / Arch | INSTALL | BUILD | CHECK | BUILD BIN | ||||||||
IVAS 2.12.0 (landing page) Seonggyun Han
| nebbiolo1 | Linux (Ubuntu 20.04.2 LTS) / x86_64 | OK | OK | WARNINGS | ![]() | ||||||||
tokay2 | Windows Server 2012 R2 Standard / x64 | OK | OK | WARNINGS | OK | ![]() | ||||||||
machv2 | macOS 10.14.6 Mojave / x86_64 | OK | OK | WARNINGS | OK | ![]() | ||||||||
Package: IVAS |
Version: 2.12.0 |
Command: C:\Users\biocbuild\bbs-3.13-bioc\R\bin\R.exe CMD check --force-multiarch --install=check:IVAS.install-out.txt --library=C:\Users\biocbuild\bbs-3.13-bioc\R\library --no-vignettes --timings IVAS_2.12.0.tar.gz |
StartedAt: 2021-10-15 01:00:08 -0400 (Fri, 15 Oct 2021) |
EndedAt: 2021-10-15 01:06:59 -0400 (Fri, 15 Oct 2021) |
EllapsedTime: 410.3 seconds |
RetCode: 0 |
Status: WARNINGS |
CheckDir: IVAS.Rcheck |
Warnings: 1 |
############################################################################## ############################################################################## ### ### Running command: ### ### C:\Users\biocbuild\bbs-3.13-bioc\R\bin\R.exe CMD check --force-multiarch --install=check:IVAS.install-out.txt --library=C:\Users\biocbuild\bbs-3.13-bioc\R\library --no-vignettes --timings IVAS_2.12.0.tar.gz ### ############################################################################## ############################################################################## * using log directory 'C:/Users/biocbuild/bbs-3.13-bioc/meat/IVAS.Rcheck' * using R version 4.1.1 (2021-08-10) * using platform: x86_64-w64-mingw32 (64-bit) * using session charset: ISO8859-1 * using option '--no-vignettes' * checking for file 'IVAS/DESCRIPTION' ... OK * checking extension type ... Package * this is package 'IVAS' version '2.12.0' * checking package namespace information ... OK * checking package dependencies ... OK * checking if this is a source package ... OK * checking if there is a namespace ... OK * checking for hidden files and directories ... OK * checking for portable file names ... OK * checking whether package 'IVAS' can be installed ... WARNING Found the following significant warnings: Note: next used in wrong context: no loop is visible See 'C:/Users/biocbuild/bbs-3.13-bioc/meat/IVAS.Rcheck/00install.out' for details. Information on the location(s) of code generating the 'Note's can be obtained by re-running with environment variable R_KEEP_PKG_SOURCE set to 'yes'. * checking installed package size ... OK * checking package directory ... OK * checking 'build' directory ... OK * checking DESCRIPTION meta-information ... OK * checking top-level files ... OK * checking for left-over files ... OK * checking index information ... OK * checking package subdirectories ... OK * checking R files for non-ASCII characters ... OK * checking R files for syntax errors ... OK * loading checks for arch 'i386' ** checking whether the package can be loaded ... OK ** checking whether the package can be loaded with stated dependencies ... OK ** checking whether the package can be unloaded cleanly ... OK ** checking whether the namespace can be loaded with stated dependencies ... OK ** checking whether the namespace can be unloaded cleanly ... OK * loading checks for arch 'x64' ** checking whether the package can be loaded ... OK ** checking whether the package can be loaded with stated dependencies ... OK ** checking whether the package can be unloaded cleanly ... OK ** checking whether the namespace can be loaded with stated dependencies ... OK ** checking whether the namespace can be unloaded cleanly ... OK * checking dependencies in R code ... OK * checking S3 generic/method consistency ... OK * checking replacement functions ... OK * checking foreign function calls ... OK * checking R code for possible problems ... OK * checking Rd files ... OK * checking Rd metadata ... OK * checking Rd cross-references ... OK * checking for missing documentation entries ... OK * checking for code/documentation mismatches ... OK * checking Rd \usage sections ... OK * checking Rd contents ... OK * checking for unstated dependencies in examples ... OK * checking contents of 'data' directory ... OK * checking data for non-ASCII characters ... OK * checking data for ASCII and uncompressed saves ... OK * checking files in 'vignettes' ... OK * checking examples ... ** running examples for arch 'i386' ... OK Examples with CPU (user + system) or elapsed time > 5s user system elapsed ASdb-class 12.42 0.34 13.00 saveBplot 12.15 0.08 12.28 sQTLsFinder 11.45 0.01 11.47 ** running examples for arch 'x64' ... OK Examples with CPU (user + system) or elapsed time > 5s user system elapsed sQTLsFinder 12.72 0.08 12.81 saveBplot 12.04 0.09 12.18 ASdb-class 11.92 0.09 12.01 RatioFromFPKM 6.30 0.06 6.36 * checking for unstated dependencies in vignettes ... OK * checking package vignettes in 'inst/doc' ... OK * checking running R code from vignettes ... SKIPPED * checking re-building of vignette outputs ... SKIPPED * checking PDF version of manual ... OK * DONE Status: 1 WARNING See 'C:/Users/biocbuild/bbs-3.13-bioc/meat/IVAS.Rcheck/00check.log' for details.
IVAS.Rcheck/00install.out
############################################################################## ############################################################################## ### ### Running command: ### ### C:\cygwin\bin\curl.exe -O http://155.52.207.165/BBS/3.13/bioc/src/contrib/IVAS_2.12.0.tar.gz && rm -rf IVAS.buildbin-libdir && mkdir IVAS.buildbin-libdir && C:\Users\biocbuild\bbs-3.13-bioc\R\bin\R.exe CMD INSTALL --merge-multiarch --build --library=IVAS.buildbin-libdir IVAS_2.12.0.tar.gz && C:\Users\biocbuild\bbs-3.13-bioc\R\bin\R.exe CMD INSTALL IVAS_2.12.0.zip && rm IVAS_2.12.0.tar.gz IVAS_2.12.0.zip ### ############################################################################## ############################################################################## % Total % Received % Xferd Average Speed Time Time Time Current Dload Upload Total Spent Left Speed 0 0 0 0 0 0 0 0 --:--:-- --:--:-- --:--:-- 0 20 76515 20 15988 0 0 133k 0 --:--:-- --:--:-- --:--:-- 133k 100 76515 100 76515 0 0 483k 0 --:--:-- --:--:-- --:--:-- 482k install for i386 * installing *source* package 'IVAS' ... ** using staged installation ** R ** data ** inst ** byte-compile and prepare package for lazy loading Note: next used in wrong context: no loop is visible ** help *** installing help indices converting help for package 'IVAS' finding HTML links ... done ASdb-class html CalSigSNP html IVAS-deprecated html IVAS-package html MsqtlFinder html RatioFromFPKM html Splicingfinder html calSignificant html chrseparate html finding level-2 HTML links ... done findAlternative html findOversnp html sQTLsFinder html sampleexp html samplesnp html samplesnplocus html saveBplot html sqtlfinder html ** building package indices ** installing vignettes ** testing if installed package can be loaded from temporary location ** testing if installed package can be loaded from final location ** testing if installed package keeps a record of temporary installation path install for x64 * installing *source* package 'IVAS' ... ** testing if installed package can be loaded * MD5 sums packaged installation of 'IVAS' as IVAS_2.12.0.zip * DONE (IVAS) * installing to library 'C:/Users/biocbuild/bbs-3.13-bioc/R/library' package 'IVAS' successfully unpacked and MD5 sums checked
IVAS.Rcheck/examples_i386/IVAS-Ex.timings
|
IVAS.Rcheck/examples_x64/IVAS-Ex.timings
|