| Back to Multiple platform build/check report for BioC 3.13 |
|
This page was generated on 2021-10-15 15:06:08 -0400 (Fri, 15 Oct 2021).
|
To the developers/maintainers of the IONiseR package: - Please allow up to 24 hours (and sometimes 48 hours) for your latest push to git@git.bioconductor.org:packages/IONiseR.git to reflect on this report. See How and When does the builder pull? When will my changes propagate? here for more information. - Make sure to use the following settings in order to reproduce any error or warning you see on this page. |
| Package 938/2041 | Hostname | OS / Arch | INSTALL | BUILD | CHECK | BUILD BIN | ||||||||
| IONiseR 2.16.0 (landing page) Mike Smith
| nebbiolo1 | Linux (Ubuntu 20.04.2 LTS) / x86_64 | OK | OK | OK | |||||||||
| tokay2 | Windows Server 2012 R2 Standard / x64 | OK | OK | OK | OK | |||||||||
| machv2 | macOS 10.14.6 Mojave / x86_64 | OK | OK | OK | OK | |||||||||
| Package: IONiseR |
| Version: 2.16.0 |
| Command: rm -rf IONiseR.buildbin-libdir && mkdir IONiseR.buildbin-libdir && C:\Users\biocbuild\bbs-3.13-bioc\R\bin\R.exe CMD INSTALL --merge-multiarch --build --library=IONiseR.buildbin-libdir IONiseR_2.16.0.tar.gz |
| StartedAt: 2021-10-15 09:57:59 -0400 (Fri, 15 Oct 2021) |
| EndedAt: 2021-10-15 09:59:30 -0400 (Fri, 15 Oct 2021) |
| EllapsedTime: 91.2 seconds |
| RetCode: 0 |
| Status: OK |
| PackageFile: IONiseR_2.16.0.zip |
| PackageFileSize: 2.615 MiB |
##############################################################################
##############################################################################
###
### Running command:
###
### rm -rf IONiseR.buildbin-libdir && mkdir IONiseR.buildbin-libdir && C:\Users\biocbuild\bbs-3.13-bioc\R\bin\R.exe CMD INSTALL --merge-multiarch --build --library=IONiseR.buildbin-libdir IONiseR_2.16.0.tar.gz
###
##############################################################################
##############################################################################
install for i386
* installing *source* package 'IONiseR' ...
** using staged installation
** R
** inst
** byte-compile and prepare package for lazy loading
** help
*** installing help indices
converting help for package 'IONiseR'
finding HTML links ... done
Fast5Summary-class html
IONiseR html
baseCalled html
channelActivityPlot html
channelHeatmap html
eventData html
fast5toFastq html
fastq html
fastq2D html
fastqComplement html
fastqTemplate html
layoutPlot html
muxHeatmap html
plotActiveChannels html
plotBaseProductionRate html
plotCurrentByTime html
plotEventRate html
plotKmerFrequencyCorrelation html
plotReadAccumulation html
plotReadCategoryCounts html
plotReadCategoryQuals html
plotReadTypeProduction html
readFast5Log html
readFast5Summary html
readInfo html
** building package indices
** installing vignettes
** testing if installed package can be loaded from temporary location
** testing if installed package can be loaded from final location
** testing if installed package keeps a record of temporary installation path
install for x64
* installing *source* package 'IONiseR' ...
** testing if installed package can be loaded
* MD5 sums
packaged installation of 'IONiseR' as IONiseR_2.16.0.zip
* DONE (IONiseR)