| Back to Multiple platform build/check report for BioC 3.13 |
|
This page was generated on 2021-10-15 15:05:43 -0400 (Fri, 15 Oct 2021).
|
To the developers/maintainers of the INSPEcT package: - Please allow up to 24 hours (and sometimes 48 hours) for your latest push to git@git.bioconductor.org:packages/INSPEcT.git to reflect on this report. See How and When does the builder pull? When will my changes propagate? here for more information. - Make sure to use the following settings in order to reproduce any error or warning you see on this page. |
| Package 925/2041 | Hostname | OS / Arch | INSTALL | BUILD | CHECK | BUILD BIN | ||||||||
| INSPEcT 1.22.0 (landing page) Stefano de Pretis
| nebbiolo1 | Linux (Ubuntu 20.04.2 LTS) / x86_64 | OK | OK | OK | |||||||||
| tokay2 | Windows Server 2012 R2 Standard / x64 | OK | OK | OK | OK | |||||||||
| machv2 | macOS 10.14.6 Mojave / x86_64 | OK | OK | OK | OK | |||||||||
| Package: INSPEcT |
| Version: 1.22.0 |
| Command: /home/biocbuild/bbs-3.13-bioc/R/bin/R CMD check --install=check:INSPEcT.install-out.txt --library=/home/biocbuild/bbs-3.13-bioc/R/library --no-vignettes --timings INSPEcT_1.22.0.tar.gz |
| StartedAt: 2021-10-14 10:15:55 -0400 (Thu, 14 Oct 2021) |
| EndedAt: 2021-10-14 10:31:52 -0400 (Thu, 14 Oct 2021) |
| EllapsedTime: 956.5 seconds |
| RetCode: 0 |
| Status: OK |
| CheckDir: INSPEcT.Rcheck |
| Warnings: 0 |
##############################################################################
##############################################################################
###
### Running command:
###
### /home/biocbuild/bbs-3.13-bioc/R/bin/R CMD check --install=check:INSPEcT.install-out.txt --library=/home/biocbuild/bbs-3.13-bioc/R/library --no-vignettes --timings INSPEcT_1.22.0.tar.gz
###
##############################################################################
##############################################################################
* using log directory ‘/home/biocbuild/bbs-3.13-bioc/meat/INSPEcT.Rcheck’
* using R version 4.1.1 (2021-08-10)
* using platform: x86_64-pc-linux-gnu (64-bit)
* using session charset: UTF-8
* using option ‘--no-vignettes’
* checking for file ‘INSPEcT/DESCRIPTION’ ... OK
* checking extension type ... Package
* this is package ‘INSPEcT’ version ‘1.22.0’
* checking package namespace information ... OK
* checking package dependencies ... OK
* checking if this is a source package ... OK
* checking if there is a namespace ... OK
* checking for hidden files and directories ... OK
* checking for portable file names ... OK
* checking for sufficient/correct file permissions ... OK
* checking whether package ‘INSPEcT’ can be installed ... OK
* checking installed package size ... NOTE
installed size is 6.9Mb
sub-directories of 1Mb or more:
R 1.5Mb
data 2.9Mb
* checking package directory ... OK
* checking ‘build’ directory ... OK
* checking DESCRIPTION meta-information ... OK
* checking top-level files ... OK
* checking for left-over files ... OK
* checking index information ... OK
* checking package subdirectories ... OK
* checking R files for non-ASCII characters ... OK
* checking R files for syntax errors ... OK
* checking whether the package can be loaded ... OK
* checking whether the package can be loaded with stated dependencies ... OK
* checking whether the package can be unloaded cleanly ... OK
* checking whether the namespace can be loaded with stated dependencies ... OK
* checking whether the namespace can be unloaded cleanly ... OK
* checking dependencies in R code ... OK
* checking S3 generic/method consistency ... OK
* checking replacement functions ... OK
* checking foreign function calls ... OK
* checking R code for possible problems ... NOTE
output_pars: no visible global function definition for ‘plot.new’
plotSingleRNADynamic: no visible global function definition for ‘lines’
Undefined global functions or variables:
lines plot.new
Consider adding
importFrom("graphics", "lines", "plot.new")
to your NAMESPACE file.
* checking Rd files ... OK
* checking Rd metadata ... OK
* checking Rd cross-references ... OK
* checking for missing documentation entries ... OK
* checking for code/documentation mismatches ... OK
* checking Rd \usage sections ... OK
* checking Rd contents ... OK
* checking for unstated dependencies in examples ... OK
* checking contents of ‘data’ directory ... OK
* checking data for non-ASCII characters ... OK
* checking data for ASCII and uncompressed saves ... OK
* checking files in ‘vignettes’ ... OK
* checking examples ... OK
Examples with CPU (user + system) or elapsed time > 5s
user system elapsed
makeSimDataset 119.388 0.356 119.750
INSPEcT_diffsteady-class 80.968 0.555 81.523
plotMA 80.707 0.304 81.014
compareSteady 70.133 0.212 70.346
modelRates 41.770 0.228 42.000
newINSPEcT 40.533 0.164 40.699
quantifyExpressionsFromBAMs 33.751 0.292 34.053
processingDelay 31.881 0.112 31.994
makeSimModel 24.583 0.068 24.652
rocThresholds 24.315 0.072 24.390
rocCurve 23.715 0.068 23.784
quantifyExpressionsFromTrCounts 20.955 0.056 21.013
inspectFromPCR 10.046 0.056 10.106
compareSteadyNoNascent 7.830 0.028 7.859
makeOscillatorySimModel 6.522 0.032 6.559
* checking for unstated dependencies in vignettes ... OK
* checking package vignettes in ‘inst/doc’ ... OK
* checking running R code from vignettes ... SKIPPED
* checking re-building of vignette outputs ... SKIPPED
* checking PDF version of manual ... OK
* DONE
Status: 2 NOTEs
See
‘/home/biocbuild/bbs-3.13-bioc/meat/INSPEcT.Rcheck/00check.log’
for details.
INSPEcT.Rcheck/00install.out
############################################################################## ############################################################################## ### ### Running command: ### ### /home/biocbuild/bbs-3.13-bioc/R/bin/R CMD INSTALL INSPEcT ### ############################################################################## ############################################################################## * installing to library ‘/home/biocbuild/bbs-3.13-bioc/R/library’ * installing *source* package ‘INSPEcT’ ... ** using staged installation ** R ** data ** inst ** byte-compile and prepare package for lazy loading ** help *** installing help indices ** building package indices ** installing vignettes ** testing if installed package can be loaded from temporary location ** testing if installed package can be loaded from final location ** testing if installed package keeps a record of temporary installation path * DONE (INSPEcT)
INSPEcT.Rcheck/INSPEcT-Ex.timings
| name | user | system | elapsed | |
| AIC-INSPEcT-method | 0.179 | 0.011 | 0.194 | |
| Extract | 0.449 | 0.005 | 0.454 | |
| INSPEcT_diffsteady-class | 80.968 | 0.555 | 81.523 | |
| calculateRatePvals | 0.220 | 0.008 | 0.228 | |
| chisqmodel | 0.179 | 0.000 | 0.180 | |
| chisqtest | 0.173 | 0.004 | 0.176 | |
| combine | 0.324 | 0.004 | 0.327 | |
| compareSteady | 70.133 | 0.212 | 70.346 | |
| compareSteadyNoNascent | 7.830 | 0.028 | 7.859 | |
| convergence | 0.164 | 0.016 | 0.180 | |
| geneClass | 0.201 | 0.012 | 0.213 | |
| inHeatmap | 0.197 | 0.012 | 0.209 | |
| inspectFromPCR | 10.046 | 0.056 | 10.106 | |
| labeledSF | 0.170 | 0.008 | 0.178 | |
| logLik | 0.175 | 0.004 | 0.179 | |
| makeModelRates | 0.211 | 0.004 | 0.216 | |
| makeOscillatorySimModel | 6.522 | 0.032 | 6.559 | |
| makeSimDataset | 119.388 | 0.356 | 119.750 | |
| makeSimModel | 24.583 | 0.068 | 24.652 | |
| modelRates | 41.770 | 0.228 | 42.000 | |
| modelRatesNF | 3.928 | 0.080 | 4.008 | |
| modelSelection | 0.176 | 0.004 | 0.180 | |
| modelingParams | 0.168 | 0.008 | 0.176 | |
| nGenes | 0.167 | 0.006 | 0.174 | |
| nTpts | 0.214 | 0.004 | 0.218 | |
| newINSPEcT | 40.533 | 0.164 | 40.699 | |
| plotGene | 0.216 | 0.004 | 0.220 | |
| plotMA | 80.707 | 0.304 | 81.014 | |
| processingDelay | 31.881 | 0.112 | 31.994 | |
| quantifyExpressionsFromBAMs | 33.751 | 0.292 | 34.053 | |
| quantifyExpressionsFromTrCounts | 20.955 | 0.056 | 21.013 | |
| ratePvals | 0.171 | 0.000 | 0.172 | |
| ratesFirstGuess | 0.175 | 0.000 | 0.174 | |
| ratesFirstGuessVar | 0.168 | 0.007 | 0.175 | |
| removeModel | 0.266 | 0.000 | 0.267 | |
| rocCurve | 23.715 | 0.068 | 23.784 | |
| rocThresholds | 24.315 | 0.072 | 24.390 | |
| split | 0.259 | 0.000 | 0.259 | |
| tpts | 0.170 | 0.003 | 0.173 | |
| viewConfidenceIntervals | 0.176 | 0.000 | 0.177 | |
| viewModelRates | 0.170 | 0.004 | 0.174 | |