| Back to Multiple platform build/check report for BioC 3.13 |
|
This page was generated on 2021-10-15 15:06:38 -0400 (Fri, 15 Oct 2021).
|
To the developers/maintainers of the HilbertCurve package: - Please allow up to 24 hours (and sometimes 48 hours) for your latest push to git@git.bioconductor.org:packages/HilbertCurve.git to reflect on this report. See How and When does the builder pull? When will my changes propagate? here for more information. - Make sure to use the following settings in order to reproduce any error or warning you see on this page. |
| Package 861/2041 | Hostname | OS / Arch | INSTALL | BUILD | CHECK | BUILD BIN | ||||||||
| HilbertCurve 1.22.0 (landing page) Zuguang Gu
| nebbiolo1 | Linux (Ubuntu 20.04.2 LTS) / x86_64 | OK | OK | OK | |||||||||
| tokay2 | Windows Server 2012 R2 Standard / x64 | OK | OK | OK | OK | |||||||||
| machv2 | macOS 10.14.6 Mojave / x86_64 | OK | OK | OK | OK | |||||||||
| Package: HilbertCurve |
| Version: 1.22.0 |
| Command: /Library/Frameworks/R.framework/Versions/Current/Resources/bin/R CMD check --install=check:HilbertCurve.install-out.txt --library=/Library/Frameworks/R.framework/Versions/Current/Resources/library --no-vignettes --timings HilbertCurve_1.22.0.tar.gz |
| StartedAt: 2021-10-14 19:59:27 -0400 (Thu, 14 Oct 2021) |
| EndedAt: 2021-10-14 20:03:03 -0400 (Thu, 14 Oct 2021) |
| EllapsedTime: 216.7 seconds |
| RetCode: 0 |
| Status: OK |
| CheckDir: HilbertCurve.Rcheck |
| Warnings: 0 |
##############################################################################
##############################################################################
###
### Running command:
###
### /Library/Frameworks/R.framework/Versions/Current/Resources/bin/R CMD check --install=check:HilbertCurve.install-out.txt --library=/Library/Frameworks/R.framework/Versions/Current/Resources/library --no-vignettes --timings HilbertCurve_1.22.0.tar.gz
###
##############################################################################
##############################################################################
* using log directory ‘/Users/biocbuild/bbs-3.13-bioc/meat/HilbertCurve.Rcheck’
* using R version 4.1.1 (2021-08-10)
* using platform: x86_64-apple-darwin17.0 (64-bit)
* using session charset: UTF-8
* using option ‘--no-vignettes’
* checking for file ‘HilbertCurve/DESCRIPTION’ ... OK
* checking extension type ... Package
* this is package ‘HilbertCurve’ version ‘1.22.0’
* checking package namespace information ... OK
* checking package dependencies ... OK
* checking if this is a source package ... OK
* checking if there is a namespace ... OK
* checking for hidden files and directories ... OK
* checking for portable file names ... OK
* checking for sufficient/correct file permissions ... OK
* checking whether package ‘HilbertCurve’ can be installed ... OK
* checking installed package size ... OK
* checking package directory ... OK
* checking ‘build’ directory ... OK
* checking DESCRIPTION meta-information ... OK
* checking top-level files ... OK
* checking for left-over files ... OK
* checking index information ... OK
* checking package subdirectories ... OK
* checking R files for non-ASCII characters ... OK
* checking R files for syntax errors ... OK
* checking whether the package can be loaded ... OK
* checking whether the package can be loaded with stated dependencies ... OK
* checking whether the package can be unloaded cleanly ... OK
* checking whether the namespace can be loaded with stated dependencies ... OK
* checking whether the namespace can be unloaded cleanly ... OK
* checking dependencies in R code ... OK
* checking S3 generic/method consistency ... OK
* checking replacement functions ... OK
* checking foreign function calls ... OK
* checking R code for possible problems ... OK
* checking Rd files ... OK
* checking Rd metadata ... OK
* checking Rd cross-references ... OK
* checking for missing documentation entries ... OK
* checking for code/documentation mismatches ... OK
* checking Rd \usage sections ... OK
* checking Rd contents ... OK
* checking for unstated dependencies in examples ... OK
* checking installed files from ‘inst/doc’ ... OK
* checking files in ‘vignettes’ ... OK
* checking examples ... OK
Examples with CPU (user + system) or elapsed time > 5s
user system elapsed
hc_layer-HilbertCurve-method 18.936 0.402 19.354
hc_layer-GenomicHilbertCurve-method 14.521 0.226 14.758
GenomicHilbertCurve 12.959 0.188 15.622
hc_map-GenomicHilbertCurve-method 5.650 0.057 5.712
hc_png-HilbertCurve-method 5.413 0.087 5.506
* checking for unstated dependencies in ‘tests’ ... OK
* checking tests ...
Running ‘test-all.R’
OK
* checking for unstated dependencies in vignettes ... OK
* checking package vignettes in ‘inst/doc’ ... OK
* checking running R code from vignettes ... SKIPPED
* checking re-building of vignette outputs ... SKIPPED
* checking PDF version of manual ... OK
* DONE
Status: OK
HilbertCurve.Rcheck/00install.out
############################################################################## ############################################################################## ### ### Running command: ### ### /Library/Frameworks/R.framework/Versions/Current/Resources/bin/R CMD INSTALL HilbertCurve ### ############################################################################## ############################################################################## * installing to library ‘/Library/Frameworks/R.framework/Versions/4.1/Resources/library’ * installing *source* package ‘HilbertCurve’ ... ** using staged installation ** R ** inst ** byte-compile and prepare package for lazy loading ** help *** installing help indices ** building package indices ** installing vignettes ‘HilbertCurve.Rmd’ ** testing if installed package can be loaded from temporary location ** testing if installed package can be loaded from final location ** testing if installed package keeps a record of temporary installation path * DONE (HilbertCurve)
HilbertCurve.Rcheck/tests/test-all.Rout
R version 4.1.1 (2021-08-10) -- "Kick Things"
Copyright (C) 2021 The R Foundation for Statistical Computing
Platform: x86_64-apple-darwin17.0 (64-bit)
R is free software and comes with ABSOLUTELY NO WARRANTY.
You are welcome to redistribute it under certain conditions.
Type 'license()' or 'licence()' for distribution details.
R is a collaborative project with many contributors.
Type 'contributors()' for more information and
'citation()' on how to cite R or R packages in publications.
Type 'demo()' for some demos, 'help()' for on-line help, or
'help.start()' for an HTML browser interface to help.
Type 'q()' to quit R.
> library(testthat)
> suppressWarnings(suppressPackageStartupMessages(library(HilbertCurve)))
>
> test_check("HilbertCurve")
[ FAIL 0 | WARN 0 | SKIP 0 | PASS 8 ]
>
> proc.time()
user system elapsed
5.439 0.322 5.749
HilbertCurve.Rcheck/HilbertCurve-Ex.timings
| name | user | system | elapsed | |
| GenomicHilbertCurve-class | 0 | 0 | 0 | |
| GenomicHilbertCurve | 12.959 | 0.188 | 15.622 | |
| HilbertCurve-class | 0.000 | 0.001 | 0.001 | |
| HilbertCurve | 0.774 | 0.030 | 0.806 | |
| default_overlay | 0.001 | 0.001 | 0.001 | |
| hc_centered_text-HilbertCurve-method | 0.238 | 0.002 | 0.241 | |
| hc_layer-GenomicHilbertCurve-method | 14.521 | 0.226 | 14.758 | |
| hc_layer-HilbertCurve-method | 18.936 | 0.402 | 19.354 | |
| hc_layer-dispatch | 0 | 0 | 0 | |
| hc_level-HilbertCurve-method | 0.037 | 0.001 | 0.039 | |
| hc_map-GenomicHilbertCurve-method | 5.650 | 0.057 | 5.712 | |
| hc_normal_points-HilbertCurve-method | 0.000 | 0.000 | 0.001 | |
| hc_offset-HilbertCurve-method | 0.014 | 0.001 | 0.015 | |
| hc_png-HilbertCurve-method | 5.413 | 0.087 | 5.506 | |
| hc_points-GenomicHilbertCurve-method | 0.573 | 0.027 | 0.601 | |
| hc_points-HilbertCurve-method | 0.840 | 0.020 | 0.862 | |
| hc_points-dispatch | 0 | 0 | 0 | |
| hc_polygon-GenomicHilbertCurve-method | 0.768 | 0.010 | 0.779 | |
| hc_polygon-HilbertCurve-method | 0.195 | 0.005 | 0.202 | |
| hc_polygon-dispatch | 0 | 0 | 0 | |
| hc_rect-GenomicHilbertCurve-method | 0.526 | 0.008 | 0.537 | |
| hc_rect-HilbertCurve-method | 0.161 | 0.006 | 0.167 | |
| hc_rect-dispatch | 0.000 | 0.000 | 0.001 | |
| hc_segmented_points-HilbertCurve-method | 0 | 0 | 0 | |
| hc_segments-GenomicHilbertCurve-method | 0.897 | 0.012 | 0.911 | |
| hc_segments-HilbertCurve-method | 0.176 | 0.006 | 0.183 | |
| hc_segments-dispatch | 0.000 | 0.000 | 0.001 | |
| hc_text-GenomicHilbertCurve-method | 0.455 | 0.011 | 0.468 | |
| hc_text-HilbertCurve-method | 0.112 | 0.005 | 0.119 | |
| hc_text-dispatch | 0 | 0 | 0 | |
| is_white | 0.000 | 0.001 | 0.000 | |
| show-HilbertCurve-method | 0.012 | 0.001 | 0.013 | |
| unzoom-HilbertCurve-method | 0.010 | 0.001 | 0.011 | |
| zoom-HilbertCurve-method | 0.011 | 0.001 | 0.012 | |