| Back to Multiple platform build/check report for BioC 3.13 |
|
This page was generated on 2021-10-15 15:05:42 -0400 (Fri, 15 Oct 2021).
|
To the developers/maintainers of the HiTC package: - Please allow up to 24 hours (and sometimes 48 hours) for your latest push to git@git.bioconductor.org:packages/HiTC.git to reflect on this report. See How and When does the builder pull? When will my changes propagate? here for more information. - Make sure to use the following settings in order to reproduce any error or warning you see on this page. |
| Package 869/2041 | Hostname | OS / Arch | INSTALL | BUILD | CHECK | BUILD BIN | ||||||||
| HiTC 1.36.0 (landing page) Nicolas Servant
| nebbiolo1 | Linux (Ubuntu 20.04.2 LTS) / x86_64 | OK | OK | OK | |||||||||
| tokay2 | Windows Server 2012 R2 Standard / x64 | OK | OK | OK | OK | |||||||||
| machv2 | macOS 10.14.6 Mojave / x86_64 | OK | OK | OK | OK | |||||||||
| Package: HiTC |
| Version: 1.36.0 |
| Command: /home/biocbuild/bbs-3.13-bioc/R/bin/R CMD check --install=check:HiTC.install-out.txt --library=/home/biocbuild/bbs-3.13-bioc/R/library --no-vignettes --timings HiTC_1.36.0.tar.gz |
| StartedAt: 2021-10-14 10:11:13 -0400 (Thu, 14 Oct 2021) |
| EndedAt: 2021-10-14 10:15:34 -0400 (Thu, 14 Oct 2021) |
| EllapsedTime: 261.8 seconds |
| RetCode: 0 |
| Status: OK |
| CheckDir: HiTC.Rcheck |
| Warnings: 0 |
##############################################################################
##############################################################################
###
### Running command:
###
### /home/biocbuild/bbs-3.13-bioc/R/bin/R CMD check --install=check:HiTC.install-out.txt --library=/home/biocbuild/bbs-3.13-bioc/R/library --no-vignettes --timings HiTC_1.36.0.tar.gz
###
##############################################################################
##############################################################################
* using log directory ‘/home/biocbuild/bbs-3.13-bioc/meat/HiTC.Rcheck’
* using R version 4.1.1 (2021-08-10)
* using platform: x86_64-pc-linux-gnu (64-bit)
* using session charset: UTF-8
* using option ‘--no-vignettes’
* checking for file ‘HiTC/DESCRIPTION’ ... OK
* checking extension type ... Package
* this is package ‘HiTC’ version ‘1.36.0’
* checking package namespace information ... OK
* checking package dependencies ... OK
* checking if this is a source package ... OK
* checking if there is a namespace ... OK
* checking for hidden files and directories ... OK
* checking for portable file names ... OK
* checking for sufficient/correct file permissions ... OK
* checking whether package ‘HiTC’ can be installed ... OK
* checking installed package size ... OK
* checking package directory ... OK
* checking ‘build’ directory ... OK
* checking DESCRIPTION meta-information ... OK
* checking top-level files ... OK
* checking for left-over files ... OK
* checking index information ... OK
* checking package subdirectories ... OK
* checking R files for non-ASCII characters ... OK
* checking R files for syntax errors ... OK
* checking whether the package can be loaded ... OK
* checking whether the package can be loaded with stated dependencies ... OK
* checking whether the package can be unloaded cleanly ... OK
* checking whether the namespace can be loaded with stated dependencies ... OK
* checking whether the namespace can be unloaded cleanly ... OK
* checking dependencies in R code ... OK
* checking S3 generic/method consistency ... OK
* checking replacement functions ... OK
* checking foreign function calls ... OK
* checking R code for possible problems ... NOTE
directionalityIndex: no visible global function definition for
‘subjectHits’
directionalityIndex: no visible global function definition for
‘queryHits’
getBlocsIndex: no visible global function definition for ‘Rle’
getExpectedCountsMean: no visible global function definition for ‘Rle’
normLGF: no visible global function definition for ‘glm.nb’
slidingWindow: no visible binding for global variable ‘consV’
splitCombinedContacts : <anonymous>: no visible global function
definition for ‘seqlevels<-’
divide,HTCexp-HTCexp: no visible global function definition for
‘queryHits’
divide,HTCexp-HTCexp: no visible global function definition for
‘subjectHits’
isBinned,HTCexp: no visible global function definition for
‘countMatches’
substract,HTCexp-HTCexp: no visible global function definition for
‘queryHits’
substract,HTCexp-HTCexp: no visible global function definition for
‘subjectHits’
Undefined global functions or variables:
Rle consV countMatches glm.nb queryHits seqlevels<- subjectHits
* checking Rd files ... OK
* checking Rd metadata ... OK
* checking Rd cross-references ... OK
* checking for missing documentation entries ... OK
* checking for code/documentation mismatches ... OK
* checking Rd \usage sections ... OK
* checking Rd contents ... OK
* checking for unstated dependencies in examples ... OK
* checking contents of ‘data’ directory ... OK
* checking data for non-ASCII characters ... OK
* checking data for ASCII and uncompressed saves ... OK
* checking files in ‘vignettes’ ... OK
* checking examples ... OK
Examples with CPU (user + system) or elapsed time > 5s
user system elapsed
directionalityIndex 43.731 1.064 44.806
CQC 5.589 0.151 5.740
mapC 4.990 0.196 5.186
* checking for unstated dependencies in vignettes ... OK
* checking package vignettes in ‘inst/doc’ ... OK
* checking running R code from vignettes ... SKIPPED
* checking re-building of vignette outputs ... SKIPPED
* checking PDF version of manual ... OK
* DONE
Status: 1 NOTE
See
‘/home/biocbuild/bbs-3.13-bioc/meat/HiTC.Rcheck/00check.log’
for details.
HiTC.Rcheck/00install.out
############################################################################## ############################################################################## ### ### Running command: ### ### /home/biocbuild/bbs-3.13-bioc/R/bin/R CMD INSTALL HiTC ### ############################################################################## ############################################################################## * installing to library ‘/home/biocbuild/bbs-3.13-bioc/R/library’ * installing *source* package ‘HiTC’ ... ** using staged installation ** R ** data ** inst ** byte-compile and prepare package for lazy loading ** help *** installing help indices ** building package indices ** installing vignettes ** testing if installed package can be loaded from temporary location ** testing if installed package can be loaded from final location ** testing if installed package keeps a record of temporary installation path * DONE (HiTC)
HiTC.Rcheck/HiTC-Ex.timings
| name | user | system | elapsed | |
| CQC | 5.589 | 0.151 | 5.740 | |
| HTCexp-class | 3.379 | 0.103 | 3.483 | |
| HTClist-class | 1.915 | 0.084 | 2.002 | |
| Nora_5C | 0.230 | 0.000 | 0.229 | |
| binningC | 1.251 | 0.015 | 1.266 | |
| directionalityIndex | 43.731 | 1.064 | 44.806 | |
| discretize | 0.000 | 0.000 | 0.001 | |
| export.my5C | 0.000 | 0.000 | 0.001 | |
| exportC | 0 | 0 | 0 | |
| extractRegion | 0.502 | 0.008 | 0.511 | |
| getAnnotatedRestrictionSites | 0.001 | 0.000 | 0.000 | |
| getExpectedCounts | 1.183 | 0.473 | 1.428 | |
| getPearsonMap | 0.641 | 0.040 | 0.682 | |
| getRestrictionFragmentsPerChromosome | 0.001 | 0.000 | 0.000 | |
| import.my5C | 0.120 | 0.032 | 0.151 | |
| importC | 0 | 0 | 0 | |
| intervalsDist | 0.479 | 0.016 | 0.495 | |
| mapC | 4.990 | 0.196 | 5.186 | |
| normICE | 0.001 | 0.000 | 0.000 | |
| normLGF | 0.001 | 0.000 | 0.000 | |
| pca.hic | 0.618 | 0.000 | 0.619 | |
| removeIntervals | 0.288 | 0.003 | 0.292 | |
| setGenomicFeatures | 0.001 | 0.000 | 0.000 | |
| setIntervalScale | 1.158 | 0.004 | 1.161 | |