| Back to Multiple platform build/check report for BioC 3.13 |
|
This page was generated on 2021-10-15 15:06:07 -0400 (Fri, 15 Oct 2021).
|
To the developers/maintainers of the Herper package: - Please allow up to 24 hours (and sometimes 48 hours) for your latest push to git@git.bioconductor.org:packages/Herper.git to reflect on this report. See How and When does the builder pull? When will my changes propagate? here for more information. - Make sure to use the following settings in order to reproduce any error or warning you see on this page. |
| Package 852/2041 | Hostname | OS / Arch | INSTALL | BUILD | CHECK | BUILD BIN | ||||||||
| Herper 1.2.0 (landing page) Thomas Carroll
| nebbiolo1 | Linux (Ubuntu 20.04.2 LTS) / x86_64 | OK | OK | OK | |||||||||
| tokay2 | Windows Server 2012 R2 Standard / x64 | OK | OK | OK | OK | |||||||||
| machv2 | macOS 10.14.6 Mojave / x86_64 | OK | TIMEOUT | skipped | skipped | |||||||||
| Package: Herper |
| Version: 1.2.0 |
| Command: rm -rf Herper.buildbin-libdir && mkdir Herper.buildbin-libdir && C:\Users\biocbuild\bbs-3.13-bioc\R\bin\R.exe CMD INSTALL --merge-multiarch --build --library=Herper.buildbin-libdir Herper_1.2.0.tar.gz |
| StartedAt: 2021-10-15 09:47:01 -0400 (Fri, 15 Oct 2021) |
| EndedAt: 2021-10-15 09:48:33 -0400 (Fri, 15 Oct 2021) |
| EllapsedTime: 92.3 seconds |
| RetCode: 0 |
| Status: OK |
| PackageFile: Herper_1.2.0.zip |
| PackageFileSize: 869.5 KiB |
##############################################################################
##############################################################################
###
### Running command:
###
### rm -rf Herper.buildbin-libdir && mkdir Herper.buildbin-libdir && C:\Users\biocbuild\bbs-3.13-bioc\R\bin\R.exe CMD INSTALL --merge-multiarch --build --library=Herper.buildbin-libdir Herper_1.2.0.tar.gz
###
##############################################################################
##############################################################################
install for i386
* installing *source* package 'Herper' ...
** using staged installation
** R
** inst
** byte-compile and prepare package for lazy loading
** help
*** installing help indices
converting help for package 'Herper'
finding HTML links ... done
ListCondaEnvironments html
ListCondaPackages html
SaveEnvironments html
UseEnvironments html
conda_create_silentJSON html
conda_install_silentJSON html
install_CondaSysReqs html
install_CondaTools html
search_conda html
** building package indices
** installing vignettes
** testing if installed package can be loaded from temporary location
** testing if installed package can be loaded from final location
** testing if installed package keeps a record of temporary installation path
install for x64
* installing *source* package 'Herper' ...
** testing if installed package can be loaded
* MD5 sums
packaged installation of 'Herper' as Herper_1.2.0.zip
* DONE (Herper)