| Back to Multiple platform build/check report for BioC 3.13 | 
  | 
This page was generated on 2021-10-15 15:06:08 -0400 (Fri, 15 Oct 2021).
| 
To the developers/maintainers of the HPAanalyze package: - Please allow up to 24 hours (and sometimes 48 hours) for your latest push to git@git.bioconductor.org:packages/HPAanalyze.git to reflect on this report. See How and When does the builder pull? When will my changes propagate? here for more information. - Make sure to use the following settings in order to reproduce any error or warning you see on this page.  | 
| Package 873/2041 | Hostname | OS / Arch | INSTALL | BUILD | CHECK | BUILD BIN | ||||||||
| HPAanalyze 1.10.0  (landing page) Anh Nhat Tran 
  | nebbiolo1 | Linux (Ubuntu 20.04.2 LTS) / x86_64 | OK | OK | OK | |||||||||
| tokay2 | Windows Server 2012 R2 Standard / x64 | OK | OK | OK | OK | |||||||||
| machv2 | macOS 10.14.6 Mojave / x86_64 | OK | OK | OK | OK | |||||||||
| Package: HPAanalyze | 
| Version: 1.10.0 | 
| Command: rm -rf HPAanalyze.buildbin-libdir && mkdir HPAanalyze.buildbin-libdir && C:\Users\biocbuild\bbs-3.13-bioc\R\bin\R.exe CMD INSTALL --merge-multiarch --build --library=HPAanalyze.buildbin-libdir HPAanalyze_1.10.0.tar.gz | 
| StartedAt: 2021-10-15 09:49:39 -0400 (Fri, 15 Oct 2021) | 
| EndedAt: 2021-10-15 09:51:11 -0400 (Fri, 15 Oct 2021) | 
| EllapsedTime: 91.7 seconds | 
| RetCode: 0 | 
| Status: OK | 
| PackageFile: HPAanalyze_1.10.0.zip | 
| PackageFileSize: 6.125 MiB | 
##############################################################################
##############################################################################
###
### Running command:
###
###   rm -rf HPAanalyze.buildbin-libdir && mkdir HPAanalyze.buildbin-libdir && C:\Users\biocbuild\bbs-3.13-bioc\R\bin\R.exe CMD INSTALL --merge-multiarch --build --library=HPAanalyze.buildbin-libdir HPAanalyze_1.10.0.tar.gz
###
##############################################################################
##############################################################################
install for i386
* installing *source* package 'HPAanalyze' ...
** using staged installation
** R
** data
*** moving datasets to lazyload DB
** inst
** byte-compile and prepare package for lazy loading
** help
*** installing help indices
  converting help for package 'HPAanalyze'
    finding HTML links ... done
    hpaDownload                             html  
    hpaExport                               html  
    hpaListParam                            html  
    hpaVis                                  html  
    hpaVisPatho                             html  
    hpaVisSubcell                           html  
    hpaVisTissue                            html  
    hpaXml                                  html  
    hpaXmlAntibody                          html  
    hpaXmlGet                               html  
    hpaXmlProtClass                         html  
    hpaXmlTissueExpr                        html  
    hpaXmlTissueExprSum                     html  
    hpa_histology_data                      html  
** building package indices
** installing vignettes
** testing if installed package can be loaded from temporary location
** testing if installed package can be loaded from final location
** testing if installed package keeps a record of temporary installation path
install for x64
* installing *source* package 'HPAanalyze' ...
** testing if installed package can be loaded
* MD5 sums
packaged installation of 'HPAanalyze' as HPAanalyze_1.10.0.zip
* DONE (HPAanalyze)