| Back to Multiple platform build/check report for BioC 3.13 |
|
This page was generated on 2021-10-15 15:06:08 -0400 (Fri, 15 Oct 2021).
|
To the developers/maintainers of the HMMcopy package: - Please allow up to 24 hours (and sometimes 48 hours) for your latest push to git@git.bioconductor.org:packages/HMMcopy.git to reflect on this report. See How and When does the builder pull? When will my changes propagate? here for more information. - Make sure to use the following settings in order to reproduce any error or warning you see on this page. |
| Package 871/2041 | Hostname | OS / Arch | INSTALL | BUILD | CHECK | BUILD BIN | ||||||||
| HMMcopy 1.34.0 (landing page) Daniel Lai
| nebbiolo1 | Linux (Ubuntu 20.04.2 LTS) / x86_64 | OK | OK | WARNINGS | |||||||||
| tokay2 | Windows Server 2012 R2 Standard / x64 | OK | OK | WARNINGS | OK | |||||||||
| machv2 | macOS 10.14.6 Mojave / x86_64 | OK | OK | WARNINGS | OK | |||||||||
| Package: HMMcopy |
| Version: 1.34.0 |
| Command: rm -rf HMMcopy.buildbin-libdir && mkdir HMMcopy.buildbin-libdir && C:\Users\biocbuild\bbs-3.13-bioc\R\bin\R.exe CMD INSTALL --merge-multiarch --build --library=HMMcopy.buildbin-libdir HMMcopy_1.34.0.tar.gz |
| StartedAt: 2021-10-15 09:49:23 -0400 (Fri, 15 Oct 2021) |
| EndedAt: 2021-10-15 09:50:55 -0400 (Fri, 15 Oct 2021) |
| EllapsedTime: 91.6 seconds |
| RetCode: 0 |
| Status: OK |
| PackageFile: HMMcopy_1.34.0.zip |
| PackageFileSize: 1.352 MiB |
##############################################################################
##############################################################################
###
### Running command:
###
### rm -rf HMMcopy.buildbin-libdir && mkdir HMMcopy.buildbin-libdir && C:\Users\biocbuild\bbs-3.13-bioc\R\bin\R.exe CMD INSTALL --merge-multiarch --build --library=HMMcopy.buildbin-libdir HMMcopy_1.34.0.tar.gz
###
##############################################################################
##############################################################################
install for i386
* installing *source* package 'HMMcopy' ...
** using staged installation
** libs
"C:/rtools40/mingw32/bin/"gcc -I"C:/Users/BIOCBU~1/BBS-3~1.13-/R/include" -DNDEBUG -I"c:/extsoft/include" -O2 -Wall -std=gnu99 -mfpmath=sse -msse2 -mstackrealign -c forward_backward.c -o forward_backward.o
forward_backward.c: In function 'forward_backward':
forward_backward.c:28:13: warning: unused variable 'tmp' [-Wunused-variable]
int K, T, tmp;
^~~
"C:/rtools40/mingw32/bin/"gcc -I"C:/Users/BIOCBU~1/BBS-3~1.13-/R/include" -DNDEBUG -I"c:/extsoft/include" -O2 -Wall -std=gnu99 -mfpmath=sse -msse2 -mstackrealign -c register.c -o register.o
"C:/rtools40/mingw32/bin/"gcc -I"C:/Users/BIOCBU~1/BBS-3~1.13-/R/include" -DNDEBUG -I"c:/extsoft/include" -O2 -Wall -std=gnu99 -mfpmath=sse -msse2 -mstackrealign -c viterbi.c -o viterbi.o
viterbi.c: In function 'viterbi':
viterbi.c:21:13: warning: unused variable 'tmp' [-Wunused-variable]
int K, T, tmp;
^~~
C:/rtools40/mingw32/bin/gcc -shared -s -static-libgcc -o HMMcopy.dll tmp.def forward_backward.o register.o viterbi.o -Lc:/extsoft/lib/i386 -Lc:/extsoft/lib -LC:/Users/BIOCBU~1/BBS-3~1.13-/R/bin/i386 -lR
installing to C:/Users/biocbuild/bbs-3.13-bioc/meat/HMMcopy.buildbin-libdir/00LOCK-HMMcopy/00new/HMMcopy/libs/i386
** R
** data
** inst
** byte-compile and prepare package for lazy loading
** help
*** installing help indices
converting help for package 'HMMcopy'
finding HTML links ... done
HMMcopy-dataset html
HMMcopy-input html
HMMcopy-internal html
HMMcopy-output html
HMMcopy-package html
HMMcopy-visualize html
HMMsegment html
correctReadcount html
wigsToRangedData html
** building package indices
** installing vignettes
** testing if installed package can be loaded from temporary location
** testing if installed package can be loaded from final location
** testing if installed package keeps a record of temporary installation path
install for x64
* installing *source* package 'HMMcopy' ...
** libs
"C:/rtools40/mingw64/bin/"gcc -I"C:/Users/BIOCBU~1/BBS-3~1.13-/R/include" -DNDEBUG -I"C:/extsoft/include" -O2 -Wall -std=gnu99 -mfpmath=sse -msse2 -mstackrealign -c forward_backward.c -o forward_backward.o
forward_backward.c: In function 'forward_backward':
forward_backward.c:28:13: warning: unused variable 'tmp' [-Wunused-variable]
int K, T, tmp;
^~~
"C:/rtools40/mingw64/bin/"gcc -I"C:/Users/BIOCBU~1/BBS-3~1.13-/R/include" -DNDEBUG -I"C:/extsoft/include" -O2 -Wall -std=gnu99 -mfpmath=sse -msse2 -mstackrealign -c register.c -o register.o
"C:/rtools40/mingw64/bin/"gcc -I"C:/Users/BIOCBU~1/BBS-3~1.13-/R/include" -DNDEBUG -I"C:/extsoft/include" -O2 -Wall -std=gnu99 -mfpmath=sse -msse2 -mstackrealign -c viterbi.c -o viterbi.o
viterbi.c: In function 'viterbi':
viterbi.c:21:13: warning: unused variable 'tmp' [-Wunused-variable]
int K, T, tmp;
^~~
C:/rtools40/mingw64/bin/gcc -shared -s -static-libgcc -o HMMcopy.dll tmp.def forward_backward.o register.o viterbi.o -LC:/extsoft/lib/x64 -LC:/extsoft/lib -LC:/Users/BIOCBU~1/BBS-3~1.13-/R/bin/x64 -lR
installing to C:/Users/biocbuild/bbs-3.13-bioc/meat/HMMcopy.buildbin-libdir/HMMcopy/libs/x64
** testing if installed package can be loaded
* MD5 sums
packaged installation of 'HMMcopy' as HMMcopy_1.34.0.zip
* DONE (HMMcopy)