| Back to Multiple platform build/check report for BioC 3.13 |
|
This page was generated on 2021-10-15 15:06:07 -0400 (Fri, 15 Oct 2021).
|
To the developers/maintainers of the GreyListChIP package: - Please allow up to 24 hours (and sometimes 48 hours) for your latest push to git@git.bioconductor.org:packages/GreyListChIP.git to reflect on this report. See How and When does the builder pull? When will my changes propagate? here for more information. - Make sure to use the following settings in order to reproduce any error or warning you see on this page. |
| Package 811/2041 | Hostname | OS / Arch | INSTALL | BUILD | CHECK | BUILD BIN | ||||||||
| GreyListChIP 1.24.0 (landing page) Gordon Brown
| nebbiolo1 | Linux (Ubuntu 20.04.2 LTS) / x86_64 | OK | OK | OK | |||||||||
| tokay2 | Windows Server 2012 R2 Standard / x64 | OK | OK | OK | OK | |||||||||
| machv2 | macOS 10.14.6 Mojave / x86_64 | OK | OK | OK | OK | |||||||||
| Package: GreyListChIP |
| Version: 1.24.0 |
| Command: C:\cygwin\bin\curl.exe -O http://155.52.207.165/BBS/3.13/bioc/src/contrib/GreyListChIP_1.24.0.tar.gz && rm -rf GreyListChIP.buildbin-libdir && mkdir GreyListChIP.buildbin-libdir && C:\Users\biocbuild\bbs-3.13-bioc\R\bin\R.exe CMD INSTALL --merge-multiarch --build --library=GreyListChIP.buildbin-libdir GreyListChIP_1.24.0.tar.gz && C:\Users\biocbuild\bbs-3.13-bioc\R\bin\R.exe CMD INSTALL GreyListChIP_1.24.0.zip && rm GreyListChIP_1.24.0.tar.gz GreyListChIP_1.24.0.zip |
| StartedAt: 2021-10-14 10:22:44 -0400 (Thu, 14 Oct 2021) |
| EndedAt: 2021-10-14 10:23:43 -0400 (Thu, 14 Oct 2021) |
| EllapsedTime: 59.8 seconds |
| RetCode: 0 |
| Status: OK |
##############################################################################
##############################################################################
###
### Running command:
###
### C:\cygwin\bin\curl.exe -O http://155.52.207.165/BBS/3.13/bioc/src/contrib/GreyListChIP_1.24.0.tar.gz && rm -rf GreyListChIP.buildbin-libdir && mkdir GreyListChIP.buildbin-libdir && C:\Users\biocbuild\bbs-3.13-bioc\R\bin\R.exe CMD INSTALL --merge-multiarch --build --library=GreyListChIP.buildbin-libdir GreyListChIP_1.24.0.tar.gz && C:\Users\biocbuild\bbs-3.13-bioc\R\bin\R.exe CMD INSTALL GreyListChIP_1.24.0.zip && rm GreyListChIP_1.24.0.tar.gz GreyListChIP_1.24.0.zip
###
##############################################################################
##############################################################################
% Total % Received % Xferd Average Speed Time Time Time Current
Dload Upload Total Spent Left Speed
0 0 0 0 0 0 0 0 --:--:-- --:--:-- --:--:-- 0
52 192k 52 101k 0 0 529k 0 --:--:-- --:--:-- --:--:-- 528k
100 192k 100 192k 0 0 838k 0 --:--:-- --:--:-- --:--:-- 838k
install for i386
* installing *source* package 'GreyListChIP' ...
** using staged installation
** R
** data
** inst
** byte-compile and prepare package for lazy loading
** help
*** installing help indices
converting help for package 'GreyListChIP'
finding HTML links ... done
GreyList-class html
finding level-2 HTML links ... done
calcThreshold-methods html
ce10.blacklist html
countReads-methods html
getKaryotype-methods html
greyList html
REDIRECT:topic Previous alias or file overwritten by alias: C:/Users/biocbuild/bbs-3.13-bioc/meat/GreyListChIP.buildbin-libdir/00LOCK-GreyListChIP/00new/GreyListChIP/help/greyList.html
greyListBS html
loadKaryotype-methods html
makeGreyList-methods html
setRegions-methods html
** building package indices
** installing vignettes
** testing if installed package can be loaded from temporary location
** testing if installed package can be loaded from final location
** testing if installed package keeps a record of temporary installation path
install for x64
* installing *source* package 'GreyListChIP' ...
** testing if installed package can be loaded
* MD5 sums
packaged installation of 'GreyListChIP' as GreyListChIP_1.24.0.zip
* DONE (GreyListChIP)
* installing to library 'C:/Users/biocbuild/bbs-3.13-bioc/R/library'
package 'GreyListChIP' successfully unpacked and MD5 sums checked