| Back to Multiple platform build/check report for BioC 3.13 |
|
This page was generated on 2021-10-15 15:06:37 -0400 (Fri, 15 Oct 2021).
|
To the developers/maintainers of the Glimma package: - Please allow up to 24 hours (and sometimes 48 hours) for your latest push to git@git.bioconductor.org:packages/Glimma.git to reflect on this report. See How and When does the builder pull? When will my changes propagate? here for more information. - Make sure to use the following settings in order to reproduce any error or warning you see on this page. |
| Package 774/2041 | Hostname | OS / Arch | INSTALL | BUILD | CHECK | BUILD BIN | ||||||||
| Glimma 2.2.0 (landing page) Shian Su
| nebbiolo1 | Linux (Ubuntu 20.04.2 LTS) / x86_64 | OK | OK | OK | |||||||||
| tokay2 | Windows Server 2012 R2 Standard / x64 | OK | OK | OK | OK | |||||||||
| machv2 | macOS 10.14.6 Mojave / x86_64 | OK | OK | OK | OK | |||||||||
| Package: Glimma |
| Version: 2.2.0 |
| Command: /Library/Frameworks/R.framework/Versions/Current/Resources/bin/R CMD check --install=check:Glimma.install-out.txt --library=/Library/Frameworks/R.framework/Versions/Current/Resources/library --no-vignettes --timings Glimma_2.2.0.tar.gz |
| StartedAt: 2021-10-14 19:36:57 -0400 (Thu, 14 Oct 2021) |
| EndedAt: 2021-10-14 19:45:25 -0400 (Thu, 14 Oct 2021) |
| EllapsedTime: 508.5 seconds |
| RetCode: 0 |
| Status: OK |
| CheckDir: Glimma.Rcheck |
| Warnings: 0 |
##############################################################################
##############################################################################
###
### Running command:
###
### /Library/Frameworks/R.framework/Versions/Current/Resources/bin/R CMD check --install=check:Glimma.install-out.txt --library=/Library/Frameworks/R.framework/Versions/Current/Resources/library --no-vignettes --timings Glimma_2.2.0.tar.gz
###
##############################################################################
##############################################################################
* using log directory ‘/Users/biocbuild/bbs-3.13-bioc/meat/Glimma.Rcheck’
* using R version 4.1.1 (2021-08-10)
* using platform: x86_64-apple-darwin17.0 (64-bit)
* using session charset: UTF-8
* using option ‘--no-vignettes’
* checking for file ‘Glimma/DESCRIPTION’ ... OK
* checking extension type ... Package
* this is package ‘Glimma’ version ‘2.2.0’
* package encoding: UTF-8
* checking package namespace information ... OK
* checking package dependencies ... OK
* checking if this is a source package ... OK
* checking if there is a namespace ... OK
* checking for hidden files and directories ... NOTE
Found the following hidden files and directories:
.git_fetch_output.txt
.git_merge_output.txt
.travis.yml
These were most likely included in error. See section ‘Package
structure’ in the ‘Writing R Extensions’ manual.
* checking for portable file names ... OK
* checking for sufficient/correct file permissions ... OK
* checking whether package ‘Glimma’ can be installed ... OK
* checking installed package size ... NOTE
installed size is 8.9Mb
sub-directories of 1Mb or more:
data 1.9Mb
htmlwidgets 5.2Mb
* checking package directory ... OK
* checking ‘build’ directory ... OK
* checking DESCRIPTION meta-information ... OK
* checking top-level files ... NOTE
File
LICENSE
is not mentioned in the DESCRIPTION file.
* checking for left-over files ... OK
* checking index information ... OK
* checking package subdirectories ... OK
* checking R files for non-ASCII characters ... OK
* checking R files for syntax errors ... OK
* checking whether the package can be loaded ... OK
* checking whether the package can be loaded with stated dependencies ... OK
* checking whether the package can be unloaded cleanly ... OK
* checking whether the namespace can be loaded with stated dependencies ... OK
* checking whether the namespace can be unloaded cleanly ... OK
* checking dependencies in R code ... OK
* checking S3 generic/method consistency ... OK
* checking replacement functions ... OK
* checking foreign function calls ... OK
* checking R code for possible problems ... OK
* checking Rd files ... OK
* checking Rd metadata ... OK
* checking Rd cross-references ... OK
* checking for missing documentation entries ... OK
* checking for code/documentation mismatches ... OK
* checking Rd \usage sections ... OK
* checking Rd contents ... OK
* checking for unstated dependencies in examples ... OK
* checking contents of ‘data’ directory ... OK
* checking data for non-ASCII characters ... OK
* checking LazyData ... OK
* checking data for ASCII and uncompressed saves ... OK
* checking files in ‘vignettes’ ... OK
* checking examples ... OK
Examples with CPU (user + system) or elapsed time > 5s
user system elapsed
glimmaMA.DESeqDataSet 19.023 0.357 19.428
glimmaVolcano.DESeqDataSet 18.581 0.195 18.791
glMDPlot 9.718 0.141 9.867
glimmaMA.DGEExact 8.486 0.263 8.763
glimmaVolcano.DGEExact 7.353 0.253 7.611
* checking for unstated dependencies in ‘tests’ ... OK
* checking tests ...
Running ‘testthat.R’
OK
* checking for unstated dependencies in vignettes ... OK
* checking package vignettes in ‘inst/doc’ ... OK
* checking running R code from vignettes ... SKIPPED
* checking re-building of vignette outputs ... SKIPPED
* checking PDF version of manual ... OK
* DONE
Status: 3 NOTEs
See
‘/Users/biocbuild/bbs-3.13-bioc/meat/Glimma.Rcheck/00check.log’
for details.
Glimma.Rcheck/00install.out
############################################################################## ############################################################################## ### ### Running command: ### ### /Library/Frameworks/R.framework/Versions/Current/Resources/bin/R CMD INSTALL Glimma ### ############################################################################## ############################################################################## * installing to library ‘/Library/Frameworks/R.framework/Versions/4.1/Resources/library’ * installing *source* package ‘Glimma’ ... ** using staged installation ** R ** data *** moving datasets to lazyload DB ** inst ** byte-compile and prepare package for lazy loading ** help *** installing help indices ** building package indices ** installing vignettes ** testing if installed package can be loaded from temporary location ** testing if installed package can be loaded from final location ** testing if installed package keeps a record of temporary installation path * DONE (Glimma)
Glimma.Rcheck/tests/testthat.Rout
R version 4.1.1 (2021-08-10) -- "Kick Things"
Copyright (C) 2021 The R Foundation for Statistical Computing
Platform: x86_64-apple-darwin17.0 (64-bit)
R is free software and comes with ABSOLUTELY NO WARRANTY.
You are welcome to redistribute it under certain conditions.
Type 'license()' or 'licence()' for distribution details.
R is a collaborative project with many contributors.
Type 'contributors()' for more information and
'citation()' on how to cite R or R packages in publications.
Type 'demo()' for some demos, 'help()' for on-line help, or
'help.start()' for an HTML browser interface to help.
Type 'q()' to quit R.
> library(testthat)
> test_check("Glimma")
Loading required package: Glimma
[ FAIL 0 | WARN 0 | SKIP 0 | PASS 191 ]
>
> proc.time()
user system elapsed
176.424 10.266 187.400
Glimma.Rcheck/Glimma-Ex.timings
| name | user | system | elapsed | |
| as.hexcol | 0.002 | 0.001 | 0.003 | |
| glMDPlot.MArrayLM | 0 | 0 | 0 | |
| glMDPlot | 9.718 | 0.141 | 9.867 | |
| glMDRmd | 0.001 | 0.000 | 0.000 | |
| glMDSPlot | 0.054 | 0.001 | 0.054 | |
| glXYPlot | 0.001 | 0.001 | 0.003 | |
| glimmaMA.DESeqDataSet | 19.023 | 0.357 | 19.428 | |
| glimmaMA.DGEExact | 8.486 | 0.263 | 8.763 | |
| glimmaMA.MArrayLM | 4.254 | 0.143 | 4.410 | |
| glimmaMA | 0.022 | 0.001 | 0.022 | |
| glimmaMDS.DESeqDataSet | 1.524 | 0.064 | 1.592 | |
| glimmaMDS.DGEList | 0.170 | 0.026 | 0.196 | |
| glimmaMDS | 1.070 | 0.103 | 1.195 | |
| glimmaMDS.default | 0.149 | 0.048 | 0.197 | |
| glimmaVolcano.DESeqDataSet | 18.581 | 0.195 | 18.791 | |
| glimmaVolcano.DGEExact | 7.353 | 0.253 | 7.611 | |
| glimmaVolcano | 4.475 | 0.140 | 4.622 | |
| glimmaXY | 3.372 | 0.099 | 3.476 | |