| Back to Multiple platform build/check report for BioC 3.13 |
|
This page was generated on 2021-10-15 15:06:37 -0400 (Fri, 15 Oct 2021).
|
To the developers/maintainers of the GladiaTOX package: - Please allow up to 24 hours (and sometimes 48 hours) for your latest push to git@git.bioconductor.org:packages/GladiaTOX.git to reflect on this report. See How and When does the builder pull? When will my changes propagate? here for more information. - Make sure to use the following settings in order to reproduce any error or warning you see on this page. |
| Package 773/2041 | Hostname | OS / Arch | INSTALL | BUILD | CHECK | BUILD BIN | ||||||||
| GladiaTOX 1.8.0 (landing page) PMP S.A. R Support
| nebbiolo1 | Linux (Ubuntu 20.04.2 LTS) / x86_64 | OK | OK | OK | |||||||||
| tokay2 | Windows Server 2012 R2 Standard / x64 | OK | OK | OK | OK | |||||||||
| machv2 | macOS 10.14.6 Mojave / x86_64 | OK | OK | OK | OK | |||||||||
| Package: GladiaTOX |
| Version: 1.8.0 |
| Command: /Library/Frameworks/R.framework/Versions/Current/Resources/bin/R CMD check --install=check:GladiaTOX.install-out.txt --library=/Library/Frameworks/R.framework/Versions/Current/Resources/library --no-vignettes --timings GladiaTOX_1.8.0.tar.gz |
| StartedAt: 2021-10-14 19:36:46 -0400 (Thu, 14 Oct 2021) |
| EndedAt: 2021-10-14 19:39:20 -0400 (Thu, 14 Oct 2021) |
| EllapsedTime: 153.7 seconds |
| RetCode: 0 |
| Status: OK |
| CheckDir: GladiaTOX.Rcheck |
| Warnings: 0 |
##############################################################################
##############################################################################
###
### Running command:
###
### /Library/Frameworks/R.framework/Versions/Current/Resources/bin/R CMD check --install=check:GladiaTOX.install-out.txt --library=/Library/Frameworks/R.framework/Versions/Current/Resources/library --no-vignettes --timings GladiaTOX_1.8.0.tar.gz
###
##############################################################################
##############################################################################
* using log directory ‘/Users/biocbuild/bbs-3.13-bioc/meat/GladiaTOX.Rcheck’
* using R version 4.1.1 (2021-08-10)
* using platform: x86_64-apple-darwin17.0 (64-bit)
* using session charset: UTF-8
* using option ‘--no-vignettes’
* checking for file ‘GladiaTOX/DESCRIPTION’ ... OK
* checking extension type ... Package
* this is package ‘GladiaTOX’ version ‘1.8.0’
* checking package namespace information ... OK
* checking package dependencies ... OK
* checking if this is a source package ... OK
* checking if there is a namespace ... OK
* checking for hidden files and directories ... NOTE
Found the following hidden files and directories:
.git_fetch_output.txt
.git_merge_output.txt
These were most likely included in error. See section ‘Package
structure’ in the ‘Writing R Extensions’ manual.
* checking for portable file names ... OK
* checking for sufficient/correct file permissions ... OK
* checking whether package ‘GladiaTOX’ can be installed ... OK
* checking installed package size ... NOTE
installed size is 5.3Mb
sub-directories of 1Mb or more:
sql 3.8Mb
* checking package directory ... OK
* checking ‘build’ directory ... OK
* checking DESCRIPTION meta-information ... OK
* checking top-level files ... OK
* checking for left-over files ... OK
* checking index information ... OK
* checking package subdirectories ... OK
* checking R files for non-ASCII characters ... OK
* checking R files for syntax errors ... OK
* checking whether the package can be loaded ... OK
* checking whether the package can be loaded with stated dependencies ... OK
* checking whether the package can be unloaded cleanly ... OK
* checking whether the namespace can be loaded with stated dependencies ... OK
* checking whether the namespace can be unloaded cleanly ... OK
* checking dependencies in R code ... OK
* checking S3 generic/method consistency ... OK
* checking replacement functions ... OK
* checking foreign function calls ... OK
* checking R code for possible problems ... OK
* checking Rd files ... OK
* checking Rd metadata ... OK
* checking Rd cross-references ... OK
* checking for missing documentation entries ... OK
* checking for code/documentation mismatches ... OK
* checking Rd \usage sections ... OK
* checking Rd contents ... OK
* checking for unstated dependencies in examples ... OK
* checking files in ‘vignettes’ ... OK
* checking examples ... OK
Examples with CPU (user + system) or elapsed time > 5s
user system elapsed
gtoxRun 34.900 15.130 25.853
assignDefaultMthds 33.367 12.178 24.439
* checking for unstated dependencies in ‘tests’ ... OK
* checking tests ...
Running ‘testthat.R’
OK
* checking for unstated dependencies in vignettes ... OK
* checking package vignettes in ‘inst/doc’ ... OK
* checking running R code from vignettes ... SKIPPED
* checking re-building of vignette outputs ... SKIPPED
* checking PDF version of manual ... OK
* DONE
Status: 2 NOTEs
See
‘/Users/biocbuild/bbs-3.13-bioc/meat/GladiaTOX.Rcheck/00check.log’
for details.
GladiaTOX.Rcheck/00install.out
############################################################################## ############################################################################## ### ### Running command: ### ### /Library/Frameworks/R.framework/Versions/Current/Resources/bin/R CMD INSTALL GladiaTOX ### ############################################################################## ############################################################################## * installing to library ‘/Library/Frameworks/R.framework/Versions/4.1/Resources/library’ * installing *source* package ‘GladiaTOX’ ... ** using staged installation ** R ** inst ** byte-compile and prepare package for lazy loading ** help *** installing help indices ** building package indices ** installing vignettes ** testing if installed package can be loaded from temporary location ** testing if installed package can be loaded from final location ** testing if installed package keeps a record of temporary installation path * DONE (GladiaTOX)
GladiaTOX.Rcheck/tests/testthat.Rout
R version 4.1.1 (2021-08-10) -- "Kick Things"
Copyright (C) 2021 The R Foundation for Statistical Computing
Platform: x86_64-apple-darwin17.0 (64-bit)
R is free software and comes with ABSOLUTELY NO WARRANTY.
You are welcome to redistribute it under certain conditions.
Type 'license()' or 'licence()' for distribution details.
R is a collaborative project with many contributors.
Type 'contributors()' for more information and
'citation()' on how to cite R or R packages in publications.
Type 'demo()' for some demos, 'help()' for on-line help, or
'help.start()' for an HTML browser interface to help.
Type 'q()' to quit R.
> library(testthat)
> library(GladiaTOX)
Loading required package: data.table
GladiaTOX (v1.8.0) loaded with the following settings:
TCPL_DB: /Library/Frameworks/R.framework/Versions/4.1/Resources/library/GladiaTOX/sql/gladiatoxdb.sqlite
TCPL_USER: NA
TCPL_HOST: NA
TCPL_DRVR: SQLite
Default settings stored in gtox config file. See ?gtoxConf for more information.
>
> options(testthat.junit.output_file="tests-out.xml")
> test_dir("testthat")
✔ | F W S OK | Context
⠏ | 0 | assignDefaultMthds
⠋ | 1 | assignDefaultMthds
✔ | 1 | assignDefaultMthds [0.8s]
⠏ | 0 | exportResultTable
⠙ | 2 | exportResultTable
✔ | 2 | exportResultTable [0.3s]
⠏ | 0 | getsplit
⠏ | 0 | getsplit
✔ | 1 | getsplit
⠏ | 0 | glComputeToxInd
⠋ | 1 | glComputeToxInd
✔ | 1 | glComputeToxInd [0.4s]
⠏ | 0 | gtoxAICProb
✔ | 1 | gtoxAICProb
⠏ | 0 | gtoxCalcVmad
⠏ | 0 | Calculate Vmad
✔ | 1 | Calculate Vmad
⠏ | 0 | gtoxLoadAcid
⠏ | 0 | Check assay component table
⠙ | 2 | Check assay component table
✔ | 2 | Check assay component table [0.1s]
⠏ | 0 | gtoxLoadAeid
⠏ | 0 | Check assay endpoint table
⠙ | 2 | Check assay endpoint table
✔ | 2 | Check assay endpoint table [0.1s]
⠏ | 0 | gtoxLoadAid
✔ | 1 | gtoxLoadAid
⠏ | 0 | gtoxLoadApid
⠏ | 0 | Check assay plate table
✔ | 2 | Check assay plate table
⠏ | 0 | gtoxLoadAsid
✔ | 3 | gtoxLoadAsid
⠏ | 0 | gtoxLoadChem
⠏ | 0 | Check assay chemical table
✔ | 3 | Check assay chemical table
⠏ | 0 | gtoxLoadWaid
⠏ | 0 | Check assay well table
✔ | 2 | Check assay well table
⠏ | 0 | is.odd
✔ | 2 | is.odd
⠏ | 0 | lu
✔ | 1 | lu
⠏ | 0 | lw
✔ | 1 | lw
⠏ | 0 | mc2
✔ | 1 | mc2
⠏ | 0 | mc3
✔ | 1 | mc3
⠏ | 0 | mc5
✔ | 1 | mc5
⠏ | 0 | mc6
✔ | 1 | mc6
⠏ | 0 | sc1
✔ | 1 | sc1
⠏ | 0 | sc2
✔ | 1 | sc2
══ Results ═════════════════════════════════════════════════════════════════════
Duration: 2.3 s
[ FAIL 0 | WARN 0 | SKIP 0 | PASS 32 ]
Nice code.
> test_check("GladiaTOX")
[ FAIL 0 | WARN 0 | SKIP 0 | PASS 32 ]
>
> proc.time()
user system elapsed
7.249 0.459 7.705
GladiaTOX.Rcheck/GladiaTOX-Ex.timings
| name | user | system | elapsed | |
| Models | 0.195 | 0.023 | 0.232 | |
| assay_funcs | 0.516 | 0.063 | 0.580 | |
| assignDefaultMthds | 33.367 | 12.178 | 24.439 | |
| buildAssayTab | 0.065 | 0.008 | 0.073 | |
| config_funcs | 0.009 | 0.003 | 0.012 | |
| deleteStudy | 0 | 0 | 0 | |
| exportResultForToxpiGUI | 0.503 | 0.054 | 0.557 | |
| exportResultTable | 0.175 | 0.009 | 0.185 | |
| glComputeToxInd | 0.424 | 0.023 | 0.447 | |
| glPlotPie | 2.464 | 0.048 | 2.517 | |
| glPlotPieLogo | 1.306 | 0.008 | 1.317 | |
| glPlotPosCtrl | 0.966 | 0.026 | 0.994 | |
| glPlotStat | 0.970 | 0.016 | 0.988 | |
| glPlotToxInd | 0.753 | 0.022 | 0.777 | |
| gtoxAICProb | 0.001 | 0.001 | 0.002 | |
| gtoxAddModel | 0.848 | 0.016 | 0.866 | |
| gtoxCalcVmad | 0.028 | 0.002 | 0.030 | |
| gtoxCode2CASN | 0.001 | 0.001 | 0.001 | |
| gtoxFit | 0.669 | 0.007 | 0.719 | |
| gtoxImportThermoDB | 0.001 | 0.000 | 0.002 | |
| gtoxListFlds | 0.007 | 0.001 | 0.009 | |
| gtoxLoadApid | 0.011 | 0.005 | 0.017 | |
| gtoxLoadChem | 0.058 | 0.011 | 0.070 | |
| gtoxLoadClib | 0.005 | 0.001 | 0.006 | |
| gtoxLoadData | 0.077 | 0.008 | 0.084 | |
| gtoxLoadVehicle | 0.005 | 0.001 | 0.007 | |
| gtoxLoadVmad | 0.006 | 0.001 | 0.007 | |
| gtoxLoadWaid | 0.021 | 0.002 | 0.024 | |
| gtoxMakeAeidPlts | 0.589 | 0.031 | 0.622 | |
| gtoxPlotErrBar | 0.395 | 0.016 | 0.411 | |
| gtoxPlotFitc | 0.417 | 0.007 | 0.426 | |
| gtoxPlotFits | 0.165 | 0.011 | 0.177 | |
| gtoxPlotM4ID | 0.769 | 0.042 | 0.814 | |
| gtoxPlotPie | 0.203 | 0.010 | 0.214 | |
| gtoxPlotPieLgnd | 0.008 | 0.002 | 0.009 | |
| gtoxPlotPlate | 0.295 | 0.018 | 0.314 | |
| gtoxPlotWin | 0.000 | 0.000 | 0.001 | |
| gtoxPrepOtpt | 0.169 | 0.013 | 0.182 | |
| gtoxReport | 0.001 | 0.001 | 0.000 | |
| gtoxRun | 34.900 | 15.130 | 25.853 | |
| gtoxSetWllq | 0.129 | 0.029 | 0.159 | |
| gtoxSubsetChid | 0.165 | 0.024 | 0.188 | |
| gtoxWriteData | 0.000 | 0.001 | 0.001 | |
| hill_utils | 0.000 | 0.000 | 0.001 | |
| loadAnnot | 0.000 | 0.000 | 0.001 | |
| lu | 0.001 | 0.000 | 0.000 | |
| lw | 0.001 | 0.000 | 0.000 | |
| mthd_funcs | 0.016 | 0.002 | 0.019 | |
| prepareDatForDB | 0.000 | 0.000 | 0.001 | |
| query_funcs | 0.017 | 0.003 | 0.021 | |
| rgstr_funcs | 0.382 | 0.037 | 0.424 | |