| Back to Multiple platform build/check report for BioC 3.13 |
|
This page was generated on 2021-10-15 15:06:37 -0400 (Fri, 15 Oct 2021).
|
To the developers/maintainers of the GeomxTools package: - Please allow up to 24 hours (and sometimes 48 hours) for your latest push to git@git.bioconductor.org:packages/GeomxTools.git to reflect on this report. See How and When does the builder pull? When will my changes propagate? here for more information. - Make sure to use the following settings in order to reproduce any error or warning you see on this page. |
| Package 756/2041 | Hostname | OS / Arch | INSTALL | BUILD | CHECK | BUILD BIN | ||||||||
| GeomxTools 1.0.0 (landing page) Nicole Ortogero
| nebbiolo1 | Linux (Ubuntu 20.04.2 LTS) / x86_64 | OK | OK | OK | |||||||||
| tokay2 | Windows Server 2012 R2 Standard / x64 | OK | OK | OK | OK | |||||||||
| machv2 | macOS 10.14.6 Mojave / x86_64 | OK | OK | OK | OK | |||||||||
| Package: GeomxTools |
| Version: 1.0.0 |
| Command: /Library/Frameworks/R.framework/Versions/Current/Resources/bin/R CMD check --install=check:GeomxTools.install-out.txt --library=/Library/Frameworks/R.framework/Versions/Current/Resources/library --no-vignettes --timings GeomxTools_1.0.0.tar.gz |
| StartedAt: 2021-10-14 19:31:08 -0400 (Thu, 14 Oct 2021) |
| EndedAt: 2021-10-14 19:34:53 -0400 (Thu, 14 Oct 2021) |
| EllapsedTime: 225.2 seconds |
| RetCode: 0 |
| Status: OK |
| CheckDir: GeomxTools.Rcheck |
| Warnings: 0 |
##############################################################################
##############################################################################
###
### Running command:
###
### /Library/Frameworks/R.framework/Versions/Current/Resources/bin/R CMD check --install=check:GeomxTools.install-out.txt --library=/Library/Frameworks/R.framework/Versions/Current/Resources/library --no-vignettes --timings GeomxTools_1.0.0.tar.gz
###
##############################################################################
##############################################################################
* using log directory ‘/Users/biocbuild/bbs-3.13-bioc/meat/GeomxTools.Rcheck’
* using R version 4.1.1 (2021-08-10)
* using platform: x86_64-apple-darwin17.0 (64-bit)
* using session charset: UTF-8
* using option ‘--no-vignettes’
* checking for file ‘GeomxTools/DESCRIPTION’ ... OK
* this is package ‘GeomxTools’ version ‘1.0.0’
* package encoding: UTF-8
* checking package namespace information ... OK
* checking package dependencies ... OK
* checking if this is a source package ... OK
* checking if there is a namespace ... OK
* checking for hidden files and directories ... OK
* checking for portable file names ... OK
* checking for sufficient/correct file permissions ... OK
* checking whether package ‘GeomxTools’ can be installed ... OK
* checking installed package size ... NOTE
installed size is 11.1Mb
sub-directories of 1Mb or more:
extdata 10.6Mb
* checking package directory ... OK
* checking ‘build’ directory ... OK
* checking DESCRIPTION meta-information ... OK
* checking top-level files ... OK
* checking for left-over files ... OK
* checking index information ... OK
* checking package subdirectories ... OK
* checking R files for non-ASCII characters ... OK
* checking R files for syntax errors ... OK
* checking whether the package can be loaded ... OK
* checking whether the package can be loaded with stated dependencies ... OK
* checking whether the package can be unloaded cleanly ... OK
* checking whether the namespace can be loaded with stated dependencies ... OK
* checking whether the namespace can be unloaded cleanly ... OK
* checking dependencies in R code ... OK
* checking S3 generic/method consistency ... OK
* checking replacement functions ... OK
* checking foreign function calls ... OK
* checking R code for possible problems ... NOTE
setSignatureFuncs<-,NanoStringGeomxSet-character: no visible global
function definition for ‘setSigFuncs<-’
setSignatureGroups<-,NanoStringGeomxSet-character: no visible global
function definition for ‘groups<-’
setSignatureGroups<-,NanoStringGeomxSet-factor: no visible global
function definition for ‘groups<-’
signatureFuncs,NanoStringGeomxSet: no visible global function
definition for ‘getSigFuncs’
signatureGroups,NanoStringGeomxSet: no visible global function
definition for ‘groups’
Undefined global functions or variables:
getSigFuncs groups groups<- setSigFuncs<-
* checking Rd files ... OK
* checking Rd metadata ... OK
* checking Rd cross-references ... OK
* checking for missing documentation entries ... OK
* checking for code/documentation mismatches ... OK
* checking Rd \usage sections ... OK
* checking Rd contents ... OK
* checking for unstated dependencies in examples ... OK
* checking files in ‘vignettes’ ... OK
* checking examples ... OK
Examples with CPU (user + system) or elapsed time > 5s
user system elapsed
readNanoStringGeomxSet 60.007 4.101 64.365
NanoStringGeomxSet-class 21.382 1.555 23.101
readPKCFile 9.666 1.163 10.866
* checking for unstated dependencies in vignettes ... OK
* checking package vignettes in ‘inst/doc’ ... OK
* checking running R code from vignettes ... SKIPPED
* checking re-building of vignette outputs ... SKIPPED
* checking PDF version of manual ... OK
* DONE
Status: 2 NOTEs
See
‘/Users/biocbuild/bbs-3.13-bioc/meat/GeomxTools.Rcheck/00check.log’
for details.
GeomxTools.Rcheck/00install.out
############################################################################## ############################################################################## ### ### Running command: ### ### /Library/Frameworks/R.framework/Versions/Current/Resources/bin/R CMD INSTALL GeomxTools ### ############################################################################## ############################################################################## * installing to library ‘/Library/Frameworks/R.framework/Versions/4.1/Resources/library’ * installing *source* package ‘GeomxTools’ ... ** using staged installation ** R ** inst ** byte-compile and prepare package for lazy loading ** help *** installing help indices ** building package indices ** installing vignettes ** testing if installed package can be loaded from temporary location ** testing if installed package can be loaded from final location ** testing if installed package keeps a record of temporary installation path * DONE (GeomxTools)
GeomxTools.Rcheck/GeomxTools-Ex.timings
| name | user | system | elapsed | |
| NanoStringGeomxSet-class | 21.382 | 1.555 | 23.101 | |
| readDccFile | 3.169 | 0.075 | 3.296 | |
| readNanoStringGeomxSet | 60.007 | 4.101 | 64.365 | |
| readPKCFile | 9.666 | 1.163 | 10.866 | |