| Back to Multiple platform build/check report for BioC 3.13 |
|
This page was generated on 2021-10-15 15:06:06 -0400 (Fri, 15 Oct 2021).
|
To the developers/maintainers of the GenomicTuples package: - Please allow up to 24 hours (and sometimes 48 hours) for your latest push to git@git.bioconductor.org:packages/GenomicTuples.git to reflect on this report. See How and When does the builder pull? When will my changes propagate? here for more information. - Make sure to use the following settings in order to reproduce any error or warning you see on this page. |
| Package 749/2041 | Hostname | OS / Arch | INSTALL | BUILD | CHECK | BUILD BIN | ||||||||
| GenomicTuples 1.26.0 (landing page) Peter Hickey
| nebbiolo1 | Linux (Ubuntu 20.04.2 LTS) / x86_64 | OK | OK | OK | |||||||||
| tokay2 | Windows Server 2012 R2 Standard / x64 | OK | OK | OK | OK | |||||||||
| machv2 | macOS 10.14.6 Mojave / x86_64 | OK | OK | OK | OK | |||||||||
| Package: GenomicTuples |
| Version: 1.26.0 |
| Command: rm -rf GenomicTuples.buildbin-libdir && mkdir GenomicTuples.buildbin-libdir && C:\Users\biocbuild\bbs-3.13-bioc\R\bin\R.exe CMD INSTALL --merge-multiarch --build --library=GenomicTuples.buildbin-libdir GenomicTuples_1.26.0.tar.gz |
| StartedAt: 2021-10-15 09:34:03 -0400 (Fri, 15 Oct 2021) |
| EndedAt: 2021-10-15 09:35:34 -0400 (Fri, 15 Oct 2021) |
| EllapsedTime: 91.8 seconds |
| RetCode: 0 |
| Status: OK |
| PackageFile: GenomicTuples_1.26.0.zip |
| PackageFileSize: 1.59 MiB |
##############################################################################
##############################################################################
###
### Running command:
###
### rm -rf GenomicTuples.buildbin-libdir && mkdir GenomicTuples.buildbin-libdir && C:\Users\biocbuild\bbs-3.13-bioc\R\bin\R.exe CMD INSTALL --merge-multiarch --build --library=GenomicTuples.buildbin-libdir GenomicTuples_1.26.0.tar.gz
###
##############################################################################
##############################################################################
install for i386
* installing *source* package 'GenomicTuples' ...
** using staged installation
** libs
"C:/rtools40/mingw32/bin/"g++ -std=gnu++11 -I"C:/Users/BIOCBU~1/BBS-3~1.13-/R/include" -DNDEBUG -I'C:/Users/biocbuild/bbs-3.13-bioc/R/library/Rcpp/include' -I"c:/extsoft/include" -O2 -Wall -mfpmath=sse -msse2 -mstackrealign -c IPD.cpp -o IPD.o
"C:/rtools40/mingw32/bin/"g++ -std=gnu++11 -I"C:/Users/BIOCBU~1/BBS-3~1.13-/R/include" -DNDEBUG -I'C:/Users/biocbuild/bbs-3.13-bioc/R/library/Rcpp/include' -I"c:/extsoft/include" -O2 -Wall -mfpmath=sse -msse2 -mstackrealign -c RcppExports.cpp -o RcppExports.o
"C:/rtools40/mingw32/bin/"g++ -std=gnu++11 -I"C:/Users/BIOCBU~1/BBS-3~1.13-/R/include" -DNDEBUG -I'C:/Users/biocbuild/bbs-3.13-bioc/R/library/Rcpp/include' -I"c:/extsoft/include" -O2 -Wall -mfpmath=sse -msse2 -mstackrealign -c allTuplesSorted.cpp -o allTuplesSorted.o
"C:/rtools40/mingw32/bin/"g++ -std=gnu++11 -I"C:/Users/BIOCBU~1/BBS-3~1.13-/R/include" -DNDEBUG -I'C:/Users/biocbuild/bbs-3.13-bioc/R/library/Rcpp/include' -I"c:/extsoft/include" -O2 -Wall -mfpmath=sse -msse2 -mstackrealign -c pcompareGTuples.cpp -o pcompareGTuples.o
C:/rtools40/mingw32/bin/g++ -std=gnu++11 -shared -s -static-libgcc -o GenomicTuples.dll tmp.def IPD.o RcppExports.o allTuplesSorted.o pcompareGTuples.o -Lc:/extsoft/lib/i386 -Lc:/extsoft/lib -LC:/Users/BIOCBU~1/BBS-3~1.13-/R/bin/i386 -lR
installing to C:/Users/biocbuild/bbs-3.13-bioc/meat/GenomicTuples.buildbin-libdir/00LOCK-GenomicTuples/00new/GenomicTuples/libs/i386
** R
** inst
** byte-compile and prepare package for lazy loading
** help
*** installing help indices
converting help for package 'GenomicTuples'
finding HTML links ... done
GTuples-class html
finding level-2 HTML links ... done
GTuples-comparison html
GTuplesList-class html
GenomicTuples-package html
dot-GT2DT html
dot-IPDCpp html
dot-allTuplesSortedCpp html
dot-findEqual.GTuples html
dot-matrixDiffWithRecycling html
dot-pcompareGTuplesCpp html
dot-zero_range html
findOverlaps-methods html
illdefined-methods html
intra-tuple-methods html
nearest-methods html
tuples-squeezers html
REDIRECT:topic Previous alias or file overwritten by alias: C:/Users/biocbuild/bbs-3.13-bioc/meat/GenomicTuples.buildbin-libdir/00LOCK-GenomicTuples/00new/GenomicTuples/help/gtuples.html
** building package indices
** installing vignettes
** testing if installed package can be loaded from temporary location
** testing if installed package can be loaded from final location
** testing if installed package keeps a record of temporary installation path
install for x64
* installing *source* package 'GenomicTuples' ...
** libs
"C:/rtools40/mingw64/bin/"g++ -std=gnu++11 -I"C:/Users/BIOCBU~1/BBS-3~1.13-/R/include" -DNDEBUG -I'C:/Users/biocbuild/bbs-3.13-bioc/R/library/Rcpp/include' -I"C:/extsoft/include" -O2 -Wall -mfpmath=sse -msse2 -mstackrealign -c IPD.cpp -o IPD.o
"C:/rtools40/mingw64/bin/"g++ -std=gnu++11 -I"C:/Users/BIOCBU~1/BBS-3~1.13-/R/include" -DNDEBUG -I'C:/Users/biocbuild/bbs-3.13-bioc/R/library/Rcpp/include' -I"C:/extsoft/include" -O2 -Wall -mfpmath=sse -msse2 -mstackrealign -c RcppExports.cpp -o RcppExports.o
"C:/rtools40/mingw64/bin/"g++ -std=gnu++11 -I"C:/Users/BIOCBU~1/BBS-3~1.13-/R/include" -DNDEBUG -I'C:/Users/biocbuild/bbs-3.13-bioc/R/library/Rcpp/include' -I"C:/extsoft/include" -O2 -Wall -mfpmath=sse -msse2 -mstackrealign -c allTuplesSorted.cpp -o allTuplesSorted.o
"C:/rtools40/mingw64/bin/"g++ -std=gnu++11 -I"C:/Users/BIOCBU~1/BBS-3~1.13-/R/include" -DNDEBUG -I'C:/Users/biocbuild/bbs-3.13-bioc/R/library/Rcpp/include' -I"C:/extsoft/include" -O2 -Wall -mfpmath=sse -msse2 -mstackrealign -c pcompareGTuples.cpp -o pcompareGTuples.o
C:/rtools40/mingw64/bin/g++ -std=gnu++11 -shared -s -static-libgcc -o GenomicTuples.dll tmp.def IPD.o RcppExports.o allTuplesSorted.o pcompareGTuples.o -LC:/extsoft/lib/x64 -LC:/extsoft/lib -LC:/Users/BIOCBU~1/BBS-3~1.13-/R/bin/x64 -lR
installing to C:/Users/biocbuild/bbs-3.13-bioc/meat/GenomicTuples.buildbin-libdir/GenomicTuples/libs/x64
** testing if installed package can be loaded
* MD5 sums
packaged installation of 'GenomicTuples' as GenomicTuples_1.26.0.zip
* DONE (GenomicTuples)