| Back to Multiple platform build/check report for BioC 3.13 | 
  | 
This page was generated on 2021-10-15 15:06:07 -0400 (Fri, 15 Oct 2021).
| 
To the developers/maintainers of the GSEAmining package: - Please allow up to 24 hours (and sometimes 48 hours) for your latest push to git@git.bioconductor.org:packages/GSEAmining.git to reflect on this report. See How and When does the builder pull? When will my changes propagate? here for more information. - Make sure to use the following settings in order to reproduce any error or warning you see on this page.  | 
| Package 822/2041 | Hostname | OS / Arch | INSTALL | BUILD | CHECK | BUILD BIN | ||||||||
| GSEAmining 1.2.0  (landing page) Oriol Arqués 
  | nebbiolo1 | Linux (Ubuntu 20.04.2 LTS) / x86_64 | OK | OK | OK | |||||||||
| tokay2 | Windows Server 2012 R2 Standard / x64 | OK | OK | OK | OK | |||||||||
| machv2 | macOS 10.14.6 Mojave / x86_64 | OK | OK | OK | OK | |||||||||
| Package: GSEAmining | 
| Version: 1.2.0 | 
| Command: C:\cygwin\bin\curl.exe -O http://155.52.207.165/BBS/3.13/bioc/src/contrib/GSEAmining_1.2.0.tar.gz && rm -rf GSEAmining.buildbin-libdir && mkdir GSEAmining.buildbin-libdir && C:\Users\biocbuild\bbs-3.13-bioc\R\bin\R.exe CMD INSTALL --merge-multiarch --build --library=GSEAmining.buildbin-libdir GSEAmining_1.2.0.tar.gz && C:\Users\biocbuild\bbs-3.13-bioc\R\bin\R.exe CMD INSTALL GSEAmining_1.2.0.zip && rm GSEAmining_1.2.0.tar.gz GSEAmining_1.2.0.zip | 
| StartedAt: 2021-10-14 08:44:02 -0400 (Thu, 14 Oct 2021) | 
| EndedAt: 2021-10-14 08:45:00 -0400 (Thu, 14 Oct 2021) | 
| EllapsedTime: 58.0 seconds | 
| RetCode: 0 | 
| Status: OK | 
##############################################################################
##############################################################################
###
### Running command:
###
###   C:\cygwin\bin\curl.exe -O http://155.52.207.165/BBS/3.13/bioc/src/contrib/GSEAmining_1.2.0.tar.gz && rm -rf GSEAmining.buildbin-libdir && mkdir GSEAmining.buildbin-libdir && C:\Users\biocbuild\bbs-3.13-bioc\R\bin\R.exe CMD INSTALL --merge-multiarch --build --library=GSEAmining.buildbin-libdir GSEAmining_1.2.0.tar.gz && C:\Users\biocbuild\bbs-3.13-bioc\R\bin\R.exe CMD INSTALL GSEAmining_1.2.0.zip && rm GSEAmining_1.2.0.tar.gz GSEAmining_1.2.0.zip
###
##############################################################################
##############################################################################
  % Total    % Received % Xferd  Average Speed   Time    Time     Time  Current
                                 Dload  Upload   Total   Spent    Left  Speed
  0     0    0     0    0     0      0      0 --:--:-- --:--:-- --:--:--     0
 21 1445k   21  306k    0     0  1022k      0  0:00:01 --:--:--  0:00:01 1023k
100 1445k  100 1445k    0     0  1940k      0 --:--:-- --:--:-- --:--:-- 1939k
install for i386
* installing *source* package 'GSEAmining' ...
** using staged installation
** R
** data
*** moving datasets to lazyload DB
** inst
** byte-compile and prepare package for lazy loading
** help
*** installing help indices
  converting help for package 'GSEAmining'
    finding HTML links ... done
    clust_group_cores                       html  
    clust_group_terms                       html  
    clust_groups                            html  
    genesets_sel                            html  
    gm_clust                                html  
    gm_dendplot                             html  
    gm_enrichcores                          html  
    gm_enrichreport                         html  
    gm_enrichterms                          html  
    gm_filter                               html  
    stop_words                              html  
** building package indices
** installing vignettes
** testing if installed package can be loaded from temporary location
** testing if installed package can be loaded from final location
** testing if installed package keeps a record of temporary installation path
install for x64
* installing *source* package 'GSEAmining' ...
** testing if installed package can be loaded
* MD5 sums
packaged installation of 'GSEAmining' as GSEAmining_1.2.0.zip
* DONE (GSEAmining)
* installing to library 'C:/Users/biocbuild/bbs-3.13-bioc/R/library'
package 'GSEAmining' successfully unpacked and MD5 sums checked