| Back to Multiple platform build/check report for BioC 3.13 |
|
This page was generated on 2021-10-15 15:06:07 -0400 (Fri, 15 Oct 2021).
|
To the developers/maintainers of the GSEABenchmarkeR package: - Please allow up to 24 hours (and sometimes 48 hours) for your latest push to git@git.bioconductor.org:packages/GSEABenchmarkeR.git to reflect on this report. See How and When does the builder pull? When will my changes propagate? here for more information. - Make sure to use the following settings in order to reproduce any error or warning you see on this page. |
| Package 820/2041 | Hostname | OS / Arch | INSTALL | BUILD | CHECK | BUILD BIN | ||||||||
| GSEABenchmarkeR 1.12.1 (landing page) Ludwig Geistlinger
| nebbiolo1 | Linux (Ubuntu 20.04.2 LTS) / x86_64 | OK | OK | OK | |||||||||
| tokay2 | Windows Server 2012 R2 Standard / x64 | OK | OK | OK | OK | |||||||||
| machv2 | macOS 10.14.6 Mojave / x86_64 | OK | OK | OK | OK | |||||||||
| Package: GSEABenchmarkeR |
| Version: 1.12.1 |
| Command: rm -rf GSEABenchmarkeR.buildbin-libdir && mkdir GSEABenchmarkeR.buildbin-libdir && C:\Users\biocbuild\bbs-3.13-bioc\R\bin\R.exe CMD INSTALL --merge-multiarch --build --library=GSEABenchmarkeR.buildbin-libdir GSEABenchmarkeR_1.12.1.tar.gz |
| StartedAt: 2021-10-15 09:42:59 -0400 (Fri, 15 Oct 2021) |
| EndedAt: 2021-10-15 09:44:23 -0400 (Fri, 15 Oct 2021) |
| EllapsedTime: 84.0 seconds |
| RetCode: 0 |
| Status: OK |
| PackageFile: GSEABenchmarkeR_1.12.1.zip |
| PackageFileSize: 697.1 KiB |
##############################################################################
##############################################################################
###
### Running command:
###
### rm -rf GSEABenchmarkeR.buildbin-libdir && mkdir GSEABenchmarkeR.buildbin-libdir && C:\Users\biocbuild\bbs-3.13-bioc\R\bin\R.exe CMD INSTALL --merge-multiarch --build --library=GSEABenchmarkeR.buildbin-libdir GSEABenchmarkeR_1.12.1.tar.gz
###
##############################################################################
##############################################################################
install for i386
* installing *source* package 'GSEABenchmarkeR' ...
** using staged installation
** R
** inst
** byte-compile and prepare package for lazy loading
** help
*** installing help indices
converting help for package 'GSEABenchmarkeR'
finding HTML links ... done
bpPlot html
cacheResource html
finding level-2 HTML links ... done
evalNrSigSets html
evalRandomGS html
evalRelevance html
evalTypeIError html
loadEData html
maPreproc html
readDataId2diseaseCodeMap html
readResults html
runDE html
runEA html
** building package indices
** installing vignettes
** testing if installed package can be loaded from temporary location
** testing if installed package can be loaded from final location
** testing if installed package keeps a record of temporary installation path
install for x64
* installing *source* package 'GSEABenchmarkeR' ...
** testing if installed package can be loaded
* MD5 sums
packaged installation of 'GSEABenchmarkeR' as GSEABenchmarkeR_1.12.1.zip
* DONE (GSEABenchmarkeR)