| Back to Multiple platform build/check report for BioC 3.13 |
|
This page was generated on 2021-10-15 15:06:07 -0400 (Fri, 15 Oct 2021).
|
To the developers/maintainers of the GSCA package: - Please allow up to 24 hours (and sometimes 48 hours) for your latest push to git@git.bioconductor.org:packages/GSCA.git to reflect on this report. See How and When does the builder pull? When will my changes propagate? here for more information. - Make sure to use the following settings in order to reproduce any error or warning you see on this page. |
| Package 817/2041 | Hostname | OS / Arch | INSTALL | BUILD | CHECK | BUILD BIN | ||||||||
| GSCA 2.22.0 (landing page) Zhicheng Ji
| nebbiolo1 | Linux (Ubuntu 20.04.2 LTS) / x86_64 | OK | OK | OK | |||||||||
| tokay2 | Windows Server 2012 R2 Standard / x64 | OK | OK | OK | OK | |||||||||
| machv2 | macOS 10.14.6 Mojave / x86_64 | OK | OK | OK | OK | |||||||||
| Package: GSCA |
| Version: 2.22.0 |
| Command: C:\cygwin\bin\curl.exe -O http://155.52.207.165/BBS/3.13/bioc/src/contrib/GSCA_2.22.0.tar.gz && rm -rf GSCA.buildbin-libdir && mkdir GSCA.buildbin-libdir && C:\Users\biocbuild\bbs-3.13-bioc\R\bin\R.exe CMD INSTALL --merge-multiarch --build --library=GSCA.buildbin-libdir GSCA_2.22.0.tar.gz && C:\Users\biocbuild\bbs-3.13-bioc\R\bin\R.exe CMD INSTALL GSCA_2.22.0.zip && rm GSCA_2.22.0.tar.gz GSCA_2.22.0.zip |
| StartedAt: 2021-10-14 08:40:38 -0400 (Thu, 14 Oct 2021) |
| EndedAt: 2021-10-14 08:41:13 -0400 (Thu, 14 Oct 2021) |
| EllapsedTime: 35.7 seconds |
| RetCode: 0 |
| Status: OK |
##############################################################################
##############################################################################
###
### Running command:
###
### C:\cygwin\bin\curl.exe -O http://155.52.207.165/BBS/3.13/bioc/src/contrib/GSCA_2.22.0.tar.gz && rm -rf GSCA.buildbin-libdir && mkdir GSCA.buildbin-libdir && C:\Users\biocbuild\bbs-3.13-bioc\R\bin\R.exe CMD INSTALL --merge-multiarch --build --library=GSCA.buildbin-libdir GSCA_2.22.0.tar.gz && C:\Users\biocbuild\bbs-3.13-bioc\R\bin\R.exe CMD INSTALL GSCA_2.22.0.zip && rm GSCA_2.22.0.tar.gz GSCA_2.22.0.zip
###
##############################################################################
##############################################################################
% Total % Received % Xferd Average Speed Time Time Time Current
Dload Upload Total Spent Left Speed
0 0 0 0 0 0 0 0 --:--:-- --:--:-- --:--:-- 0
61 2154k 61 1318k 0 0 1312k 0 0:00:01 0:00:01 --:--:-- 1314k
100 2154k 100 2154k 0 0 1557k 0 0:00:01 0:00:01 --:--:-- 1558k
install for i386
* installing *source* package 'GSCA' ...
** using staged installation
** R
** data
** inst
** byte-compile and prepare package for lazy loading
** help
*** installing help indices
converting help for package 'GSCA'
finding HTML links ... done
ConstructTG html
GSCA-package html
GSCA html
GSCAeda html
GSCAplot html
GSCAui html
Oct4ESC_TG html
STAT1_TG html
annotatePeaks html
geneIDdata html
tabSearch html
** building package indices
** installing vignettes
** testing if installed package can be loaded from temporary location
** testing if installed package can be loaded from final location
** testing if installed package keeps a record of temporary installation path
install for x64
* installing *source* package 'GSCA' ...
** testing if installed package can be loaded
* MD5 sums
packaged installation of 'GSCA' as GSCA_2.22.0.zip
* DONE (GSCA)
* installing to library 'C:/Users/biocbuild/bbs-3.13-bioc/R/library'
package 'GSCA' successfully unpacked and MD5 sums checked