| Back to Multiple platform build/check report for BioC 3.13 |
|
This page was generated on 2021-10-15 15:06:07 -0400 (Fri, 15 Oct 2021).
|
To the developers/maintainers of the GRridge package: - Please allow up to 24 hours (and sometimes 48 hours) for your latest push to git@git.bioconductor.org:packages/GRridge.git to reflect on this report. See How and When does the builder pull? When will my changes propagate? here for more information. - Make sure to use the following settings in order to reproduce any error or warning you see on this page. |
| Package 814/2041 | Hostname | OS / Arch | INSTALL | BUILD | CHECK | BUILD BIN | ||||||||
| GRridge 1.16.0 (landing page) Mark A. van de Wiel
| nebbiolo1 | Linux (Ubuntu 20.04.2 LTS) / x86_64 | OK | OK | WARNINGS | |||||||||
| tokay2 | Windows Server 2012 R2 Standard / x64 | OK | OK | WARNINGS | OK | |||||||||
| machv2 | macOS 10.14.6 Mojave / x86_64 | OK | OK | WARNINGS | OK | |||||||||
| Package: GRridge |
| Version: 1.16.0 |
| Command: rm -rf GRridge.buildbin-libdir && mkdir GRridge.buildbin-libdir && C:\Users\biocbuild\bbs-3.13-bioc\R\bin\R.exe CMD INSTALL --merge-multiarch --build --library=GRridge.buildbin-libdir GRridge_1.16.0.tar.gz |
| StartedAt: 2021-10-15 09:42:10 -0400 (Fri, 15 Oct 2021) |
| EndedAt: 2021-10-15 09:43:25 -0400 (Fri, 15 Oct 2021) |
| EllapsedTime: 74.3 seconds |
| RetCode: 0 |
| Status: OK |
| PackageFile: GRridge_1.16.0.zip |
| PackageFileSize: 9.07 MiB |
##############################################################################
##############################################################################
###
### Running command:
###
### rm -rf GRridge.buildbin-libdir && mkdir GRridge.buildbin-libdir && C:\Users\biocbuild\bbs-3.13-bioc\R\bin\R.exe CMD INSTALL --merge-multiarch --build --library=GRridge.buildbin-libdir GRridge_1.16.0.tar.gz
###
##############################################################################
##############################################################################
install for i386
* installing *source* package 'GRridge' ...
** using staged installation
** R
** data
** inst
** byte-compile and prepare package for lazy loading
** help
*** installing help indices
converting help for package 'GRridge'
finding HTML links ... done
CreatePartition html
GRridge-package html
PartitionsSelection html
auc html
dataFarkas html
dataSimlin html
dataVerlaat html
dataWurdinger html
grridge html
REDIRECT:topic Previous alias or file overwritten by alias: C:/Users/biocbuild/bbs-3.13-bioc/meat/GRridge.buildbin-libdir/00LOCK-GRridge/00new/GRridge/help/grridge.html
grridgeCV html
hello html
matchGeneSets html
mergeGroups html
predict.grridge html
roc html
** building package indices
** installing vignettes
** testing if installed package can be loaded from temporary location
** testing if installed package can be loaded from final location
** testing if installed package keeps a record of temporary installation path
install for x64
* installing *source* package 'GRridge' ...
** testing if installed package can be loaded
* MD5 sums
packaged installation of 'GRridge' as GRridge_1.16.0.zip
* DONE (GRridge)