| Back to Multiple platform build/check report for BioC 3.13 | 
 | 
This page was generated on 2021-10-15 15:06:07 -0400 (Fri, 15 Oct 2021).
| To the developers/maintainers of the GRmetrics package: - Please allow up to 24 hours (and sometimes 48 hours) for your latest push to git@git.bioconductor.org:packages/GRmetrics.git to reflect on this report. See How and When does the builder pull? When will my changes propagate? here for more information. - Make sure to use the following settings in order to reproduce any error or warning you see on this page. | 
| Package 812/2041 | Hostname | OS / Arch | INSTALL | BUILD | CHECK | BUILD BIN | ||||||||
| GRmetrics 1.18.0  (landing page) Nicholas Clark 
 | nebbiolo1 | Linux (Ubuntu 20.04.2 LTS) / x86_64 | OK | OK | OK |  | ||||||||
| tokay2 | Windows Server 2012 R2 Standard / x64 | OK | OK | OK | OK |  | ||||||||
| machv2 | macOS 10.14.6 Mojave / x86_64 | OK | OK | OK | OK |  | ||||||||
| Package: GRmetrics | 
| Version: 1.18.0 | 
| Command: rm -rf GRmetrics.buildbin-libdir && mkdir GRmetrics.buildbin-libdir && C:\Users\biocbuild\bbs-3.13-bioc\R\bin\R.exe CMD INSTALL --merge-multiarch --build --library=GRmetrics.buildbin-libdir GRmetrics_1.18.0.tar.gz | 
| StartedAt: 2021-10-15 09:41:54 -0400 (Fri, 15 Oct 2021) | 
| EndedAt: 2021-10-15 09:43:07 -0400 (Fri, 15 Oct 2021) | 
| EllapsedTime: 73.3 seconds | 
| RetCode: 0 | 
| Status: OK | 
| PackageFile: GRmetrics_1.18.0.zip | 
| PackageFileSize: 1.658 MiB | 
##############################################################################
##############################################################################
###
### Running command:
###
###   rm -rf GRmetrics.buildbin-libdir && mkdir GRmetrics.buildbin-libdir && C:\Users\biocbuild\bbs-3.13-bioc\R\bin\R.exe CMD INSTALL --merge-multiarch --build --library=GRmetrics.buildbin-libdir GRmetrics_1.18.0.tar.gz
###
##############################################################################
##############################################################################
install for i386
* installing *source* package 'GRmetrics' ...
** using staged installation
** R
** data
*** moving datasets to lazyload DB
** inst
** byte-compile and prepare package for lazy loading
** help
*** installing help indices
  converting help for package 'GRmetrics'
    finding HTML links ... done
    GRbox                                   html  
    GRdrawDRC                               html  
    GRfit                                   html  
    finding level-2 HTML links ... done
    GRgetDefs                               html  
    GRgetGroupVars                          html  
    GRgetMetrics                            html  
    GRgetValues                             html  
    GRscatter                               html  
    inputCaseA                              html  
    inputCaseC                              html  
** building package indices
** installing vignettes
** testing if installed package can be loaded from temporary location
** testing if installed package can be loaded from final location
** testing if installed package keeps a record of temporary installation path
install for x64
* installing *source* package 'GRmetrics' ...
** testing if installed package can be loaded
* MD5 sums
packaged installation of 'GRmetrics' as GRmetrics_1.18.0.zip
* DONE (GRmetrics)